BEGIN:VCALENDAR
VERSION:2.0
PRODID:-//Arts &amp; Cultural Council of Bucks County - ECPv6.15.18//NONSGML v1.0//EN
CALSCALE:GREGORIAN
METHOD:PUBLISH
X-WR-CALNAME:Arts &amp; Cultural Council of Bucks County
X-ORIGINAL-URL:https://www.bucksarts.org
X-WR-CALDESC:Events for Arts &amp; Cultural Council of Bucks County
REFRESH-INTERVAL;VALUE=DURATION:PT1H
X-Robots-Tag:noindex
X-PUBLISHED-TTL:PT1H
BEGIN:VTIMEZONE
TZID:America/New_York
BEGIN:DAYLIGHT
TZOFFSETFROM:-0500
TZOFFSETTO:-0400
TZNAME:EDT
DTSTART:20200308T070000
END:DAYLIGHT
BEGIN:STANDARD
TZOFFSETFROM:-0400
TZOFFSETTO:-0500
TZNAME:EST
DTSTART:20201101T060000
END:STANDARD
BEGIN:DAYLIGHT
TZOFFSETFROM:-0500
TZOFFSETTO:-0400
TZNAME:EDT
DTSTART:20210314T070000
END:DAYLIGHT
BEGIN:STANDARD
TZOFFSETFROM:-0400
TZOFFSETTO:-0500
TZNAME:EST
DTSTART:20211107T060000
END:STANDARD
BEGIN:DAYLIGHT
TZOFFSETFROM:-0500
TZOFFSETTO:-0400
TZNAME:EDT
DTSTART:20220313T070000
END:DAYLIGHT
BEGIN:STANDARD
TZOFFSETFROM:-0400
TZOFFSETTO:-0500
TZNAME:EST
DTSTART:20221106T060000
END:STANDARD
BEGIN:DAYLIGHT
TZOFFSETFROM:-0500
TZOFFSETTO:-0400
TZNAME:EDT
DTSTART:20230312T070000
END:DAYLIGHT
BEGIN:STANDARD
TZOFFSETFROM:-0400
TZOFFSETTO:-0500
TZNAME:EST
DTSTART:20231105T060000
END:STANDARD
BEGIN:DAYLIGHT
TZOFFSETFROM:-0500
TZOFFSETTO:-0400
TZNAME:EDT
DTSTART:20240310T070000
END:DAYLIGHT
BEGIN:STANDARD
TZOFFSETFROM:-0400
TZOFFSETTO:-0500
TZNAME:EST
DTSTART:20241103T060000
END:STANDARD
BEGIN:DAYLIGHT
TZOFFSETFROM:-0500
TZOFFSETTO:-0400
TZNAME:EDT
DTSTART:20250309T070000
END:DAYLIGHT
BEGIN:STANDARD
TZOFFSETFROM:-0400
TZOFFSETTO:-0500
TZNAME:EST
DTSTART:20251102T060000
END:STANDARD
BEGIN:DAYLIGHT
TZOFFSETFROM:-0500
TZOFFSETTO:-0400
TZNAME:EDT
DTSTART:20260308T070000
END:DAYLIGHT
BEGIN:STANDARD
TZOFFSETFROM:-0400
TZOFFSETTO:-0500
TZNAME:EST
DTSTART:20261101T060000
END:STANDARD
END:VTIMEZONE
BEGIN:VEVENT
DTSTART;TZID=America/New_York:20250906T130000
DTEND;TZID=America/New_York:20250928T170000
DTSTAMP:20260421T013425
CREATED:20250807T003359Z
LAST-MODIFIED:20250807T003359Z
UID:71130-1757163600-1759078800@www.bucksarts.org
SUMMARY:A Celebration of The River
DESCRIPTION:Pastels & Oils by Helena van Emmerik-Finn & Sculpture by Jeanine Pennell \n 
URL:https://www.bucksarts.org/event/a-celebration-of-the-river/
LOCATION:Stover Mill Gallery\, 843 River Rd\, Erwinna\, PA\, 18920\, United States
END:VEVENT
BEGIN:VEVENT
DTSTART;TZID=America/New_York:20250802T130000
DTEND;TZID=America/New_York:20250824T170000
DTSTAMP:20260421T013425
CREATED:20250808T180830Z
LAST-MODIFIED:20250808T180830Z
UID:71133-1754139600-1756054800@www.bucksarts.org
SUMMARY:Inviting Nature's Alchemy
DESCRIPTION:  \n \nRegional Artists Exhibition  \n 
URL:https://www.bucksarts.org/event/inviting-natures-alchemy/
END:VEVENT
BEGIN:VEVENT
DTSTART;TZID=America/New_York:20250628T130000
DTEND;TZID=America/New_York:20250727T170000
DTSTAMP:20260421T013425
CREATED:20250603T130955Z
LAST-MODIFIED:20250617T222631Z
UID:70995-1751115600-1753635600@www.bucksarts.org
SUMMARY:Art in Harmony: Where Oil Meets Clay
DESCRIPTION:  \n  \nJoin us for an inspiring exhibition featuring award-winning artists Cindy Roesinger and Shawn Campbell. Roesinger’s evocative oil paintings and Campbell’s expressive sculptures come together in a thought-provoking exploration of contemporary art. Don’t miss this opportunity to experience the powerful synergy of two distinct yet harmoniously engaging artistic voices. Open Saturday’s & Sundays from 1-5pm from June 28th through July 27th. \n 
URL:https://www.bucksarts.org/event/art-in-harmony-where-oil-meets-clay/
LOCATION:Stover Mill Gallery\, 843 River Rd\, Erwinna\, PA\, 18920\, United States
ATTACH;FMTTYPE=image/jpeg:https://www.bucksarts.org/wp-content/uploads/2025/06/Roesinger-Campbell-Oil-Clay-1-e1750199172825.jpg
END:VEVENT
BEGIN:VEVENT
DTSTART;TZID=America/New_York:20210828T130000
DTEND;TZID=America/New_York:20210926T170000
DTSTAMP:20260421T013425
CREATED:20210722T111609Z
LAST-MODIFIED:20210722T113048Z
UID:63549-1630155600-1632675600@www.bucksarts.org
SUMMARY:Ilene Rubin & Kathleen McSherry in PIECES AND PLACES at Stover Mill Gallery |Aug. 28 - Sept. 26
DESCRIPTION:Stover Mill Art Gallery presents PIECES AND PLACES\nFeaturing works by A&C members Kathleen McSherry and Ilene Rubin \nTwo renowned Bucks County Artists. One a painter of places and things related to the bucolic surrounding environs. The other\, a sculptor who utilizes unique and locally found elements. Ilene Rubin and Kathleen McSherry will present Pieces and Places of Bucks County at The Stover Mill Gallery weekends beginning Saturday\, August 28. \nMs. Rubin is a self-taught artist who has lived in Elkins Park\, Thousand Oaks\, California\, Boulder\, Colorado and now calls Doylestown home. She has received numerous awards\, including the Ty Hodanish award for Oil Painting in the Artsbridge 2021 Member Show in March 2021\, and is also a published author of two novels. She is a participating artist in the 2021 Bucks County Chamber of Commerce Virtual Studio Artist Tour and was the Featured Artist in Bucks County Magazine in June 2021. She is a member of most Bucks County Art organizations and previously served as Vice President of the New Hope Art League. She is currently the Artist of Bristol Chair of the Art Show at the Lower Bucks Hospital. \nKathleen McSherry has a longstanding appreciation for the abandoned and obscure. Her approach to sculpture can be described as archaeological. Her work references multiple strata of American culture\, refusing to be tethered to a singular aesthetic. Her choice of composition and media are benefited through their familiarity\, giving the chimeric aspects of her sculpture a sense of uncanniness\, yet wonder. This observational quality in McSherry’s work is self-evident; her media is as much the refuse of modern culture as it is the thematic components of our everyday lives. \nWeekends:\nAugust 28-29\nSeptember 4-5\, 11-12\, 18-19\, 25-26 \nGallery hours: 1-5 pm\, mid-week by appointment \nSponsored by the Tinicum Civic Association\, The Stover Mill Gallery is at 852 River Road in Erwinna\, Pa.\nFor more information contact Stover Mill at 610-294-9420.\nLearn more at http://tinicumcivicassociation.org/stovermillgallery/
URL:https://www.bucksarts.org/event/stover-mill-art-gallery-presents-pieces-and-places-opening-august-28/
LOCATION:The Stover Mill Gallery\, The Stover Mill Gallery\, 852 River Rd\, Pipersville\, PA\, 18947\, United States
ATTACH;FMTTYPE=image/png:https://www.bucksarts.org/wp-content/uploads/2021/07/Screen-Shot-2021-07-22-at-7.11.22-AM.png
END:VEVENT
BEGIN:VEVENT
DTSTART;TZID=America/New_York:20210626T130000
DTEND;TZID=America/New_York:20210725T170000
DTSTAMP:20260421T013425
CREATED:20210616T112450Z
LAST-MODIFIED:20210616T113120Z
UID:63402-1624712400-1627232400@www.bucksarts.org
SUMMARY:Bill Jersey Solo Exhibition at Stover Mill Gallery | June 26-July 25
DESCRIPTION:Bill Jersey\, 94\, Artist and Award-Winning Filmmaker to Exhibit at the Stover Mill Gallery\nFeatured Image\, “Something About Time\,” detail \nOpening June 26th\, Stover Mill gallery will be showing over 30 landscapes by Artist Bill Jersey. When the award winning filmmaker moved to Lambertville 12 years ago he embraced his first love – oil painting. His first submission to the Phillips Mill curated show earned him an award and a sale to Gratz gallery. \nThe rich landscapes of Bucks and Hunterdon counties Jersey says -“Are all I need to move me to pick up brushes and paints”\, but he slips in a few earlier works from Vermont and California to round out his presentation. With the Stover Mill Gallery exhibition of his “Hopperesque style” and new impressionistic work\, Bill will also turn 94. “No reason\,” he says\, “to slow down now!” The exhibit entitled Explorations is open from 1:00 to 5:00pm on June 26-27\, July 3-4\, 10-11\, 17-18\, 24-25. \nThe Stover Mill Gallery – housed in the beautifully restored 187 year-old Stover Mill which is listed on the National Registry of Historic Places – is located along the Delaware River at 852 River Road (Route 32)\, Erwinna PA; two miles south of the Frenchtown Bridge and 15 miles north of New Hope. Owned and operated by the non-profit Tinicum Civic Association\, all proceeds are used for the support of non-profit groups serving the Tinicum and the surrounding area\, and for the maintenance of the historic Stover Mill. \nFor further information visit www.StoverMill.org or contact the artist at www.BillJersey.com
URL:https://www.bucksarts.org/event/bill-jersey-solo-exhibition-at-stover-mill-gallery-june-26-july-25/
LOCATION:The Stover Mill Gallery\, The Stover Mill Gallery\, 852 River Rd\, Pipersville\, PA\, 18947\, United States
ATTACH;FMTTYPE=image/png:https://www.bucksarts.org/wp-content/uploads/2021/06/Screen-Shot-2021-06-16-at-7.29.23-AM.png
END:VEVENT
END:VCALENDAR