BEGIN:VCALENDAR
VERSION:2.0
PRODID:-//Arts &amp; Cultural Council of Bucks County - ECPv6.15.18//NONSGML v1.0//EN
CALSCALE:GREGORIAN
METHOD:PUBLISH
X-WR-CALNAME:Arts &amp; Cultural Council of Bucks County
X-ORIGINAL-URL:https://www.bucksarts.org
X-WR-CALDESC:Events for Arts &amp; Cultural Council of Bucks County
REFRESH-INTERVAL;VALUE=DURATION:PT1H
X-Robots-Tag:noindex
X-PUBLISHED-TTL:PT1H
BEGIN:VTIMEZONE
TZID:America/New_York
BEGIN:DAYLIGHT
TZOFFSETFROM:-0500
TZOFFSETTO:-0400
TZNAME:EDT
DTSTART:20200308T070000
END:DAYLIGHT
BEGIN:STANDARD
TZOFFSETFROM:-0400
TZOFFSETTO:-0500
TZNAME:EST
DTSTART:20201101T060000
END:STANDARD
BEGIN:DAYLIGHT
TZOFFSETFROM:-0500
TZOFFSETTO:-0400
TZNAME:EDT
DTSTART:20210314T070000
END:DAYLIGHT
BEGIN:STANDARD
TZOFFSETFROM:-0400
TZOFFSETTO:-0500
TZNAME:EST
DTSTART:20211107T060000
END:STANDARD
BEGIN:DAYLIGHT
TZOFFSETFROM:-0500
TZOFFSETTO:-0400
TZNAME:EDT
DTSTART:20220313T070000
END:DAYLIGHT
BEGIN:STANDARD
TZOFFSETFROM:-0400
TZOFFSETTO:-0500
TZNAME:EST
DTSTART:20221106T060000
END:STANDARD
END:VTIMEZONE
BEGIN:VEVENT
DTSTART;TZID=America/New_York:20210412T183000
DTEND;TZID=America/New_York:20210412T193000
DTSTAMP:20260421T100330
CREATED:20210328T133146Z
LAST-MODIFIED:20210328T133146Z
UID:61649-1618252200-1618255800@www.bucksarts.org
SUMMARY:Monday Poets: Hayden Saunier and Alfred Encarnacion | April 12\, 6:30-7:30 pm
DESCRIPTION:Join us for an evening of poetry with one of the longest running programs of the Free Library of Philadelphia- Monday Poets! This series began 26 years ago by two librarians Michele Gendron and Michele Beluomini. They started a long tradition of creating an opportunity for published poets to share their works with the library community. Please join us in honor of National Poetry Month for the second Monday Poets of 2021. The event is free but you must register at http://mondaypoets.evenbrite.com \nHayden Saunier is the author of four books of poetry and one chapbook; her newest book\, A Cartography of Home\, was published in February. Her work has been awarded the Pablo Neruda Prize\, Rattle Poetry Prize\, Gell Poetry Award\, Keystone Prize\, has been published a variety of journals including VQR\, Beloit Poetry Review\, Thrush\, 32 Poems and Tar River Poetry\, online at Poetry Daily and read numerous times by Garrison Keillor for The Writer’s Almanac. She is an actor and is the founder and director of No River Twice (poetry + improvisation) an interactive\, audience driven poetry reading/performance. \nAlfred Encarnacion has taught writing at Temple University and published poetry\, short stories\, essays\, and literary reviews in journals such as Crab Orchard Review\, Florida Review\, Indiana Review\, North American Review\, Paterson Literary Review\, The Schuylkill Valley Journal\, and The Virtual Artists Collective (online review). He has won a Wilson Foundation Scholarship Award\, a Poets House Scholarship in NYC\, and his poems have been nominated for five Pushcart Prizes. His debut book of poetry\, The Outskirts of Karma\, appeared in 2012\, Ambassadors of the Silenced\, his second collection\, was published in 2016\, and a third collection Precincts of the Passion Dragon is a work in progress. His chapbook Library Suite was a Moonstone Press Finalist and was published in 2019. Alfred is currently the director of the Stratford Public Library in South Jersey.
URL:https://www.bucksarts.org/event/monday-poets-hayden-saunier-and-alfred-encarnacion-april-12-630-730-pm/
LOCATION:Zoom via EventBrite
CATEGORIES:Members Event
ATTACH;FMTTYPE=image/png:https://www.bucksarts.org/wp-content/uploads/2021/03/105301.jpg.png
ORGANIZER;CN="Free  Library of Philadelphia":MAILTO:ereflit@freelibrary.org
END:VEVENT
END:VCALENDAR