BEGIN:VCALENDAR
VERSION:2.0
PRODID:-//Arts &amp; Cultural Council of Bucks County - ECPv6.15.18//NONSGML v1.0//EN
CALSCALE:GREGORIAN
METHOD:PUBLISH
X-ORIGINAL-URL:https://www.bucksarts.org
X-WR-CALDESC:Events for Arts &amp; Cultural Council of Bucks County
REFRESH-INTERVAL;VALUE=DURATION:PT1H
X-Robots-Tag:noindex
X-PUBLISHED-TTL:PT1H
BEGIN:VTIMEZONE
TZID:America/New_York
BEGIN:DAYLIGHT
TZOFFSETFROM:-0500
TZOFFSETTO:-0400
TZNAME:EDT
DTSTART:20230312T070000
END:DAYLIGHT
BEGIN:STANDARD
TZOFFSETFROM:-0400
TZOFFSETTO:-0500
TZNAME:EST
DTSTART:20231105T060000
END:STANDARD
BEGIN:DAYLIGHT
TZOFFSETFROM:-0500
TZOFFSETTO:-0400
TZNAME:EDT
DTSTART:20240310T070000
END:DAYLIGHT
BEGIN:STANDARD
TZOFFSETFROM:-0400
TZOFFSETTO:-0500
TZNAME:EST
DTSTART:20241103T060000
END:STANDARD
BEGIN:DAYLIGHT
TZOFFSETFROM:-0500
TZOFFSETTO:-0400
TZNAME:EDT
DTSTART:20250309T070000
END:DAYLIGHT
BEGIN:STANDARD
TZOFFSETFROM:-0400
TZOFFSETTO:-0500
TZNAME:EST
DTSTART:20251102T060000
END:STANDARD
BEGIN:DAYLIGHT
TZOFFSETFROM:-0500
TZOFFSETTO:-0400
TZNAME:EDT
DTSTART:20260308T070000
END:DAYLIGHT
BEGIN:STANDARD
TZOFFSETFROM:-0400
TZOFFSETTO:-0500
TZNAME:EST
DTSTART:20261101T060000
END:STANDARD
END:VTIMEZONE
BEGIN:VEVENT
DTSTART;VALUE=DATE:20241218
DTEND;VALUE=DATE:20250209
DTSTAMP:20260424T171538
CREATED:20241212T185515Z
LAST-MODIFIED:20241212T185515Z
UID:70125-1734480000-1739059199@www.bucksarts.org
SUMMARY:Winter Impressions Group Exhibition - Bucks County Community College
DESCRIPTION:Winter Impressions Group Exhibition Featuring Artwork from 20+ Local Artists to Open at \nBucks County Community College \n\n\n\n\nThe School of Arts and Communication of Bucks County Community College is pleased to announce that the upcoming group exhibition Winter Impressions will be held atthe Hicks Art Center Atrium Galleries from December 18\, 2024\, through February 8\, 2025. \nWinter elicits a plethora of emotions leading up to the end of the calendar year and into the new year during which a wide range of cultural\, religious\, and family celebrations are held. Especially where weather plays a significant role in the way people spend their time inside and outside\, people react differently to winter’s varying temperatures\, often in the extreme\, by embracing winter sport\, decorating their homes\, creating art\, or hibernating indoors. Holiday preparations ramp up with artists and craftspeople hosting open studios and pop-up shows for the public to find that unique gift you won’t find in big box retailers. For the exhibition Winter Impressions\, more than 20 local artists have responded to an open call for which they were asked to provide artworks that evoke a sense of winter in any media. The exhibition will be on view outside the main gallery of Hicks Art Center in the Atrium Galleries that surround the enclosed outdoor courtyard. \nWinter and the holiday season can be especially difficult for people facing hardship. For this reason\, visitors to the exhibition are encouraged to bring new\, unused clothing which will be donated to the Bucks County Emergency Homeless Shelter\, and non-perishable food items which will be given to the College’s food pantry\, Bucks Market\, a free service for Bucks County Community College students. \nAll are invited to attend the opening reception on December 19 from 4–7 p.m.\, and the closing reception on January 25 from 12–3 p.m.\, both at the Hicks Art Center. During the opening reception\, the public is invited to participate in a tree trimming in the courtyard and to enjoy holiday refreshments. Artisans featured in the Bucks County Guild of Craftsmen Exhibition and Sale in the main gallery will have additional fine crafts available for purchase for holiday gift giving. \n\nArtwork pictured by Janet Schuler
URL:https://www.bucksarts.org/event/winter-impressions-group-exhibition-bucks-county-community-college/
LOCATION:Hicks Art Center Gallery\, 275 Swamp Rd`\, Newtown\, PA\, 18940\, United States
ATTACH;FMTTYPE=image/jpeg:https://www.bucksarts.org/wp-content/uploads/2024/12/thumbnail_janetschuler_sleddogmushers_colorpencilonfilm.jpg
END:VEVENT
BEGIN:VEVENT
DTSTART;VALUE=DATE:20250111
DTEND;VALUE=DATE:20250203
DTSTAMP:20260424T171538
CREATED:20250102T183232Z
LAST-MODIFIED:20250112T205953Z
UID:70172-1736553600-1738540799@www.bucksarts.org
SUMMARY:Gallery 14 - Annual Juried Photography Exhibition
DESCRIPTION:A&C Member/Director Louise Levy’s photograph “Pensive” was juried into the show and awarded an Honorable Mention! \nGallery 14 – Annual Juried Photography Exhibition \nJanuary 11 – February 2\, 2025** \n11:00 am – 4:00 pm \n**Weekends Only** or by appointment: galleryfourteen@yahoo.com \nMeet the Artists January 11 from 1:00 – 3:00 pm \nFounded in 2001\, Gallery 14 is a cooperative fine art photography gallery dedicated to exploring and promoting photography as an art form. \nThey are committed to providing an environment that offers entertainment\, education\, and collaboration for its members and community. \nTheir award-winning photographers focus on a variety of photography types including documentary\, street\, landscape\, abstract\, macro\, portraiture\, and wildlife. \nGallery 14 presents monthly exhibits by members and guests each year and participates in community events including Tour Des Arts and Holiday Passport. \nIts members’ photographs are often requested for community exhibitions. \nAll photographs in Gallery 14 are available for purchase. \nFor inquiries about the purchase or lease of photographs for commercial space or to request Gallery 14 participation in an exhibition\, email galleryfourteen@yahoo.com.
URL:https://www.bucksarts.org/event/gallery-14-annual-juried-photography-exhibition/
LOCATION:Gallery 14\, 14 Mercer St\, Hopewell\, NJ\, 08525\, United States
ATTACH;FMTTYPE=image/jpeg:https://www.bucksarts.org/wp-content/uploads/2025/01/Pensive-copy-scaled-e1735842194574.jpg
END:VEVENT
BEGIN:VEVENT
DTSTART;TZID=America/New_York:20250111T120000
DTEND;TZID=America/New_York:20250209T170000
DTSTAMP:20260424T171538
CREATED:20250117T181053Z
LAST-MODIFIED:20250117T181053Z
UID:70234-1736596800-1739120400@www.bucksarts.org
SUMMARY:New Hope Arts - 2025 Members' Salon Exhibition
DESCRIPTION:New Hope Arts is pleased to announce the 2025 Members’ Salon Exhibition. \nThis exhibition is open to New Hope Arts members only and features over 120 original paintings\, drawings\, photography\, sculpture and works in other media. \nGallery Hours: Friday\, Saturday & Sunday\, noon to 5 pm \nNew Hope Arts \n2 Stockton Ave\, 2nd Floor \nNew Hope PA  18938
URL:https://www.bucksarts.org/event/new-hope-arts-2025-members-salon-exhibition/
LOCATION:New Hope Arts Inc\, 2 Stockton Ave\, 2nd Flr\, New Hope\, PA\, 18938\, United States
GEO:40.364055;-74.9531262
X-APPLE-STRUCTURED-LOCATION;VALUE=URI;X-ADDRESS=New Hope Arts Inc 2 Stockton Ave 2nd Flr New Hope PA 18938 United States;X-APPLE-RADIUS=500;X-TITLE=2 Stockton Ave\, 2nd Flr:geo:-74.9531262,40.364055
END:VEVENT
BEGIN:VEVENT
DTSTART;TZID=America/New_York:20250131T200000
DTEND;TZID=America/New_York:20250216T140000
DTSTAMP:20260424T171538
CREATED:20250128T173349Z
LAST-MODIFIED:20250128T173349Z
UID:70290-1738353600-1739714400@www.bucksarts.org
SUMMARY:ActorsNET presents J.B. Priestley's "DANGEROUS CORNER"
DESCRIPTION:One of J.B. Priestley’s renowned “Time Plays”\, DANGEROUS CORNER\, explores winding road of time and the perilous twists and turns of circumstance\, posing the all-important question: what if? \nOpening January 31 and running through February 16. \nThe Heritage Center Theatre is located at 635 North Delmorr Avenue in Morrisville near the Calhoun Street Bridge. \nShow times are Fridays and Saturdays at 8:00 pm and Sundays at 2:00 pm.  Doors open half an hour before show time.  There will be an additional 2:00 pm matinee Saturday\, February 8th in addition to the regularly scheduled evening performance. \nNew this season: The 8:00 pm performance on Saturday\, February 8th is a special “Pay What You Can” night with tickets as low as $7.00 as part of ActorsNET’s goal to make exceptional\, live and local theatre accessible to everyone! \n\n\n\n		\n				\n						\n			\n								\n			\n		\n							\n			\n				\n						\n			\n								\n			\n		\n							\n			\n				\n						\n			\n								\n			\n		\n							\n			\n	\n	\n\n		\n		[Show slideshow]
URL:https://www.bucksarts.org/event/actorsnet-presents-j-b-priestleys-dangerous-corner/
LOCATION:ActorsNET\, 635 N. Delmorr Ave\, Morrisville\, PA\, 19067
ATTACH;FMTTYPE=image/jpeg:https://www.bucksarts.org/wp-content/uploads/2025/01/ActorsNET_DC_Header.jpg
ORGANIZER;CN="ActorsNET":MAILTO:info@actorsnetbucks.org
END:VEVENT
BEGIN:VEVENT
DTSTART;TZID=America/New_York:20250206T170000
DTEND;TZID=America/New_York:20250206T190000
DTSTAMP:20260424T171539
CREATED:20250114T152733Z
LAST-MODIFIED:20250117T174920Z
UID:70211-1738861200-1738868400@www.bucksarts.org
SUMMARY:Art for Your Sweetheart at Pickering Manor
DESCRIPTION:Members Jeanne Chesterton\, Renee Egan\, Pat Proniewski and other local artists will have work in the silent auction and sale. \nRefreshments of wine and cheese offer the perfect pairing for an evening of art and community support. \nArt for Your Sweetheart Art Show and Silent Auction \nTickets at $20 and may be purchased at the door \nFebruary 6\, 2025 5:00-7:00 pm \nPickering Manor \n226 N Lincoln Ave \nNewtown PA 18940 \n 
URL:https://www.bucksarts.org/event/art-for-your-sweetheart-at-pickering-manor/
LOCATION:Pickering Manor\, 226 N Lincoln Ave\, Newtown\, PA\, 18940\, United States
END:VEVENT
BEGIN:VEVENT
DTSTART;TZID=America/New_York:20250206T190000
DTEND;TZID=America/New_York:20250206T203000
DTSTAMP:20260424T171539
CREATED:20250103T184832Z
LAST-MODIFIED:20250113T170709Z
UID:70185-1738868400-1738873800@www.bucksarts.org
SUMMARY:A&C's First Thursdays - Four Writers
DESCRIPTION:Four wonderful writers read selections from their work followed by a relaxed discussion and light refreshments in Freeman Hall. \nMeet the Writers \n\n\n\n		\n				\n						\n			\n								\n			\n		\n							\n			\n				\n						\n			\n								\n			\n		\n							\n			\n				\n						\n			\n								\n			\n		\n							\n			\n				\n						\n			\n								\n			\n		\n							\n			\n	\n	\n\n		\n		[Show slideshow]\n\n	\n	\n		\n			\n\nLake Angela’s books of poetry include Scivias Choreomaniae\, Organblooms\, and Words for the Dead. Her German-language collaborations with Georg Amsel are included in this year’s Best Literary Translations anthology\, and her nonfiction essays and poetry-dance works with Companyia Lake Angela advocate for the value of schizophrenia spectrum creativity. Lake is the 2024 Bucks County Poet Laureate \nLuray Gross\, a storyteller as well as a Bucks County Poet Laureate\, has published five collections of poetry\, most recently With This Body\, Ragged Sky Press. Named a Distinguished Teaching Artist by the New Jersey State Council on the Arts\, she has worked with thousands of students ranging in age from three to 83.L \nVasiliki Katsarou is the author of three poetry collections\, Memento Tsunami\, Three Sea Stones\, and most recently\, The Second Home (Finishing Line Press). Her award-winning 35mm short film Fruitlands 1843 was screened at the Newtown Theatre in Bucks County in 2024. She has been a Teaching Artist at Hunterdon Art Museum\, and collaborated with many local arts organizations including the Dodge Poetry Festival\, Hopewell Theater\, ArtYard\, and Princeton Humanities Council. \nMelissa D. Sullivan is a fiction writer\, journalist\, editor and attorney. Her fiction can be found in Dappled Things\, The Coil Magazine and elsewhere\, and her flash historical fiction “Dear Jacqueline” was nominated for a Pushcart Prize. Her essays on arts and culture have appeared in Rivertowns Magazine\, Suburban Life and Hippocampus Magazine. In 2023\, Melissa was proud to take on the role of publisher of Neshaminy: The Bucks County Historical and Literary Magazine. \n  \nLiterary Arts Salons are presented by the Arts & Cultural Council of Bucks County. \n  \n  \n 
URL:https://www.bucksarts.org/event/acs-first-thursdays-four-writers/
LOCATION:Arts & Cultural Council at Freeman Hall\, 181 East Court Street\, Doylestown\, PA\, 18901\, United States
ATTACH;FMTTYPE=image/jpeg:https://www.bucksarts.org/wp-content/uploads/2025/01/ac_FirstThursdayMasthead_FB-e1735936897994.jpg
END:VEVENT
BEGIN:VEVENT
DTSTART;TZID=America/New_York:20250208T100000
DTEND;TZID=America/New_York:20250208T120000
DTSTAMP:20260424T171539
CREATED:20250103T185007Z
LAST-MODIFIED:20250103T185617Z
UID:70188-1739008800-1739016000@www.bucksarts.org
SUMMARY:Writing Poetry Reviews with John Timpane
DESCRIPTION:Writing Poetry Reviews: Read for your Readers with John Timpane\nSaturday\, February 8\, 10:00 am – 12 noon \nVolta Center for Writing Arts\, BCCC \nWorkshop Fees: $15.00; Veterans\, Seniors\, BCCC students: $10.00  Scholarships are available. \nIn this workshop\, we’ll discuss why to review and how to stay focused simultaneously\, always-always\, in vivid\, responsible detail\, on the poetry and on the reader.  \nOur featured speaker is John Timpane.  John is a former English professor at Rutgers University and Lafayette College.  He’s authored several books on poetry and other subjects.  For more than 20 years\, John worked at the Philadelphia Inquirer\, where he served as commentary page editor\, features writer\, book editor\, and theater critic.  He is a member of the band Car Radio Dog (on Spotify) and his podcast is The Musical Innertube.  (musicalinnertube.com) \nto register or for more info: voltawritingcenter@gmail.com \n 
URL:https://www.bucksarts.org/event/writing-poetry-reviews-with-john-timpane/
LOCATION:Volta Center for Writing Arts\, Newtown Campus Library 275 Swamp Road\, Newtown\, 18940\, United States
ATTACH;FMTTYPE=image/jpeg:https://www.bucksarts.org/wp-content/uploads/2024/12/voltalogo.jpeg
END:VEVENT
END:VCALENDAR