BEGIN:VCALENDAR
VERSION:2.0
PRODID:-//Arts &amp; Cultural Council of Bucks County - ECPv6.15.18//NONSGML v1.0//EN
CALSCALE:GREGORIAN
METHOD:PUBLISH
X-WR-CALNAME:Arts &amp; Cultural Council of Bucks County
X-ORIGINAL-URL:https://www.bucksarts.org
X-WR-CALDESC:Events for Arts &amp; Cultural Council of Bucks County
REFRESH-INTERVAL;VALUE=DURATION:PT1H
X-Robots-Tag:noindex
X-PUBLISHED-TTL:PT1H
BEGIN:VTIMEZONE
TZID:America/New_York
BEGIN:DAYLIGHT
TZOFFSETFROM:-0500
TZOFFSETTO:-0400
TZNAME:EDT
DTSTART:20220313T070000
END:DAYLIGHT
BEGIN:STANDARD
TZOFFSETFROM:-0400
TZOFFSETTO:-0500
TZNAME:EST
DTSTART:20221106T060000
END:STANDARD
BEGIN:DAYLIGHT
TZOFFSETFROM:-0500
TZOFFSETTO:-0400
TZNAME:EDT
DTSTART:20230312T070000
END:DAYLIGHT
BEGIN:STANDARD
TZOFFSETFROM:-0400
TZOFFSETTO:-0500
TZNAME:EST
DTSTART:20231105T060000
END:STANDARD
BEGIN:DAYLIGHT
TZOFFSETFROM:-0500
TZOFFSETTO:-0400
TZNAME:EDT
DTSTART:20240310T070000
END:DAYLIGHT
BEGIN:STANDARD
TZOFFSETFROM:-0400
TZOFFSETTO:-0500
TZNAME:EST
DTSTART:20241103T060000
END:STANDARD
END:VTIMEZONE
BEGIN:VEVENT
DTSTART;TZID=America/New_York:20230301T080000
DTEND;TZID=America/New_York:20230502T170000
DTSTAMP:20260420T031830
CREATED:20230227T170750Z
LAST-MODIFIED:20230311T115500Z
UID:67227-1677657600-1683046800@www.bucksarts.org
SUMMARY:Call to Artists! RED Show: Artists Share Their "Where" | Submissions open May 1
DESCRIPTION:R.E.D. Show\nREIMAGINE\, EXPLORE\, DISCOVER: Artist’s Share Their “Where”\nJune 2 – June 25\, 2023\nSubmissions open May 1 \nMembers of the Arts and Cultural Council of Bucks County are invited to submit 2D and 3D artworks inspired by “where.” \n\n“Where” is the place you are most creative?\n“Where” do you find your inspiration?\n“Where” is your personal art journey taking you?\n\nNot a member? Join now\, then enter the show: /www.bucksarts.org/member-benefits/\nYou do not need to be a resident of Bucks County to be a member of the A&C and enter the R.E.D. Show. \nGeneral Information: \n\nRepresentational and non-representational work in all mediums is welcome.\nArtists may produce new works in response to the call for art or they may also submit work\npreviously created.\nSubmissions from new\, emerging\, and established artists are welcomed. We especially encourage submissions from historically underrepresented voices in arts communities\, and we celebrate the full expression of all identities.\nA guest juror will present five cash awards for this online and in person exhibition.\nArtist talks\, plein air artists\, and special events are scheduled for the run of the show.\n\nImportant Dates: \n\nApril 1: R.E.D. Show prospectus will be available\nMay 1 – May 15: Artist’s submissions via Entrythingy\nMay 31\, 3-7pm: Drop off framed and portfolio pieces\nJune 2-4: Opening weekend reception\, artist talks\, plein air artists\, and special events\nJune 10\, 11 & 17\, 18\, 11am-4pm: Weekend gallery hours\nJune 24-25\, 11am-4pm: Closing weekend\nJune 26\, 3-7pm: Pick up\n\nQuestions? Email exhibitions@bucksarts.org \n  \n 
URL:https://www.bucksarts.org/event/call-to-artists-red-show-artists-share-their-where-submissions-open-may-1/
LOCATION:Arts & Cultural Council of Bucks County\, 275 Swamp Road\, Newtown\, PA\, 18940\, United States
ATTACH;FMTTYPE=image/jpeg:https://www.bucksarts.org/wp-content/uploads/2023/02/RED_events_cal.jpg
END:VEVENT
BEGIN:VEVENT
DTSTART;VALUE=DATE:20230401
DTEND;VALUE=DATE:20230501
DTSTAMP:20260420T031830
CREATED:20230309T182950Z
LAST-MODIFIED:20230329T131721Z
UID:67304-1680307200-1682899199@www.bucksarts.org
SUMMARY:"A Celebration of Poetry" Poem Exhibition
DESCRIPTION:An exhibition of ten archived poems from the 30 Days of Inspiration project will be displayed throughout the Township Library of Southampton during the entire month of April.  \n30 Days of Inspiration is the Arts & Cultural Council of Bucks County’s yearly project matching poetry with art in honor of National Poetry Month. The project has run annually since 2021. See this year’s pairings on social media @bucksarts beginning April 1. \nThis exhibit is sponsored by Township Library of Lower Southampton and the Arts & Cultural Council of Bucks County.
URL:https://www.bucksarts.org/event/a-celebration-of-poetry-poem-exhibition/
LOCATION:Township Library of Lower Southampton\, 1983 Bridgetown Pike\, Feasterville-Trevose\, PA\, 19053\, United States
CATEGORIES:Council Events
ATTACH;FMTTYPE=image/jpeg:https://www.bucksarts.org/wp-content/uploads/2023/03/30-day-poster-logo-1-scaled.jpg
END:VEVENT
BEGIN:VEVENT
DTSTART;TZID=America/New_York:20230417T183000
DTEND;TZID=America/New_York:20230417T200000
DTSTAMP:20260420T031830
CREATED:20230308T224530Z
LAST-MODIFIED:20230323T100242Z
UID:67291-1681756200-1681761600@www.bucksarts.org
SUMMARY:"A Celebration Of Poetry" Reading
DESCRIPTION:Join us on April 17 for “A Celebration of Poetry\,” a group reading by Cheryl Baldi\, Joseph Chelius\, Terence Culleton\, Robbin Farr\, Patricia Goodrich\, Arlene Geller\, Lynn Levin\, Tom Mallouk\, Steve Nolan\, and Bill Wunder at the Lower Southampton Library from 6:30-8:00pm.  \n30 Days of Inspiration is the Arts & Cultural Council of Bucks County’s yearly project matching poetry with art in honor of National Poetry Month. See all of the pairings on social media @bucksarts. \nThis reading is free and open to the public and is sponsored by the Township Library of Lower Southampton and The Arts & Cultural Council of Bucks County. \nThe Township Library of Lower Southampton is located at 1983 Bridgetown Pike in Feasterville-Trevose\, Pa.
URL:https://www.bucksarts.org/event/a-celebration-of-poetry/
LOCATION:Township Library of Lower Southampton\, 1983 Bridgetown Pike\, Feasterville-Trevose\, PA\, 19053\, United States
CATEGORIES:Council Events
ATTACH;FMTTYPE=image/jpeg:https://www.bucksarts.org/wp-content/uploads/2023/03/LSLReading-1-scaled.jpeg
END:VEVENT
END:VCALENDAR