BEGIN:VCALENDAR
VERSION:2.0
PRODID:-//Arts &amp; Cultural Council of Bucks County - ECPv6.15.18//NONSGML v1.0//EN
CALSCALE:GREGORIAN
METHOD:PUBLISH
X-WR-CALNAME:Arts &amp; Cultural Council of Bucks County
X-ORIGINAL-URL:https://www.bucksarts.org
X-WR-CALDESC:Events for Arts &amp; Cultural Council of Bucks County
REFRESH-INTERVAL;VALUE=DURATION:PT1H
X-Robots-Tag:noindex
X-PUBLISHED-TTL:PT1H
BEGIN:VTIMEZONE
TZID:America/New_York
BEGIN:DAYLIGHT
TZOFFSETFROM:-0500
TZOFFSETTO:-0400
TZNAME:EDT
DTSTART:20220313T070000
END:DAYLIGHT
BEGIN:STANDARD
TZOFFSETFROM:-0400
TZOFFSETTO:-0500
TZNAME:EST
DTSTART:20221106T060000
END:STANDARD
BEGIN:DAYLIGHT
TZOFFSETFROM:-0500
TZOFFSETTO:-0400
TZNAME:EDT
DTSTART:20230312T070000
END:DAYLIGHT
BEGIN:STANDARD
TZOFFSETFROM:-0400
TZOFFSETTO:-0500
TZNAME:EST
DTSTART:20231105T060000
END:STANDARD
BEGIN:DAYLIGHT
TZOFFSETFROM:-0500
TZOFFSETTO:-0400
TZNAME:EDT
DTSTART:20240310T070000
END:DAYLIGHT
BEGIN:STANDARD
TZOFFSETFROM:-0400
TZOFFSETTO:-0500
TZNAME:EST
DTSTART:20241103T060000
END:STANDARD
END:VTIMEZONE
BEGIN:VEVENT
DTSTART;TZID=America/New_York:20230127T080000
DTEND;TZID=America/New_York:20230212T170000
DTSTAMP:20260420T235326
CREATED:20221202T133310Z
LAST-MODIFIED:20230127T125809Z
UID:66830-1674806400-1676221200@www.bucksarts.org
SUMMARY:Submit Now through January 31: 30 Days of Inspiration
DESCRIPTION:Coming Up! \nApril: 30 Days of Inspiration\, 2023 \nThe submission link will be active January 15-31. \nPoets and artists are invited to share original work with the community through a poem-a-day matched with an artwork-a-day for every day in April\, in celebration of National Poetry Month and hosted by the Arts & Cultural Council of Bucks County. \nSubmissions will be accepted January 15-January 31\, 2023. The submission link will be active during that time. \nApril: 30 Days of Inspiration seeks poems and art that explore what strengthens\, connects\, revives or calms—from small\, seemingly ordinary moments to dramatic occasions\, broad landscapes\, and abstractions. A different poem matched with a different artwork will be featured on ACCBC social media each day of April\, 2023. Arts & Cultural Council of Bucks County will curate the exhibition. \nCOMPLETE SUBMISSION GUIDELINES \nPoetry and artwork submissions will be accepted from January 15-31\, 2023. The submission link will be active during that time. \nArtists and writers do not have to be residents of Bucks County or members of the Arts & Cultural Council of Bucks County to participate. Submissions from new\, emerging\, and established artists are welcomed. We especially encourage submissions from historically underrepresented voices in arts communities\, and we celebrate the full expression of all identities. \nDonations to the A&CCBC and new memberships are encouraged to support our work\, but there is no submission fee for this project! Join us! \nPOETRY SUBMISSIONS: SEND UP TO TWO \n\nSend up to two (2) poems in a single document (.doc or .docx)\nUse only Times New Roman 12 pt. font\nEach poem should be no more than 20 lines.\nWe accept previously published work. Add citation/credit at end of poem.\nSimultaneous submissions are accepted\, but please let us know immediately if your work has been accepted elsewhere by sending us a note with your name and title of the work to info@bucksarts.org\nACCBC assumes First Electronic/Online Rights including the right to archive.\nPlease adhere to all guidelines. Submissions not adhering to our guidelines will not be considered.\n\nARTWORK GUIDELINES: SEND UP TO TWO \n\nSend up to two images (.jpg)\nWeb-ready images: 72 dpi\, 900-1200 pixels on the longest side\nQuality: Cropped\, not crooked\nLabeled: Label (save as) images with your name\, the title of the work\, and the medium: (i.e.\, Jane Smith_River View-Oil on Linen.jpg)\nArtists may only submit images once\, so make sure they are the best they can be.\nACCBC has permission to use submitted works for digital and print promotional purposes\, including the right to archive.\nCollectors interested in making purchases will be able to reach out to individual artists through websites provided on the artist submission forms. The Arts & Cultural Council will not post prices as part of this Art and Poetry initiative and will not accept any commissions on sales of work.\nPlease adhere to all guidelines. The ACCBC reserves the right to refuse submissions that do not adhere to the guidelines.\n\nWE WILL CONTACT YOU… \n. . . when the exhibition is curated\, and we have scheduled the poetry and art pairings.
URL:https://www.bucksarts.org/event/coming-up-april-30-days-of-inspiration-2023/
LOCATION:Arts & Cultural Council of Bucks County Online
ATTACH;FMTTYPE=image/jpeg:https://www.bucksarts.org/wp-content/uploads/2022/12/WebCal_30day1280x720.jpg
END:VEVENT
BEGIN:VEVENT
DTSTART;TZID=America/New_York:20230129T151500
DTEND;TZID=America/New_York:20230129T190000
DTSTAMP:20260420T235326
CREATED:20230119T204910Z
LAST-MODIFIED:20230119T204910Z
UID:67056-1675005300-1675018800@www.bucksarts.org
SUMMARY:Acme Screening Room Film Club: EO and Au Hasard Balthazar
DESCRIPTION:January 29\, 3:15 PM\nDOUBLE FEATURE \nThe afternoon will comprise a screening of the breathtakingly beautiful film\, EO\, followed by a 20 minute intermission with food available for snacking. Then a screening of Au Hasard Balthazar (on which EO was based)\, a 1966 French drama directed by Robert Bresson\, believed to be inspired by a passage from Fyodor Dostoyevsky’s 1868–69 novel The Idiot. Stay for a post screening discussion of both films. \nTickets $10 each or $15 for the double feature.
URL:https://www.bucksarts.org/event/acme-screening-room-film-club-eo-and-au-hasard-balthazar/
LOCATION:Acme Screening Room\, 25 South Union\, Lambertville\, NJ\, 08530\, United States
ATTACH;FMTTYPE=image/jpeg:https://www.bucksarts.org/wp-content/uploads/2023/01/EO_2022_1669056245-1.jpg
ORGANIZER;CN="ACME Screening Room":MAILTO:acmescreeningroom@gmail.com
END:VEVENT
BEGIN:VEVENT
DTSTART;TZID=America/New_York:20230202T140000
DTEND;TZID=America/New_York:20230202T150000
DTSTAMP:20260420T235326
CREATED:20230127T125544Z
LAST-MODIFIED:20230127T125544Z
UID:67129-1675346400-1675350000@www.bucksarts.org
SUMMARY:Artist Talk with Helen Rebekah Garber
DESCRIPTION:Since 2012\, Helen Rebekah Garber has incorporated her science and nursing experiences into her art. As a way to cope with the stress\, trauma and uncertainty that came with working with patients during the pandemic\, Garber transferred daily calculations onto her paintings which are on view in the exhibition\, “Code Number Safe [Un]Safe” in the Hicks Art Center Gallery. For her Artist Talk\, Helen will reveal tactics she employs in both her artist and nursing practices while striving for homeostasis- a state of equilibrium “where art and life converge\, nourish\, and reimagine one another.” Helen will be in attendance and the talk will be on Zoom also at the following link: https://us06web.zoom.us/j/82012541962
URL:https://www.bucksarts.org/event/artist-talk-with-helen-rebekah-garber/
LOCATION:Zlock Performing Arts Center\, 275 Swamp Rd\, Newtown\, 18940\, United States
CATEGORIES:Members Event
ATTACH;FMTTYPE=image/jpeg:https://www.bucksarts.org/wp-content/uploads/2023/01/zlockimage.jpg
GEO:40.2390377;-74.9671789
X-APPLE-STRUCTURED-LOCATION;VALUE=URI;X-ADDRESS=Zlock Performing Arts Center 275 Swamp Rd Newtown 18940 United States;X-APPLE-RADIUS=500;X-TITLE=275 Swamp Rd:geo:-74.9671789,40.2390377
END:VEVENT
BEGIN:VEVENT
DTSTART;TZID=America/New_York:20230202T160000
DTEND;TZID=America/New_York:20230202T180000
DTSTAMP:20260420T235326
CREATED:20230127T125432Z
LAST-MODIFIED:20230127T125432Z
UID:67135-1675353600-1675360800@www.bucksarts.org
SUMMARY:Opening Reception for Code Number Safe [Un]Safe Exhibition
DESCRIPTION:All are invited to join attending artists\, the curator\, and Bucks students to celebrate the opening of the exhibition\, Code Number Safe [Un]Safe.\nThe premise of the exhibition “Code Number Safe [Un]Safe” is built around the concept of numbers and numeric systems holding values for safety and stability or on the contrary- impermanence and oppression. The cohort of artists participating in the exhibition use numbers and numeric identifiers to describe personal\, process and historical narratives through sculpture\, painting\, collage\, or visual diagrams/images that symbolize spaces for realized well-being or vessels of conflict.
URL:https://www.bucksarts.org/event/opening-reception-for-code-number-safe-unsafe-exhibition/
LOCATION:Hicks Art Center Gallery\, 275 Swamp Rd`\, Newtown\, PA\, 18940\, United States
CATEGORIES:Members Event
ATTACH;FMTTYPE=image/jpeg:https://www.bucksarts.org/wp-content/uploads/2023/01/opening-reception.jpg
ORGANIZER;CN="Hicks Art Center Gallery":MAILTO:clifford.eberly@bucks.edu
END:VEVENT
BEGIN:VEVENT
DTSTART;TZID=America/New_York:20230202T190000
DTEND;TZID=America/New_York:20230202T203000
DTSTAMP:20260420T235326
CREATED:20230111T130513Z
LAST-MODIFIED:20230111T130804Z
UID:67015-1675364400-1675369800@www.bucksarts.org
SUMMARY:First Thursdays: ART CHAT | New Faces\, New Works at Freeman Hall
DESCRIPTION:Join the A&C for a Board Meet & Greet and an informal Art Share. Meet our newest board members\, Christina Galagarza\, Clifford Eberly\, Gene Underwood\, Carol Gilbert\, and Ashara Shapiro. See their latest works\, works in progress\, and sketches for new pieces. Enjoy some light refreshments and some inspiring conversation in a historic setting. \nWe are limiting attendance to be mindful about Covid. Advance registration is required: info@bucksarts.org. \nFreeman Hall is located at 181 East Court Street in Doylestown\, PA. Parking is free\, and there is no fee to participate. \nThe event will be rescheduled in the event of inclement weather. \nSALEM UCC\, FREEMAN HALL\, & COVID: We follow CDC and local and state COVID-safety recommendations. Wearing a face-mask is recommended but optional\, and we expect all who are eligible\, to be vaccinated. Those with flu-like symptoms or who have recently tested positive for COVID should stay home.  \nQuestions? info@bucksarts.org
URL:https://www.bucksarts.org/event/first-thursdays-art-chat-new-faces-new-works-at-freeman-hall/
LOCATION:Arts & Cultural Council at Freeman Hall\, 181 East Court Street\, Doylestown\, PA\, 18901\, United States
ATTACH;FMTTYPE=image/jpeg:https://www.bucksarts.org/wp-content/uploads/2023/01/AC_2_new-board-members-horiz-scaled.jpg
END:VEVENT
BEGIN:VEVENT
DTSTART;TZID=America/New_York:20230203T193000
DTEND;TZID=America/New_York:20230203T210000
DTSTAMP:20260420T235326
CREATED:20230104T200546Z
LAST-MODIFIED:20230104T200546Z
UID:66892-1675452600-1675458000@www.bucksarts.org
SUMMARY:Lord\, Write My Name
DESCRIPTION:Nationally-recognized baritone vocalist\, Keith Spencer\, and award-winning composer and arranger\, Peter Hilliard\, team up once again after their critically-acclaimed collaboration\, Brothers on Broadway\, to present Lord\, Write My Name – A Gospel and African American Experience in Spirituals\n.\nLord\, Write My Name is an inspirational musical tapestry of African American Spirituals interspersed with narratives\, poetry\, and letters penned by enslaved\, emancipated\, and iconic Black people throughout history. This educational presentation explores themes of mourning expressed through Spirituals countered by the powerful and redemptive story of the Gospel message. \nIn this masterful collection of song and word\, Spencer\, accompanied by Hilliard on piano\, performs well-known Spirituals such as “Go Down\, Moses\,” “Walk Together Children\,” “Joshua Fit the Battle of Jericho\,” “Steal Away\,” and several others brilliantly reimagined and arranged by Hilliard. \nThis beautiful and uplifting concert shares themes of social justice\, identity\, and the hope that connects us all.
URL:https://www.bucksarts.org/event/lord-write-my-name/
LOCATION:Zlock Performing Arts Center\, 275 Swamp Rd\, Newtown\, 18940\, United States
CATEGORIES:Members Event
ATTACH;FMTTYPE=image/jpeg:https://www.bucksarts.org/wp-content/uploads/2023/01/MAA-22-23-Spencer-Hilliardwebpage-v3-scaled.jpg
ORGANIZER;CN="Zlock Performing Arts Center":MAILTO:peter.chiovarou@bucks.edu
GEO:40.2390377;-74.9671789
X-APPLE-STRUCTURED-LOCATION;VALUE=URI;X-ADDRESS=Zlock Performing Arts Center 275 Swamp Rd Newtown 18940 United States;X-APPLE-RADIUS=500;X-TITLE=275 Swamp Rd:geo:-74.9671789,40.2390377
END:VEVENT
BEGIN:VEVENT
DTSTART;TZID=America/New_York:20230203T220000
DTEND;TZID=America/New_York:20230203T220000
DTSTAMP:20260420T235326
CREATED:20230119T204656Z
LAST-MODIFIED:20230119T204656Z
UID:67059-1675461600-1675461600@www.bucksarts.org
SUMMARY:The Midnight Society at Acme Screening Room
DESCRIPTION:The Midnight Society\n10:00 PM Friday\, February 3: Valentines Team \n$8 donation per person \nThe Midnight Society is a upcoming regular late night horror event at the ACME. Hosted by local horror creators for local horror creators\, the Midnight Society will screen both cult classic films on long defunct media and experimental films by local genre directors.
URL:https://www.bucksarts.org/event/the-midnight-society-at-acme-screening-room-2/
LOCATION:Acme Screening Room\, 25 South Union\, Lambertville\, NJ\, 08530\, United States
ATTACH;FMTTYPE=image/jpeg:https://www.bucksarts.org/wp-content/uploads/2023/01/midnightsociety.jpg
ORGANIZER;CN="ACME Screening Room":MAILTO:acmescreeningroom@gmail.com
END:VEVENT
END:VCALENDAR