BEGIN:VCALENDAR
VERSION:2.0
PRODID:-//Arts &amp; Cultural Council of Bucks County - ECPv6.15.18//NONSGML v1.0//EN
CALSCALE:GREGORIAN
METHOD:PUBLISH
X-WR-CALNAME:Arts &amp; Cultural Council of Bucks County
X-ORIGINAL-URL:https://www.bucksarts.org
X-WR-CALDESC:Events for Arts &amp; Cultural Council of Bucks County
REFRESH-INTERVAL;VALUE=DURATION:PT1H
X-Robots-Tag:noindex
X-PUBLISHED-TTL:PT1H
BEGIN:VTIMEZONE
TZID:America/New_York
BEGIN:DAYLIGHT
TZOFFSETFROM:-0500
TZOFFSETTO:-0400
TZNAME:EDT
DTSTART:20220313T070000
END:DAYLIGHT
BEGIN:STANDARD
TZOFFSETFROM:-0400
TZOFFSETTO:-0500
TZNAME:EST
DTSTART:20221106T060000
END:STANDARD
BEGIN:DAYLIGHT
TZOFFSETFROM:-0500
TZOFFSETTO:-0400
TZNAME:EDT
DTSTART:20230312T070000
END:DAYLIGHT
BEGIN:STANDARD
TZOFFSETFROM:-0400
TZOFFSETTO:-0500
TZNAME:EST
DTSTART:20231105T060000
END:STANDARD
BEGIN:DAYLIGHT
TZOFFSETFROM:-0500
TZOFFSETTO:-0400
TZNAME:EDT
DTSTART:20240310T070000
END:DAYLIGHT
BEGIN:STANDARD
TZOFFSETFROM:-0400
TZOFFSETTO:-0500
TZNAME:EST
DTSTART:20241103T060000
END:STANDARD
END:VTIMEZONE
BEGIN:VEVENT
DTSTART;TZID=America/New_York:20230122T160000
DTEND;TZID=America/New_York:20230122T220000
DTSTAMP:20260421T125834
CREATED:20230119T205042Z
LAST-MODIFIED:20230119T205042Z
UID:67052-1674403200-1674424800@www.bucksarts.org
SUMMARY:Dogs Lie\, Q&A and dinner at Acme Screening Room
DESCRIPTION:January 22\, 4:00 PM 10:00 PM\nLambertville screenwriter Jane Beale’s 2011 award winning film Dogs Lie\, followed by Q&A and dinner with Jane at The Swan Hotel.
URL:https://www.bucksarts.org/event/dogs-lie-qa-and-dinner-at-acme-screening-room/
LOCATION:Acme Screening Room\, 25 South Union\, Lambertville\, NJ\, 08530\, United States
ATTACH;FMTTYPE=image/jpeg:https://www.bucksarts.org/wp-content/uploads/2023/01/dogs.jpg
ORGANIZER;CN="ACME Screening Room":MAILTO:acmescreeningroom@gmail.com
END:VEVENT
BEGIN:VEVENT
DTSTART;TZID=America/New_York:20230126T180000
DTEND;TZID=America/New_York:20230126T210000
DTSTAMP:20260421T125834
CREATED:20221212T171901Z
LAST-MODIFIED:20221212T171901Z
UID:66859-1674756000-1674766800@www.bucksarts.org
SUMMARY:Arts & Drafts | Two Rivers Taproom in Quakertown
DESCRIPTION:ARTS & DRAFTS\nJANUARY 26\, 6pm till?\nTwo Rivers Taproom in Quakertown\, PA \nConnect with the A&C board\, members\, and arts enthusiasts at a Bucks County brewery for some casual conversation and inspiration. \nNo need to RSVP – just look for the A&C Arts & Drafts sign\, and pull up a chair! Everyone buys their own wine\, beer\, or snacks. \nTwo Rivers Taproom is located at 106 East Route 313 in Quakertown\, PA. Learn more about the brewery at https://www.tworiversbrewing.com/quakertown-taproom.html \nWe will be meeting up four times a year to experience different breweries and meet with the arts community throughout the County.\nNext “on Tap:”\nApril 27\, 2023\nNeshaminy Creek Brewing Company – Dublin\, PA\nhttps://neshaminycreekbrewing.com
URL:https://www.bucksarts.org/event/arts-drafts-two-rivers-taproom-in-quakertown/
LOCATION:Two Rivers Taproom\, 106 East Route 313\, Quakertown\, PA\, 18951\, United States
ATTACH;FMTTYPE=image/jpeg:https://www.bucksarts.org/wp-content/uploads/2022/10/arts_drafts_logo_online.jpg
END:VEVENT
BEGIN:VEVENT
DTSTART;TZID=America/New_York:20230127T080000
DTEND;TZID=America/New_York:20230212T170000
DTSTAMP:20260421T125834
CREATED:20221202T133310Z
LAST-MODIFIED:20230127T125809Z
UID:66830-1674806400-1676221200@www.bucksarts.org
SUMMARY:Submit Now through January 31: 30 Days of Inspiration
DESCRIPTION:Coming Up! \nApril: 30 Days of Inspiration\, 2023 \nThe submission link will be active January 15-31. \nPoets and artists are invited to share original work with the community through a poem-a-day matched with an artwork-a-day for every day in April\, in celebration of National Poetry Month and hosted by the Arts & Cultural Council of Bucks County. \nSubmissions will be accepted January 15-January 31\, 2023. The submission link will be active during that time. \nApril: 30 Days of Inspiration seeks poems and art that explore what strengthens\, connects\, revives or calms—from small\, seemingly ordinary moments to dramatic occasions\, broad landscapes\, and abstractions. A different poem matched with a different artwork will be featured on ACCBC social media each day of April\, 2023. Arts & Cultural Council of Bucks County will curate the exhibition. \nCOMPLETE SUBMISSION GUIDELINES \nPoetry and artwork submissions will be accepted from January 15-31\, 2023. The submission link will be active during that time. \nArtists and writers do not have to be residents of Bucks County or members of the Arts & Cultural Council of Bucks County to participate. Submissions from new\, emerging\, and established artists are welcomed. We especially encourage submissions from historically underrepresented voices in arts communities\, and we celebrate the full expression of all identities. \nDonations to the A&CCBC and new memberships are encouraged to support our work\, but there is no submission fee for this project! Join us! \nPOETRY SUBMISSIONS: SEND UP TO TWO \n\nSend up to two (2) poems in a single document (.doc or .docx)\nUse only Times New Roman 12 pt. font\nEach poem should be no more than 20 lines.\nWe accept previously published work. Add citation/credit at end of poem.\nSimultaneous submissions are accepted\, but please let us know immediately if your work has been accepted elsewhere by sending us a note with your name and title of the work to info@bucksarts.org\nACCBC assumes First Electronic/Online Rights including the right to archive.\nPlease adhere to all guidelines. Submissions not adhering to our guidelines will not be considered.\n\nARTWORK GUIDELINES: SEND UP TO TWO \n\nSend up to two images (.jpg)\nWeb-ready images: 72 dpi\, 900-1200 pixels on the longest side\nQuality: Cropped\, not crooked\nLabeled: Label (save as) images with your name\, the title of the work\, and the medium: (i.e.\, Jane Smith_River View-Oil on Linen.jpg)\nArtists may only submit images once\, so make sure they are the best they can be.\nACCBC has permission to use submitted works for digital and print promotional purposes\, including the right to archive.\nCollectors interested in making purchases will be able to reach out to individual artists through websites provided on the artist submission forms. The Arts & Cultural Council will not post prices as part of this Art and Poetry initiative and will not accept any commissions on sales of work.\nPlease adhere to all guidelines. The ACCBC reserves the right to refuse submissions that do not adhere to the guidelines.\n\nWE WILL CONTACT YOU… \n. . . when the exhibition is curated\, and we have scheduled the poetry and art pairings.
URL:https://www.bucksarts.org/event/coming-up-april-30-days-of-inspiration-2023/
LOCATION:Arts & Cultural Council of Bucks County Online
ATTACH;FMTTYPE=image/jpeg:https://www.bucksarts.org/wp-content/uploads/2022/12/WebCal_30day1280x720.jpg
END:VEVENT
END:VCALENDAR