BEGIN:VCALENDAR
VERSION:2.0
PRODID:-//Arts &amp; Cultural Council of Bucks County - ECPv6.15.18//NONSGML v1.0//EN
CALSCALE:GREGORIAN
METHOD:PUBLISH
X-ORIGINAL-URL:https://www.bucksarts.org
X-WR-CALDESC:Events for Arts &amp; Cultural Council of Bucks County
REFRESH-INTERVAL;VALUE=DURATION:PT1H
X-Robots-Tag:noindex
X-PUBLISHED-TTL:PT1H
BEGIN:VTIMEZONE
TZID:America/New_York
BEGIN:DAYLIGHT
TZOFFSETFROM:-0500
TZOFFSETTO:-0400
TZNAME:EDT
DTSTART:20220313T070000
END:DAYLIGHT
BEGIN:STANDARD
TZOFFSETFROM:-0400
TZOFFSETTO:-0500
TZNAME:EST
DTSTART:20221106T060000
END:STANDARD
BEGIN:DAYLIGHT
TZOFFSETFROM:-0500
TZOFFSETTO:-0400
TZNAME:EDT
DTSTART:20230312T070000
END:DAYLIGHT
BEGIN:STANDARD
TZOFFSETFROM:-0400
TZOFFSETTO:-0500
TZNAME:EST
DTSTART:20231105T060000
END:STANDARD
BEGIN:DAYLIGHT
TZOFFSETFROM:-0500
TZOFFSETTO:-0400
TZNAME:EDT
DTSTART:20240310T070000
END:DAYLIGHT
BEGIN:STANDARD
TZOFFSETFROM:-0400
TZOFFSETTO:-0500
TZNAME:EST
DTSTART:20241103T060000
END:STANDARD
END:VTIMEZONE
BEGIN:VEVENT
DTSTART;TZID=America/New_York:20230119T180000
DTEND;TZID=America/New_York:20230119T200000
DTSTAMP:20260423T033909
CREATED:20230106T131642Z
LAST-MODIFIED:20230110T191901Z
UID:66958-1674151200-1674158400@www.bucksarts.org
SUMMARY:Jean Burdick: Raking Light | Reception Jan 19 | Exhibition runs through March 15
DESCRIPTION:“Raking Light” Reception and Artist Remarks\nJanuary 19\, 6-8pm\nExhibition runs through March 15 \nAs summer turns to fall\, the angle of the sun’s rays becomes more acute and the shadows they cast grow more pronounced. This new light alters which details are accentuated or recede. In Raking Light\, the interplay of light and shadow features prominently in the works of the four artists on view. Through distinct processes\, these artists encourage a renewed examination of our surroundings to discover hidden details\, patterns\, and meaning in the everyday.  \nA&C Member Jean Burdick has 20 paintings and prints in the exhibit.  \nPlease reach out to megan@inliquid.com to join in on the reception or with any inquiries. Guests are also welcome during business hours\, Monday-Friday\, 10 am – 4:30 pm\, and by appointment. \nThe Yard Philadelphia is located at 21 S 11th St Philadelphia\, PA. \nFeatured Image: Jean Burdick\, “ Morning Haze” \n  \n\n\n\n\n  \n\n\n\n\n  \n\n\n\n 
URL:https://www.bucksarts.org/event/raking-light-reception-jan-19-exhibition-runs-through-march-15/
LOCATION:The Yard\, 21 S 11th St\, Philadelphia\, PA
CATEGORIES:Members Event
ATTACH;FMTTYPE=image/jpeg:https://www.bucksarts.org/wp-content/uploads/2023/01/Raking-Light_IG_Burdick-2-scaled.jpg
END:VEVENT
BEGIN:VEVENT
DTSTART;TZID=America/New_York:20230121T193000
DTEND;TZID=America/New_York:20230121T220000
DTSTAMP:20260423T033909
CREATED:20230104T200623Z
LAST-MODIFIED:20230104T201528Z
UID:66889-1674329400-1674338400@www.bucksarts.org
SUMMARY:Comedian Emma Willmann
DESCRIPTION:Star of Netflix\, Paramount\, Colbert and MTV \nEmma is one of New York City’s top comedians\, and perhaps one of the only dyslexic-gender-wiggly-comics-with-ADHD from Blue Hill\, Maine. The Comedy Cellar\, on Netflix’s: The Comedy Line Up\, Comedy Central\, and is one of the few comics ever to have multiple appearances on The Late Show with Stephan Colbert. All of which has earned Emma a spot on Caroline’s 10 Funniest Comics\, Just For Laughs: New Faces\, and TimeOut’s 10 Funniest Women in NYC Additionally\, Emma is an actor and writer best known for playing the role of Beth on Crazy Ex-Girlfriend and also featured on Paramount Plus’s The Good Fight\, Judd Apatow’s Crashing\, MTV\, and TruTV Host Marc Kaye and opener Matt Jenkins. \nwww.emmawillmann.com
URL:https://www.bucksarts.org/event/comedian-emma-willmann/
LOCATION:Zlock Performing Arts Center\, 275 Swamp Rd\, Newtown\, 18940\, United States
CATEGORIES:Members Event
ATTACH;FMTTYPE=image/png:https://www.bucksarts.org/wp-content/uploads/2023/01/Screen-Shot-2023-01-04-at-3.09.55-PM.png
ORGANIZER;CN="Zlock Performing Arts Center":MAILTO:peter.chiovarou@bucks.edu
GEO:40.2390377;-74.9671789
X-APPLE-STRUCTURED-LOCATION;VALUE=URI;X-ADDRESS=Zlock Performing Arts Center 275 Swamp Rd Newtown 18940 United States;X-APPLE-RADIUS=500;X-TITLE=275 Swamp Rd:geo:-74.9671789,40.2390377
END:VEVENT
END:VCALENDAR