BEGIN:VCALENDAR
VERSION:2.0
PRODID:-//Arts &amp; Cultural Council of Bucks County - ECPv6.15.18//NONSGML v1.0//EN
CALSCALE:GREGORIAN
METHOD:PUBLISH
X-WR-CALNAME:Arts &amp; Cultural Council of Bucks County
X-ORIGINAL-URL:https://www.bucksarts.org
X-WR-CALDESC:Events for Arts &amp; Cultural Council of Bucks County
REFRESH-INTERVAL;VALUE=DURATION:PT1H
X-Robots-Tag:noindex
X-PUBLISHED-TTL:PT1H
BEGIN:VTIMEZONE
TZID:America/New_York
BEGIN:DAYLIGHT
TZOFFSETFROM:-0500
TZOFFSETTO:-0400
TZNAME:EDT
DTSTART:20200308T070000
END:DAYLIGHT
BEGIN:STANDARD
TZOFFSETFROM:-0400
TZOFFSETTO:-0500
TZNAME:EST
DTSTART:20201101T060000
END:STANDARD
BEGIN:DAYLIGHT
TZOFFSETFROM:-0500
TZOFFSETTO:-0400
TZNAME:EDT
DTSTART:20210314T070000
END:DAYLIGHT
BEGIN:STANDARD
TZOFFSETFROM:-0400
TZOFFSETTO:-0500
TZNAME:EST
DTSTART:20211107T060000
END:STANDARD
BEGIN:DAYLIGHT
TZOFFSETFROM:-0500
TZOFFSETTO:-0400
TZNAME:EDT
DTSTART:20220313T070000
END:DAYLIGHT
BEGIN:STANDARD
TZOFFSETFROM:-0400
TZOFFSETTO:-0500
TZNAME:EST
DTSTART:20221106T060000
END:STANDARD
END:VTIMEZONE
BEGIN:VEVENT
DTSTART;VALUE=DATE:20210101
DTEND;VALUE=DATE:20210621
DTSTAMP:20260425T223202
CREATED:20201231T203901Z
LAST-MODIFIED:20210529T135120Z
UID:60253-1609459200-1624233599@www.bucksarts.org
SUMMARY:Vincent Hawley studio/gallery at the A-Space @ New Hope Arts | January 1-June 20\, 2021
DESCRIPTION:Vincent Hawley Studio\nPop-Up Studio and Gallery\nPaintings\, Sculpture\, Jewelry\nA-Space @New Hope Arts \nJanuary 1-June 20\, 2021 \nOpen Thursday through Sunday 11-5 or by appointment or chance\nContact vincent.hawley@gmail.com or 978-387-3251
URL:https://www.bucksarts.org/event/vincent-hawley-studio-gallery-at-the-a-space-new-hope-arts-january-1-april-30-2021/
LOCATION:984\, 37 W Bridge St\, New Hope\, PA\, 18938\, United States
ATTACH;FMTTYPE=image/jpeg:https://www.bucksarts.org/wp-content/uploads/2020/12/IMG_7692.jpg
END:VEVENT
BEGIN:VEVENT
DTSTART;TZID=America/New_York:20210201T080000
DTEND;TZID=America/New_York:20210424T170000
DTSTAMP:20260425T223202
CREATED:20210126T153730Z
LAST-MODIFIED:20210202T195607Z
UID:60639-1612166400-1619283600@www.bucksarts.org
SUMMARY:"Light and Hope" at gallery840.net | Opens Online and In Person February 1
DESCRIPTION:New Exhibit  “Light and Hope”\nFebruary 1- April 24  \nExhibiting Artists: Abraham Darlington\, Barbara Tracy*\, Mandy Martin*\, and Wendy Stoudt*\nArt can lift us up by brightening our mood and reducing stress.  We bring you this collection of colorful\, light filled paintings to encourage you during these tough times.\nThe exhibit opens online and by appointment beginning Feb 1.  We will be open Feb 12\, 13\, and 14 for folks who want to drop in without an appointment. \nCheck our website www.gallery840.net to make an appointment or for hours.  \ngallery840 is located at 840 Hamilton Street\, Suite101\, Allentown\, PA.\n* Arts & Cultural Council of Bucks County members.
URL:https://www.bucksarts.org/event/light-and-hope-at-gallery840-net-opens-online-and-in-person-february-1/
LOCATION:gallery 840\, 840 Hamilton St #101\, Allentown\, PA\, United States
ATTACH;FMTTYPE=image/png:https://www.bucksarts.org/wp-content/uploads/2021/01/Screen-Shot-2021-01-26-at-10.43.55-AM.png
ORGANIZER;CN="Wendy Stoudt":MAILTO:wendy.stoudt@gallery840.net
END:VEVENT
BEGIN:VEVENT
DTSTART;TZID=America/New_York:20210401T080000
DTEND;TZID=America/New_York:20210430T233000
DTSTAMP:20260425T223202
CREATED:20210323T170845Z
LAST-MODIFIED:20210323T171055Z
UID:61602-1617264000-1619825400@www.bucksarts.org
SUMMARY:"30 DAYS OF INSPIRATION” | National Poetry Month | Poetry and Artwork Pairings | April 1-30 on A&C Social Media
DESCRIPTION:It’s April! It’s time for…“APRIL: 30 DAYS OF INSPIRATION” \nThe poem-a-day-paired-with-an-artwork-a-day daily social media posts in recognition of National Poetry Month launch on April 1\, and we couldn’t be happier to share poetry and artwork that explore what inspires\, strengthens\, connects\, calms\, or revives. \nAdmire a favorite writer’s or artist’s latest piece or discover something new. Learn more in our informative postings. \nFollow along for 30 days on Facebook and Instagram to enjoy the artistic pairings arranged to inspire you! We certainly were inspired preparing this exhibition from the flood of submissions\, and if only April had many more days\, we would have been pleased to feature all. \nIt is our pleasure to highlight 30 poets and 30 artists this month and hope you will join us on Facebook and Instagram for your daily dose of creativity. \nWatch it unfold @bucksarts and #bucksarts
URL:https://www.bucksarts.org/event/30-days-of-inspiration-national-poetry-month-poetry-and-artwork-pairings-april-1-30-on-ac-social-media/
LOCATION:A&C Social Media & Website
ATTACH;FMTTYPE=image/jpeg:https://www.bucksarts.org/wp-content/uploads/2021/03/WebCal_30day1280x720.jpg
END:VEVENT
BEGIN:VEVENT
DTSTART;VALUE=DATE:20210403
DTEND;VALUE=DATE:20220101
DTSTAMP:20260425T223202
CREATED:20210209T192342Z
LAST-MODIFIED:20210210T122411Z
UID:60817-1617408000-1640995199@www.bucksarts.org
SUMMARY:Phillips Mill Photo Committee Show | Virtual Exhibition | April 3-December 31\, 2021
DESCRIPTION:The first-ever Phillips Mill Photo Committee Show goes live online this April 3\, 2021.  The dedicated photographers who spend so much time putting together the Phillips Mill Photographic Exhibition each year get to strut their stuff in their own show.  Each of the 3 dozen Phillips Mill Photo Committee members will have up to 8 fine art photographs on “display”.  It is a special opportunity to see the body of work these talented photographers create. \nAs a virtual show\, there is no excuse not to see it.  Sit back with your computer and binge-watch some stunning\, evocative photography\, pajamas optional.  All photographs are for sale\, so you can enjoy your favorites on your own wall! The show will go live on Saturday\, April 3\, 2021 at https://www.phillipsmillphoto.com/ \nDue to the pandemic and subsequent limitations it has caused\, the Phillips Mill Photographic Exhibition will not be held this year.  It will certainly come back in 2022!  \nSpread the word and enjoy the show!
URL:https://www.bucksarts.org/event/phillips-mill-photo-committee-show-online-april-3-december-31-2021/
LOCATION:Phillips Mill Community Association Online\, Virtual Exhibition Only
END:VEVENT
BEGIN:VEVENT
DTSTART;TZID=America/New_York:20210403T120000
DTEND;TZID=America/New_York:20210509T170000
DTSTAMP:20260425T223202
CREATED:20210222T222329Z
LAST-MODIFIED:20210222T222814Z
UID:60965-1617451200-1620579600@www.bucksarts.org
SUMMARY:New Hope Arts: Members' Spring Salon Exhibition 2021 | April 3-May 9
DESCRIPTION:Please join us for this exciting and inclusive exhibition of contemporary art in the region. Open media includes 2- and 3- dimensional work. This is an opportunity to share the latest offerings of our membership with the community\, in-gallery and online.\nProtocol limits ten people at a time so viewers have the opportunity to interact with each piece while maintaining social distance. Reservations are suggested.\nGallery Hours: Friday\, Saturday & Sunday\, Noon to 5 pm.
URL:https://www.bucksarts.org/event/members-spring-salon-exhibition-2021-april-3-may-9-in-gallery-and-online/
LOCATION:New Hope Arts Inc\, 2 Stockton Ave\, 2nd Flr\, New Hope\, PA\, 18938\, United States
CATEGORIES:Members Event
ATTACH;FMTTYPE=image/jpeg:https://www.bucksarts.org/wp-content/uploads/2021/02/Spring-ex-e1614032756181.jpg
GEO:40.364055;-74.9531262
X-APPLE-STRUCTURED-LOCATION;VALUE=URI;X-ADDRESS=New Hope Arts Inc 2 Stockton Ave 2nd Flr New Hope PA 18938 United States;X-APPLE-RADIUS=500;X-TITLE=2 Stockton Ave\, 2nd Flr:geo:-74.9531262,40.364055
END:VEVENT
BEGIN:VEVENT
DTSTART;TZID=America/New_York:20210411T170000
DTEND;TZID=America/New_York:20210411T180000
DTSTAMP:20260425T223202
CREATED:20210410T150528Z
LAST-MODIFIED:20210410T150528Z
UID:61806-1618160400-1618164000@www.bucksarts.org
SUMMARY:Concordia Chamber Players Concert Film Premiere| April 11 at 5 pm online
DESCRIPTION:Film Premiere of Concordia Chamber Players on Sunday\, April 11\, 2021 at 5pm\, EST! Visit the website to watch live! \nConcordia at ArtYard \n \nFilmed at Artyard in Frenchtown\, NJ\, we present a concert featuring musical selections that confirm and celebrate the relevance of the recent exhibition “Shelter Is\,” which explored the issues of sanctuary and community through a variety of media. The concert includes pieces by Carlos Simon inspired by the gospel music that shaped his youth; a new composition\, Mystery for solo cello (commissioned by Musaics of the Bay) by Milad Yousufi; Stravinsky’s Élégie for solo viola; an arrangement of Amazing Grace for solo violin; and works by J.S. Bach\, Kodály\, Mozart\, Dohnányi\, and Enescu. Artistic Director and cellist Michelle Djokic is joined by violinist Siwoo Kim\, violist Milena Pajaro-van de Stadt for this performance.
URL:https://www.bucksarts.org/event/concordia-chamber-players-concert-film-premiere-april-11-at-5-pm-online/
LOCATION:Virtual
ATTACH;FMTTYPE=image/jpeg:https://www.bucksarts.org/wp-content/uploads/2021/04/Screenshot-CCP-at-ArtYard-2.jpg
ORGANIZER;CN="concordia":MAILTO:info@concordiaplayers.org
END:VEVENT
BEGIN:VEVENT
DTSTART;TZID=America/New_York:20210412T183000
DTEND;TZID=America/New_York:20210412T193000
DTSTAMP:20260425T223202
CREATED:20210328T133146Z
LAST-MODIFIED:20210328T133146Z
UID:61649-1618252200-1618255800@www.bucksarts.org
SUMMARY:Monday Poets: Hayden Saunier and Alfred Encarnacion | April 12\, 6:30-7:30 pm
DESCRIPTION:Join us for an evening of poetry with one of the longest running programs of the Free Library of Philadelphia- Monday Poets! This series began 26 years ago by two librarians Michele Gendron and Michele Beluomini. They started a long tradition of creating an opportunity for published poets to share their works with the library community. Please join us in honor of National Poetry Month for the second Monday Poets of 2021. The event is free but you must register at http://mondaypoets.evenbrite.com \nHayden Saunier is the author of four books of poetry and one chapbook; her newest book\, A Cartography of Home\, was published in February. Her work has been awarded the Pablo Neruda Prize\, Rattle Poetry Prize\, Gell Poetry Award\, Keystone Prize\, has been published a variety of journals including VQR\, Beloit Poetry Review\, Thrush\, 32 Poems and Tar River Poetry\, online at Poetry Daily and read numerous times by Garrison Keillor for The Writer’s Almanac. She is an actor and is the founder and director of No River Twice (poetry + improvisation) an interactive\, audience driven poetry reading/performance. \nAlfred Encarnacion has taught writing at Temple University and published poetry\, short stories\, essays\, and literary reviews in journals such as Crab Orchard Review\, Florida Review\, Indiana Review\, North American Review\, Paterson Literary Review\, The Schuylkill Valley Journal\, and The Virtual Artists Collective (online review). He has won a Wilson Foundation Scholarship Award\, a Poets House Scholarship in NYC\, and his poems have been nominated for five Pushcart Prizes. His debut book of poetry\, The Outskirts of Karma\, appeared in 2012\, Ambassadors of the Silenced\, his second collection\, was published in 2016\, and a third collection Precincts of the Passion Dragon is a work in progress. His chapbook Library Suite was a Moonstone Press Finalist and was published in 2019. Alfred is currently the director of the Stratford Public Library in South Jersey.
URL:https://www.bucksarts.org/event/monday-poets-hayden-saunier-and-alfred-encarnacion-april-12-630-730-pm/
LOCATION:Zoom via EventBrite
CATEGORIES:Members Event
ATTACH;FMTTYPE=image/png:https://www.bucksarts.org/wp-content/uploads/2021/03/105301.jpg.png
ORGANIZER;CN="Free  Library of Philadelphia":MAILTO:ereflit@freelibrary.org
END:VEVENT
BEGIN:VEVENT
DTSTART;TZID=America/New_York:20210415T123000
DTEND;TZID=America/New_York:20210415T133000
DTSTAMP:20260425T223202
CREATED:20210325T223653Z
LAST-MODIFIED:20210328T121902Z
UID:61613-1618489800-1618493400@www.bucksarts.org
SUMMARY:David Brahinsky - Songs of Social Justice | Virtual Event April 15\, 12:30-1:30 pm
DESCRIPTION:David Brahinsky & Friends – “Songs of Social Justice” \nSongs by such greats as Pete Seeger\, Woody Guthrie\, Bob Dylan\, Joni Mitchell\, Judy Collins\, Joan Baez and many more\, each of which supports and cries out for a society that values and works for\, as the Pledge of Allegiance puts it\, ”justice for all.” \nRegister here to receive the Zoom link for participation: https://www.bucks.edu/tickets/
URL:https://www.bucksarts.org/event/david-brahinsky-songs-of-social-justice-virtual-event-april-15-1230-130-pm/
LOCATION:Online
CATEGORIES:Members Event
ATTACH;FMTTYPE=image/png:https://www.bucksarts.org/wp-content/uploads/2021/03/Screen-Shot-2021-03-28-at-8.17.15-AM.png
ORGANIZER;CN="Zlock Performing Arts Center":MAILTO:peter.chiovarou@bucks.edu
END:VEVENT
BEGIN:VEVENT
DTSTART;TZID=America/New_York:20210415T183000
DTEND;TZID=America/New_York:20210415T193000
DTSTAMP:20260425T223202
CREATED:20210327T115011Z
LAST-MODIFIED:20210327T115344Z
UID:61634-1618511400-1618515000@www.bucksarts.org
SUMMARY:ACME FILM CLUB  THE STYLE OF BOB FOSSE - Thursday\, April 15 at 6:30pm
DESCRIPTION:Watch each film on your own schedule before the Zoom meeting. Most films are available for free at www.actvid.com. Or you can use the website JUSTWATCH.com\, to find out on which streaming services each film is available. A Zoom link will be emailed to you the day of the meeting. \nAfter watching Cabaret and then All That Jazz\, you will notice many similar techniques used by Bob Fosse\, the director and choreographer of each film. We will hold a discussion on what the group notices in terms of Fosse’s style of directing\, choreography\, camera angles and movement\, etc.\, and the similarities and differences of these techniques as they relate to each film. Are they just Fosse’s style of making movies or are they used to enhance the message of each film? \nOur host David Shaw is a graduate of UCLA Film School and worked in various aspects of production in the LA Film Industry for many years. Currently living in the Philadelphia area\, he brings us his knowledge and passion for all things film. \nTo register without a donation\, please email acmescreeningroom@gmail.com.
URL:https://www.bucksarts.org/event/acme-film-club-the-style-of-bob-fosse-thursday-april-15-at-630pm/
LOCATION:Virtual
CATEGORIES:Members Event
ATTACH;FMTTYPE=image/jpeg:https://www.bucksarts.org/wp-content/uploads/2021/03/bob.jpg
ORGANIZER;CN="ACME Screening Room":MAILTO:acmescreeningroom@gmail.com
END:VEVENT
BEGIN:VEVENT
DTSTART;TZID=America/New_York:20210415T190000
DTEND;TZID=America/New_York:20210415T203000
DTSTAMP:20260425T223202
CREATED:20210406T114052Z
LAST-MODIFIED:20210406T114052Z
UID:61732-1618513200-1618518600@www.bucksarts.org
SUMMARY:ARTIST CHATS | “30 Days of Inspiration” Poets and Artists | Thursday April 15 at 7 pm on Zoom
DESCRIPTION:“Wine down” and re-invigorate with the Arts & Cultural Council of Bucks County while enjoying a presentation featuring visual artists and poets who are participating in the “30 Days of Inspiration” project. \nHear from poets Corie Feiner\, Terrence Culleton\, Doris Ferleger\, and visual artists Barbara Zeitchick\, Samantha Thompson\, and Helena van Emmerik-Finn. As artists paired for the “30 Days” project\, they’ll talk poetry\, art\, processes\, inspiration\, and ways in which word and image reflect or complement one another. \nOther workshop participants will also be invited to share artwork and ideas as part of the discussion; submit images and poetry to janeramseyart@gmail.com by April 13. \nRegister in advance for the April 15 event:\nhttps://bit.ly/2PPjo6q \nAfter registering\, you will receive a confirmation email containing information about joining the meeting. \nArtist Chats will continue monthly on the 3rd Thursday. There is no fee for these programs.
URL:https://www.bucksarts.org/event/artist-chats-30-days-of-inspiration-poets-and-artists-thursday-april-15-at-7-pm-on-zoom/
LOCATION:Zoom
ATTACH;FMTTYPE=image/jpeg:https://www.bucksarts.org/wp-content/uploads/2021/04/artchat_facebook1200x628.jpg
END:VEVENT
END:VCALENDAR