BEGIN:VCALENDAR
VERSION:2.0
PRODID:-//Arts &amp; Cultural Council of Bucks County - ECPv6.15.18//NONSGML v1.0//EN
CALSCALE:GREGORIAN
METHOD:PUBLISH
X-WR-CALNAME:Arts &amp; Cultural Council of Bucks County
X-ORIGINAL-URL:https://www.bucksarts.org
X-WR-CALDESC:Events for Arts &amp; Cultural Council of Bucks County
REFRESH-INTERVAL;VALUE=DURATION:PT1H
X-Robots-Tag:noindex
X-PUBLISHED-TTL:PT1H
BEGIN:VTIMEZONE
TZID:America/New_York
BEGIN:DAYLIGHT
TZOFFSETFROM:-0500
TZOFFSETTO:-0400
TZNAME:EDT
DTSTART:20190310T070000
END:DAYLIGHT
BEGIN:STANDARD
TZOFFSETFROM:-0400
TZOFFSETTO:-0500
TZNAME:EST
DTSTART:20191103T060000
END:STANDARD
BEGIN:DAYLIGHT
TZOFFSETFROM:-0500
TZOFFSETTO:-0400
TZNAME:EDT
DTSTART:20200308T070000
END:DAYLIGHT
BEGIN:STANDARD
TZOFFSETFROM:-0400
TZOFFSETTO:-0500
TZNAME:EST
DTSTART:20201101T060000
END:STANDARD
BEGIN:DAYLIGHT
TZOFFSETFROM:-0500
TZOFFSETTO:-0400
TZNAME:EDT
DTSTART:20210314T070000
END:DAYLIGHT
BEGIN:STANDARD
TZOFFSETFROM:-0400
TZOFFSETTO:-0500
TZNAME:EST
DTSTART:20211107T060000
END:STANDARD
BEGIN:DAYLIGHT
TZOFFSETFROM:-0500
TZOFFSETTO:-0400
TZNAME:EDT
DTSTART:20220313T070000
END:DAYLIGHT
BEGIN:STANDARD
TZOFFSETFROM:-0400
TZOFFSETTO:-0500
TZNAME:EST
DTSTART:20221106T060000
END:STANDARD
END:VTIMEZONE
BEGIN:VEVENT
DTSTART;TZID=America/New_York:20200926T120000
DTEND;TZID=America/New_York:20201129T160000
DTSTAMP:20260420T221514
CREATED:20201026T211523Z
LAST-MODIFIED:20201120T124222Z
UID:19559-1601121600-1606665600@www.bucksarts.org
SUMMARY:The Conversation Continues | Now through November 29
DESCRIPTION:The Conversation Continues is an iteration of a previous show\, Conversations: Finding Connections which was seen in 2019 at Art Times Two\, the gallery at Princeton Brain and Spine\, Princeton. The present show has enlarged its scope by adding one painter and six sculptors to the original nine painters and printmakers. This abstract exhibition of regional artists was curated by Madelaine Shellaby. Go to ellarslie.org and sign up for Timed Entry: 12:00 pm – 4:00 pm on Fridays\, Saturdays or Sundays. In the Museum extended through November 29\, 2020.
URL:https://www.bucksarts.org/event/the-conversation-continues-now-through-november-29/
LOCATION:The Trenton City Museum at Ellarslie Mansion\, 299 Parkside Avenue\, Trenton\, NJ\, 08618\, United States
ATTACH;FMTTYPE=image/jpeg:https://www.bucksarts.org/wp-content/uploads/2020/11/art-card-email-front.jpg
END:VEVENT
BEGIN:VEVENT
DTSTART;TZID=America/New_York:20201003T080000
DTEND;TZID=America/New_York:20201205T170000
DTSTAMP:20260420T221515
CREATED:20201023T152903Z
LAST-MODIFIED:20201120T124255Z
UID:17359-1601712000-1607187600@www.bucksarts.org
SUMMARY:Art of Preservation: “Through the Artist’s Eyes” | Oct. 3 - Dec. 5
DESCRIPTION:The Art of Preservation is an all-volunteer\, non-profit 501 (c) 3 fundraising organization committed to the preservation and revitalization of Upper Bucks County\, Pennsylvania. This year\, their exhibition is online\, and will benefit the Quakertown Food Pantry and The Lord’s Pantry in Upper Bucks. A small donation is required to log on to see the show.
URL:https://www.bucksarts.org/event/art-of-preservation-through-the-artists-eyes-oct-3-dec-5/
LOCATION:Art of Preservation\, 3147 Route 212 | P.O. Box 70\, Springtown\, PA\, 18081\, United States
ATTACH;FMTTYPE=image/jpeg:https://www.bucksarts.org/wp-content/uploads/2020/11/Through-the-Artists-Eyes_The-Art-of-Preservation.jpg
ORGANIZER;CN="Art of Preservation":MAILTO:ArtofPreservation@gmail.com
END:VEVENT
BEGIN:VEVENT
DTSTART;TZID=America/New_York:20201023T180000
DTEND;TZID=America/New_York:20201115T170000
DTSTAMP:20260420T221515
CREATED:20201022T175053Z
LAST-MODIFIED:20201120T124653Z
UID:17351-1603476000-1605459600@www.bucksarts.org
SUMMARY:Artists of Yardley Art Center: 9th Annual Juried Art Show & Outdoor Opening Reception | Oct. 23 - Nov. 15
DESCRIPTION:Artists of Yardley was founded in 2004. In 2010\, the organization incorporated as AOY Art Center. It is a non-profit organization dedicated to nurturing the creative spirit of the community by educating and encouraging individuals to experience\, appreciate\, and share in the arts.\nTheir 9th Annual Juried Art Show is virtual and in-person.\nTimed reservations are required for the in-person reception on October 23 from 6-8 pm.\nTimed reservations are also required for the in-person exhibition. The gallery is open Fridays\, Saturdays\, and Sundays from noon to 5 pm beginning October 24.
URL:https://www.bucksarts.org/event/artists-of-yardley-art-center-9th-annual-juried-art-show/
LOCATION:Artists of Yardley\, 949 Mirror Lake Road\, Yardley\, PA\, 19067\, United States
ATTACH;FMTTYPE=image/jpeg:https://www.bucksarts.org/wp-content/uploads/2020/11/Artists-of-Yardley_9th-Annual-Juried-Show.jpg
END:VEVENT
BEGIN:VEVENT
DTSTART;TZID=America/New_York:20201110T080000
DTEND;TZID=America/New_York:20201115T233000
DTSTAMP:20260420T221515
CREATED:20201023T150136Z
LAST-MODIFIED:20201120T125038Z
UID:17493-1604995200-1605483000@www.bucksarts.org
SUMMARY:Open Registration | Now through November 15 - "Bucks County: Wish You Were Here" Exhibition
DESCRIPTION:OPEN REGISTRATION for the latest Arts & Cultural Council of Bucks County and Visit Bucks County’s online exhibition\, sale\, and postcard competition is underway\, from now through November 15. \nREGISTER: After registering for the show\, artists travel throughout Bucks County between September 22 and November 15 to create postcard-sized original 2-D and 3-D works in celebration of our County’s beloved locations. \nCREATE: Representational and abstract artists working in all media will capture the essence of Bucks County highlights – covered bridges\, historical venues\, museums and cultural centers\, street fronts\, rolling hillsides\, farmlands\, covered bridges\, lakes\, river views\, broad vistas\, intimate corners\, and more! Registered artists submit process photos to the Arts & Cultural Council for ongoing social media promotion. The top six works will be reproduced on postcards and distributed throughout Bucks County through this unique partnership with Visit Bucks County. \nSUBMIT: Artist send images\, an artist’s statement\, and details to the A&C on or before November 15. Show opens December 1 and runs through January 31\, 2021.
URL:https://www.bucksarts.org/event/open-registration-bucks-county-wish-you-were-here-a-small-works-exhibit/
LOCATION:Online Exhibition & Sale\, PA\, United States
ATTACH;FMTTYPE=image/jpeg:https://www.bucksarts.org/wp-content/uploads/2020/11/WISH_calendargraphic-01-1-1536x864-1.jpg
ORGANIZER;CN="1289":MAILTO:info@bucksarts.org
END:VEVENT
BEGIN:VEVENT
DTSTART;TZID=America/New_York:20201115T130000
DTEND;TZID=America/New_York:20201115T150000
DTSTAMP:20260420T221515
CREATED:20201029T132540Z
LAST-MODIFIED:20201029T132540Z
UID:24461-1605445200-1605452400@www.bucksarts.org
SUMMARY:Bucks County 44th Poet Laureate Reading + Celebration
DESCRIPTION:Please join us for the annual Bucks County Poet Laureate Reading and Reception\, featuring 2020 Poet Laureate\, Jane Edna Mohler. Jane\, a native of Bucks County\, is the author of “Broken Umbrellas” (Kelsay Books\, 2019)\, a full-length book of poetry. Her work has appeared in a vast collection of publications and anthologies\, among them: The Boston Globe\, The Schuykill Valley Journal\, and River Heron Review. Jane is the 2016 winner of the Main Street Voices poetry competition and a two-time nominee for the Pushcart Prize. \nJane will be joined by 2019 Poet Laureate\, Mary Jo LoBello Jerome\, Judge Liz Chang\, and 2020 Runners-Up\, Jenny Isaacs\, Maureen Connolly\, and Melinda Rizzo. \nThis reading will be broadcast on the Bucks County Community College YouTube Channel: youtube.com/user/BucksCCC \nNo registration is required.
URL:https://www.bucksarts.org/event/bucks-county-44th-poet-laureate-reading-celebration/
LOCATION:Bucks County Community College\, 275 Swamp Rd\, Newtown\, PA\, 18940\, United States
ATTACH;FMTTYPE=image/png:https://www.bucksarts.org/wp-content/uploads/2020/10/Screen-Shot-2020-10-29-at-9.13.16-AM.png
END:VEVENT
BEGIN:VEVENT
DTSTART;TZID=America/New_York:20201119T190000
DTEND;TZID=America/New_York:20201119T200000
DTSTAMP:20260420T221515
CREATED:20201023T145837Z
LAST-MODIFIED:20201120T125159Z
UID:17343-1605812400-1605816000@www.bucksarts.org
SUMMARY:River Heron Review Online Fall Reading Series
DESCRIPTION:River Heron Review celebrates another season highlighting the poetry of their past and current contributors. Join us on Zoom for the poets and poems of our recent special issue\, Poems\, for Now. Reading will be: C.Patrice Ares-Christian\, Jerome Gagnon\, Maurya Kerr\, Lavinia Kumar\, Kathleen Latham\, Jennifer Pierson\, and Ellen Steinbaum.  \nRegistration is required for this free event. bit.ly/poetsrhr \nHosted by RHR editors Robbin Farr and Judith Lagana.
URL:https://www.bucksarts.org/event/river-heron-review-online-fall-reading-series/
LOCATION:River Heron Review Zoom\, Online Poetry Journal\, Bucks County\, PA\, United States
ATTACH;FMTTYPE=image/jpeg:https://www.bucksarts.org/wp-content/uploads/2020/11/Fall-Series-1-1.jpg
ORGANIZER;CN="River Heron Review":MAILTO:EDITORS@RIVERHERONREVIEW.COM
END:VEVENT
BEGIN:VEVENT
DTSTART;TZID=America/New_York:20201121T120000
DTEND;TZID=America/New_York:20210120T180000
DTSTAMP:20260420T221515
CREATED:20201115T174030Z
LAST-MODIFIED:20201120T124330Z
UID:58700-1605960000-1611165600@www.bucksarts.org
SUMMARY:Works in Wood at New Hope ARTS Center - Online & In Gallery - Nov. 21 - Jan. 10
DESCRIPTION:Join New Hope ARTS for their 21st Annual Juried Exhibition of Contemporary Woodworking Honoring the Bucks County Tradition.\nA full roster of 40 regional contemporary artists honors the rich cultural heritage of Bucks County woodworkers George Nakashima\, Mark Sfirri\, Jeffrey Greene\, Robert Whitley\, Phillip Lloyd Powell\, David Ellsworth\, Paul Evans\, and more in this noteworthy annual exhibition and sale. Their works also celebrate new visions of contemporary artists in both functional and decorative pieces.\nThe New Hope ARTS Center is located at 2 Stockton Avenue | 2nd Floor | New Hope\, PA. The gallery is open Friday\, Saturday\, and Sunday from noon to 5 pm; the exhibition is also online.\nPoster designed by Arts & Cultural Council Member and exhibiting artist Cathy Begg.
URL:https://www.bucksarts.org/event/works-in-wood-at-new-hope-arts-center-online-in-gallery-nov-21-jan-10/
LOCATION:New Hope Arts Inc\, 2 Stockton Ave\, 2nd Flr\, New Hope\, PA\, 18938\, United States
CATEGORIES:Members Event
ATTACH;FMTTYPE=image/jpeg:https://www.bucksarts.org/wp-content/uploads/2020/11/11.21-Cathy-Begg-Poster-1-1638x2048-1.jpg
GEO:40.364055;-74.9531262
X-APPLE-STRUCTURED-LOCATION;VALUE=URI;X-ADDRESS=New Hope Arts Inc 2 Stockton Ave 2nd Flr New Hope PA 18938 United States;X-APPLE-RADIUS=500;X-TITLE=2 Stockton Ave\, 2nd Flr:geo:-74.9531262,40.364055
END:VEVENT
END:VCALENDAR