BEGIN:VCALENDAR
VERSION:2.0
PRODID:-//Arts &amp; Cultural Council of Bucks County - ECPv6.15.18//NONSGML v1.0//EN
CALSCALE:GREGORIAN
METHOD:PUBLISH
X-ORIGINAL-URL:https://www.bucksarts.org
X-WR-CALDESC:Events for Arts &amp; Cultural Council of Bucks County
REFRESH-INTERVAL;VALUE=DURATION:PT1H
X-Robots-Tag:noindex
X-PUBLISHED-TTL:PT1H
BEGIN:VTIMEZONE
TZID:America/New_York
BEGIN:DAYLIGHT
TZOFFSETFROM:-0500
TZOFFSETTO:-0400
TZNAME:EDT
DTSTART:20180311T070000
END:DAYLIGHT
BEGIN:STANDARD
TZOFFSETFROM:-0400
TZOFFSETTO:-0500
TZNAME:EST
DTSTART:20181104T060000
END:STANDARD
BEGIN:DAYLIGHT
TZOFFSETFROM:-0500
TZOFFSETTO:-0400
TZNAME:EDT
DTSTART:20190310T070000
END:DAYLIGHT
BEGIN:STANDARD
TZOFFSETFROM:-0400
TZOFFSETTO:-0500
TZNAME:EST
DTSTART:20191103T060000
END:STANDARD
BEGIN:DAYLIGHT
TZOFFSETFROM:-0500
TZOFFSETTO:-0400
TZNAME:EDT
DTSTART:20200308T070000
END:DAYLIGHT
BEGIN:STANDARD
TZOFFSETFROM:-0400
TZOFFSETTO:-0500
TZNAME:EST
DTSTART:20201101T060000
END:STANDARD
END:VTIMEZONE
BEGIN:VEVENT
DTSTART;TZID=America/New_York:20190516T170000
DTEND;TZID=America/New_York:20190516T193000
DTSTAMP:20260422T185942
CREATED:20190426T180307Z
LAST-MODIFIED:20190426T180720Z
UID:2049-1558026000-1558035000@www.bucksarts.org
SUMMARY:The Art of Oscar- Members' & Exhibiting Artists' Reception
DESCRIPTION:May 16 | 5-7:30 pm – Arts & Cultural Council\nmembers’ and exhibiting artists’ reception\nHighland Farm
URL:https://www.bucksarts.org/event/the-art-of-oscar-members-exhibiting-artists-reception/
LOCATION:Highland Farm\, 70 East Rd\, Doylestown\, United States
CATEGORIES:Council Events,Members Event
ATTACH;FMTTYPE=image/jpeg:https://www.bucksarts.org/wp-content/uploads/2019/04/AAart-of-oscar-for-events-site-1.jpg
END:VEVENT
BEGIN:VEVENT
DTSTART;TZID=America/New_York:20190517T170000
DTEND;TZID=America/New_York:20190517T193000
DTSTAMP:20260422T185942
CREATED:20190426T180210Z
LAST-MODIFIED:20190426T180640Z
UID:2053-1558112400-1558121400@www.bucksarts.org
SUMMARY:The Art of Oscar - Hammerstein Doners - VIP Pre-Sale
DESCRIPTION:May 17 | 5-7:30 pm – Pre-sale VIP reception for Hammerstein donors
URL:https://www.bucksarts.org/event/the-art-of-oscar-hammerstein-doners-vip-pre-sale/
LOCATION:Highland Farm\, 70 East Rd\, Doylestown\, United States
CATEGORIES:Council Events,Members Event
ATTACH;FMTTYPE=image/jpeg:https://www.bucksarts.org/wp-content/uploads/2019/04/AAart-of-oscar-for-events-site-2.jpg
END:VEVENT
BEGIN:VEVENT
DTSTART;TZID=America/New_York:20190518T100000
DTEND;TZID=America/New_York:20190518T160000
DTSTAMP:20260422T185942
CREATED:20190516T151634Z
LAST-MODIFIED:20190516T151634Z
UID:2082-1558173600-1558195200@www.bucksarts.org
SUMMARY:Arts Alive! Arts & Crafts Festival
DESCRIPTION:Family Friendly Fun in the Heart of Upper Bucks county. Diverse artists and crafters will line Broad Street in downtown Quakertown along with food\, children’s activities\, chalk drawing contest\, and live entertainment.
URL:https://www.bucksarts.org/event/arts-alive-arts-crafts-festival/
LOCATION:PA\, United States
ATTACH;FMTTYPE=image/jpeg:https://www.bucksarts.org/wp-content/uploads/2019/05/arts-ad-1600-rezied.jpg
END:VEVENT
BEGIN:VEVENT
DTSTART;TZID=America/New_York:20190518T120000
DTEND;TZID=America/New_York:20190518T160000
DTSTAMP:20260422T185942
CREATED:20190426T180132Z
LAST-MODIFIED:20190903T135803Z
UID:2056-1558180800-1558195200@www.bucksarts.org
SUMMARY:The Art of Oscar - Art Exhibition and Sale -- Open to the Public
DESCRIPTION:May 18 | noon-4pm – Art Exhibition and Sale\nFree and Open to the Public
URL:https://www.bucksarts.org/event/the-art-of-oscar-art-exhibition-and-sale-_open-to-the-public/
LOCATION:Highland Farm\, 70 East Rd\, Doylestown\, United States
CATEGORIES:Council Events,Members Event
ATTACH;FMTTYPE=image/jpeg:https://www.bucksarts.org/wp-content/uploads/2019/04/AAart-of-oscar-for-events-site-3.jpg
END:VEVENT
END:VCALENDAR