BEGIN:VCALENDAR
VERSION:2.0
PRODID:-//Arts &amp; Cultural Council of Bucks County - ECPv6.15.18//NONSGML v1.0//EN
CALSCALE:GREGORIAN
METHOD:PUBLISH
X-WR-CALNAME:Arts &amp; Cultural Council of Bucks County
X-ORIGINAL-URL:https://www.bucksarts.org
X-WR-CALDESC:Events for Arts &amp; Cultural Council of Bucks County
REFRESH-INTERVAL;VALUE=DURATION:PT1H
X-Robots-Tag:noindex
X-PUBLISHED-TTL:PT1H
BEGIN:VTIMEZONE
TZID:America/New_York
BEGIN:DAYLIGHT
TZOFFSETFROM:-0500
TZOFFSETTO:-0400
TZNAME:EDT
DTSTART:20180311T070000
END:DAYLIGHT
BEGIN:STANDARD
TZOFFSETFROM:-0400
TZOFFSETTO:-0500
TZNAME:EST
DTSTART:20181104T060000
END:STANDARD
BEGIN:DAYLIGHT
TZOFFSETFROM:-0500
TZOFFSETTO:-0400
TZNAME:EDT
DTSTART:20190310T070000
END:DAYLIGHT
BEGIN:STANDARD
TZOFFSETFROM:-0400
TZOFFSETTO:-0500
TZNAME:EST
DTSTART:20191103T060000
END:STANDARD
BEGIN:DAYLIGHT
TZOFFSETFROM:-0500
TZOFFSETTO:-0400
TZNAME:EDT
DTSTART:20200308T070000
END:DAYLIGHT
BEGIN:STANDARD
TZOFFSETFROM:-0400
TZOFFSETTO:-0500
TZNAME:EST
DTSTART:20201101T060000
END:STANDARD
END:VTIMEZONE
BEGIN:VEVENT
DTSTART;TZID=America/New_York:20190311T190000
DTEND;TZID=America/New_York:20190311T203000
DTSTAMP:20260419T181020
CREATED:20190305T162844Z
LAST-MODIFIED:20190305T162844Z
UID:1935-1552330800-1552336200@www.bucksarts.org
SUMMARY:Creatrix – A Choral Celebration of Women Composers
DESCRIPTION:Performed by students of the BCCC Concert Choir and Percussion Ensemble\, this concert honors the value of a single citizen\, male or female\, in a modern society. Planned in conjunction with the exhibition “And this is how you are a citizen…” in Hicks Art Center Gallery. \nMusic & Multimedia Center\, Presser Room
URL:https://www.bucksarts.org/event/creatrix-a-choral-celebration-of-women-composers/
LOCATION:Bucks County Community College\, 275 Swamp Rd\, Newtown\, PA\, 18940\, United States
CATEGORIES:Members Event
END:VEVENT
BEGIN:VEVENT
DTSTART;TZID=America/New_York:20190312T080000
DTEND;TZID=America/New_York:20190312T163000
DTSTAMP:20260419T181020
CREATED:20190211T162017Z
LAST-MODIFIED:20190211T162017Z
UID:1810-1552377600-1552408200@www.bucksarts.org
SUMMARY:“And this is how you are a citizen …”
DESCRIPTION:January 23 – March 12\, 2019 \nA reflection on gendered citizenship\, families\, identities\, and belonging/s\, the exhibition consists of video\, repurposed objects\, paintings\, and prints by artists Catherine Pancake\, Michelle Angela Ortiz\, and Imani Roach. Each of the individual artists’ work considers personal history and citizenship as a multi-tiered construct which applies to membership\, position and relationship between the individual\, community\, state and society.\nMaria Dumlao\, curator. \nFree and open to the public.\nFor more information\, visit www.bucks.edu/gallery or call 215-968-8425. \nGallery hours:\nMonday and Friday\, 9 a.m. to 4 p.m.\nTuesday\, Wednesday\, Thursday\, 9 a.m. to 8 p.m.\nSaturday\, 10 a.m. to 2 p.m.
URL:https://www.bucksarts.org/event/and-this-is-how-you-are-a-citizen/
LOCATION:Hicks Art Center Gallery\, 275 Swamp Rd`\, Newtown\, PA\, 18940\, United States
CATEGORIES:Members Event
END:VEVENT
BEGIN:VEVENT
DTSTART;TZID=America/New_York:20190315T180000
DTEND;TZID=America/New_York:20190315T213000
DTSTAMP:20260419T181020
CREATED:20190221T201228Z
LAST-MODIFIED:20190221T201228Z
UID:1843-1552672800-1552685400@www.bucksarts.org
SUMMARY:Celtic Crushing - Larry Kirwan's St Patrick Day Concert
DESCRIPTION:Larry Kirwan of Black 47 – host of Celtic Crush on SiriusXM – brings his St. Patrick’s Week show to Bucks Live! He’ll be joined by another Black 47 alumnus\, piper/fiddler/flautist/vocalist Andrew Sharp\, to revisit many of the Black 47 songs that have become standards\, including Funky Ceili and Livin’ in America. They’ll get the crowd to its feet and raise the roof with some traditional Irish tunes and new original music alogn with songs from his musical theatre career\, including Hard Times (before an expected Fall 19 Broadway debut.) Come and get your Irish on at Bucks!\nSing along with Bucks County own Hobnail as they play traditional Irish songs\, free 6- 7::30\,pm in lobby.\nGet your VIP tickets that include beer\, wine\, nonalcoholic drinks and food.\nTICKETS: VIP – $30 / GA -$20/ Bucks Students – FREE
URL:https://www.bucksarts.org/event/celtic-crushing-larry-kirwans-st-patrick-day-concert/
LOCATION:Zlock Performing Arts Center\, 275 Swamp Rd\, Newtown\, 18940\, United States
CATEGORIES:Members Event
ATTACH;FMTTYPE=image/jpeg:https://www.bucksarts.org/wp-content/uploads/2019/02/LarryKirwanFlyer.jpg
ORGANIZER;CN="Zlock Performing Arts Center":MAILTO:peter.chiovarou@bucks.edu
GEO:40.2390377;-74.9671789
X-APPLE-STRUCTURED-LOCATION;VALUE=URI;X-ADDRESS=Zlock Performing Arts Center 275 Swamp Rd Newtown 18940 United States;X-APPLE-RADIUS=500;X-TITLE=275 Swamp Rd:geo:-74.9671789,40.2390377
END:VEVENT
END:VCALENDAR