BEGIN:VCALENDAR
VERSION:2.0
PRODID:-//Arts &amp; Cultural Council of Bucks County - ECPv6.15.18//NONSGML v1.0//EN
CALSCALE:GREGORIAN
METHOD:PUBLISH
X-ORIGINAL-URL:https://www.bucksarts.org
X-WR-CALDESC:Events for Arts &amp; Cultural Council of Bucks County
REFRESH-INTERVAL;VALUE=DURATION:PT1H
X-Robots-Tag:noindex
X-PUBLISHED-TTL:PT1H
BEGIN:VTIMEZONE
TZID:America/New_York
BEGIN:DAYLIGHT
TZOFFSETFROM:-0500
TZOFFSETTO:-0400
TZNAME:EDT
DTSTART:20180311T070000
END:DAYLIGHT
BEGIN:STANDARD
TZOFFSETFROM:-0400
TZOFFSETTO:-0500
TZNAME:EST
DTSTART:20181104T060000
END:STANDARD
BEGIN:DAYLIGHT
TZOFFSETFROM:-0500
TZOFFSETTO:-0400
TZNAME:EDT
DTSTART:20190310T070000
END:DAYLIGHT
BEGIN:STANDARD
TZOFFSETFROM:-0400
TZOFFSETTO:-0500
TZNAME:EST
DTSTART:20191103T060000
END:STANDARD
BEGIN:DAYLIGHT
TZOFFSETFROM:-0500
TZOFFSETTO:-0400
TZNAME:EDT
DTSTART:20200308T070000
END:DAYLIGHT
BEGIN:STANDARD
TZOFFSETFROM:-0400
TZOFFSETTO:-0500
TZNAME:EST
DTSTART:20201101T060000
END:STANDARD
END:VTIMEZONE
BEGIN:VEVENT
DTSTART;TZID=America/New_York:20190228T193000
DTEND;TZID=America/New_York:20190228T213000
DTSTAMP:20260421T094110
CREATED:20190304T213338Z
LAST-MODIFIED:20190304T213338Z
UID:1852-1551382200-1551389400@www.bucksarts.org
SUMMARY:Danilo Perez's Global Mesangers
DESCRIPTION:Danilo Pérez is a man with some serious jazz cred… The Panamanian pianist got his start playing with Dizzy Gillespie\, and continued with Wayne Shorter… As a composer and bandleader himself\, he’s practically peerless… Danilo Pérez’s Global Messengers project advances a mission where music serves as a natural remedy to unfortunate situations\, providing an uplifting message\, connection and common ground which is wholly relevant today.\nTICKETS: VIP- $35 /GA -$25/ Bucks Students Free
URL:https://www.bucksarts.org/event/danilo-perezs-global-mesangers/
LOCATION:Zlock Performing Arts Center\, 275 Swamp Rd\, Newtown\, 18940\, United States
CATEGORIES:Members Event
ATTACH;FMTTYPE=image/jpeg:https://www.bucksarts.org/wp-content/uploads/2019/02/DaniloPerezFlyer.jpg
ORGANIZER;CN="Zlock Performing Arts Center":MAILTO:peter.chiovarou@bucks.edu
GEO:40.2390377;-74.9671789
X-APPLE-STRUCTURED-LOCATION;VALUE=URI;X-ADDRESS=Zlock Performing Arts Center 275 Swamp Rd Newtown 18940 United States;X-APPLE-RADIUS=500;X-TITLE=275 Swamp Rd:geo:-74.9671789,40.2390377
END:VEVENT
BEGIN:VEVENT
DTSTART;TZID=America/New_York:20190301T080000
DTEND;TZID=America/New_York:20190301T170000
DTSTAMP:20260421T094110
CREATED:20190301T164138Z
LAST-MODIFIED:20190301T164525Z
UID:1863-1551427200-1551459600@www.bucksarts.org
SUMMARY:Call to Artists:  The Art of Oscar Members Event and Open Competition
DESCRIPTION:OPEN COMPETITION\nJoin the Arts & Cultural Council of Bucks County and Highland Farm\nfor the Art of Oscar\, a unique celebration and competition. Artists are\ninvited to create works inspired by Oscar Hammerstein’s life\, his music\,\nhis service\, and his home\, and submit them for awards\, exhibition\, and\nsale at Highland Farm in May. \nELIGIBILITY\nThe Art of Oscar is open to all visual artists ages 16 and older. The top 100 selected pieces will\nbe included in the exhibition and sale\, featuring the work of 80 adult artists and 20 student artists.\n \n  AWARDS \n  Professional artists/jurors will award prizes for outstanding accomplishments in the visual arts.\n1st Prize “The Oscar” $500\n2nd Prize $300\n3rd Prize $100\n2 Honorable Mention Awards $50 \nMore information and Entry form HERE
URL:https://www.bucksarts.org/event/call-to-artists-the-art-of-oscar-members-event-and-open-competition/2019-03-01/
LOCATION:PA
CATEGORIES:Council Events,Members Event
END:VEVENT
END:VCALENDAR