BEGIN:VCALENDAR
VERSION:2.0
PRODID:-//Arts &amp; Cultural Council of Bucks County - ECPv6.15.18//NONSGML v1.0//EN
CALSCALE:GREGORIAN
METHOD:PUBLISH
X-WR-CALNAME:Arts &amp; Cultural Council of Bucks County
X-ORIGINAL-URL:https://www.bucksarts.org
X-WR-CALDESC:Events for Arts &amp; Cultural Council of Bucks County
REFRESH-INTERVAL;VALUE=DURATION:PT1H
X-Robots-Tag:noindex
X-PUBLISHED-TTL:PT1H
BEGIN:VTIMEZONE
TZID:America/New_York
BEGIN:DAYLIGHT
TZOFFSETFROM:-0500
TZOFFSETTO:-0400
TZNAME:EDT
DTSTART:20180311T070000
END:DAYLIGHT
BEGIN:STANDARD
TZOFFSETFROM:-0400
TZOFFSETTO:-0500
TZNAME:EST
DTSTART:20181104T060000
END:STANDARD
BEGIN:DAYLIGHT
TZOFFSETFROM:-0500
TZOFFSETTO:-0400
TZNAME:EDT
DTSTART:20190310T070000
END:DAYLIGHT
BEGIN:STANDARD
TZOFFSETFROM:-0400
TZOFFSETTO:-0500
TZNAME:EST
DTSTART:20191103T060000
END:STANDARD
BEGIN:DAYLIGHT
TZOFFSETFROM:-0500
TZOFFSETTO:-0400
TZNAME:EDT
DTSTART:20200308T070000
END:DAYLIGHT
BEGIN:STANDARD
TZOFFSETFROM:-0400
TZOFFSETTO:-0500
TZNAME:EST
DTSTART:20201101T060000
END:STANDARD
BEGIN:DAYLIGHT
TZOFFSETFROM:-0500
TZOFFSETTO:-0400
TZNAME:EDT
DTSTART:20210314T070000
END:DAYLIGHT
BEGIN:STANDARD
TZOFFSETFROM:-0400
TZOFFSETTO:-0500
TZNAME:EST
DTSTART:20211107T060000
END:STANDARD
BEGIN:DAYLIGHT
TZOFFSETFROM:-0500
TZOFFSETTO:-0400
TZNAME:EDT
DTSTART:20220313T070000
END:DAYLIGHT
BEGIN:STANDARD
TZOFFSETFROM:-0400
TZOFFSETTO:-0500
TZNAME:EST
DTSTART:20221106T060000
END:STANDARD
BEGIN:DAYLIGHT
TZOFFSETFROM:-0500
TZOFFSETTO:-0400
TZNAME:EDT
DTSTART:20230312T070000
END:DAYLIGHT
BEGIN:STANDARD
TZOFFSETFROM:-0400
TZOFFSETTO:-0500
TZNAME:EST
DTSTART:20231105T060000
END:STANDARD
BEGIN:DAYLIGHT
TZOFFSETFROM:-0500
TZOFFSETTO:-0400
TZNAME:EDT
DTSTART:20240310T070000
END:DAYLIGHT
BEGIN:STANDARD
TZOFFSETFROM:-0400
TZOFFSETTO:-0500
TZNAME:EST
DTSTART:20241103T060000
END:STANDARD
END:VTIMEZONE
BEGIN:VEVENT
DTSTART;TZID=America/New_York:20230625T130000
DTEND;TZID=America/New_York:20230930T160000
DTSTAMP:20260423T205551
CREATED:20230616T113612Z
LAST-MODIFIED:20230616T115234Z
UID:67717-1687698000-1696089600@www.bucksarts.org
SUMMARY:EO40 Ellarslie Open 40 | June 25-September 30
DESCRIPTION:A distinguished juried exhibition of regional artists at Ellarslie\, the Museum of the City of Trenton. 299 Parkside Avenue\, Trenton.\nSeveral A&C members have work in this show.\nOpening reception for the public\, Sunday\, June 25\, 1-4pm\nSee the exhibition Fridays\, Saturdays\, and Sundays\, from 1-4pm. Ends Saturday\, September 30.
URL:https://www.bucksarts.org/event/eo40-ellarslie-open-40/
LOCATION:The Trenton City Museum at Ellarslie Mansion\, 299 Parkside Avenue\, Trenton\, NJ\, 08618\, United States
ATTACH;FMTTYPE=image/png:https://www.bucksarts.org/wp-content/uploads/2023/06/Screenshot-2023-06-14-at-10.26.26-AM.png
END:VEVENT
BEGIN:VEVENT
DTSTART;TZID=America/New_York:20230617T130000
DTEND;TZID=America/New_York:20230617T160000
DTSTAMP:20260423T205551
CREATED:20230616T115932Z
LAST-MODIFIED:20230616T115932Z
UID:67669-1687006800-1687017600@www.bucksarts.org
SUMMARY:Ekphrastic Workshop- Altered Book Assemblage
DESCRIPTION:Join Assemblage Artist Rebecca Kelly and Poet Hayden Saunier for this workshop combining visual arts and poetry. We will create assemblages using the materials of old recycled books and the texts of old sayings and adages as a starting point to create an expanded or “exploded” exploration of interiors and exteriors\, of words as objects. Writers and visual artists of all experience levels are invited to expand and explore their creative processes.
URL:https://www.bucksarts.org/event/ekphrastic-workshop-altered-book-assemblage/
LOCATION:ArtWRKD\, 126 S State St\,\, Newtown\, PA 18940\, USA\, PA\, 18940\, United States
CATEGORIES:Members Event
ATTACH;FMTTYPE=image/png:https://www.bucksarts.org/wp-content/uploads/2023/06/Screen-Shot-2023-06-03-at-6.40.27-AM.png
END:VEVENT
BEGIN:VEVENT
DTSTART;TZID=America/New_York:20230224T100000
DTEND;TZID=America/New_York:20230410T170000
DTSTAMP:20260423T205551
CREATED:20230118T124708Z
LAST-MODIFIED:20230118T124708Z
UID:67033-1677232800-1681146000@www.bucksarts.org
SUMMARY:Winter Solo Series | Constance McBride
DESCRIPTION:Abington Art Center’s Solo Series offers artists the opportunity to show a body of work in an individual gallery. Over the course of the year\, 9-12 artists present an exhibition of their own design in one of Alverthorpe Manor’s historic rooms. For the Winter Solo Series 2023\, A&C Member Constance McBride will be presenting her series of clay sculptures titled “The Lonely Girls”.
URL:https://www.bucksarts.org/event/winter-solo-series-constance-mcbride/2023-02-24/
LOCATION:Abington Art Center\, 515 Meetinghouse Road\, Jenkintown\, PA\, 19046\, United States
ATTACH;FMTTYPE=image/jpeg:https://www.bucksarts.org/wp-content/uploads/2023/01/Constance-McBride-Lonely-Girl-Room-3104-ceramic.jpg
END:VEVENT
BEGIN:VEVENT
DTSTART;TZID=America/New_York:20230202T140000
DTEND;TZID=America/New_York:20230202T150000
DTSTAMP:20260423T205551
CREATED:20230127T125544Z
LAST-MODIFIED:20230127T125544Z
UID:67129-1675346400-1675350000@www.bucksarts.org
SUMMARY:Artist Talk with Helen Rebekah Garber
DESCRIPTION:Since 2012\, Helen Rebekah Garber has incorporated her science and nursing experiences into her art. As a way to cope with the stress\, trauma and uncertainty that came with working with patients during the pandemic\, Garber transferred daily calculations onto her paintings which are on view in the exhibition\, “Code Number Safe [Un]Safe” in the Hicks Art Center Gallery. For her Artist Talk\, Helen will reveal tactics she employs in both her artist and nursing practices while striving for homeostasis- a state of equilibrium “where art and life converge\, nourish\, and reimagine one another.” Helen will be in attendance and the talk will be on Zoom also at the following link: https://us06web.zoom.us/j/82012541962
URL:https://www.bucksarts.org/event/artist-talk-with-helen-rebekah-garber/
LOCATION:Zlock Performing Arts Center\, 275 Swamp Rd\, Newtown\, 18940\, United States
CATEGORIES:Members Event
ATTACH;FMTTYPE=image/jpeg:https://www.bucksarts.org/wp-content/uploads/2023/01/zlockimage.jpg
GEO:40.2390377;-74.9671789
X-APPLE-STRUCTURED-LOCATION;VALUE=URI;X-ADDRESS=Zlock Performing Arts Center 275 Swamp Rd Newtown 18940 United States;X-APPLE-RADIUS=500;X-TITLE=275 Swamp Rd:geo:-74.9671789,40.2390377
END:VEVENT
BEGIN:VEVENT
DTSTART;TZID=America/New_York:20221007T140000
DTEND;TZID=America/New_York:20221007T200000
DTSTAMP:20260423T205551
CREATED:20220922T100155Z
LAST-MODIFIED:20220922T100155Z
UID:66585-1665151200-1665172800@www.bucksarts.org
SUMMARY:OPEN HOUSE! Modern Fossils and David Horowitz Studio
DESCRIPTION:Join Modern Fossils and David Horowitz Studio for our OPEN HOUSE on Friday October 7th from 2pm – 8pm! \nAs part of The Hunterdon Art Tour’s First Friday Open Studio Series\, both David’s Barn / Workshop (More Art Studio) and Modern Fossils’ Greenhouse Studio will be open for touring! Additional works will be on display in our yard and home Gallery as well. \nThere will be snacks\, drinks\, and hot dogs on the grill\, plus live music in the yard! \nOur address is 207 Milford Rd\, right across from the Citgo Station Parking Lot (where there is usually plenty of parking).\nLook for the house with the huge wooden Pegasus Sculpture on the front porch\, and come around back!
URL:https://www.bucksarts.org/event/open-house-modern-fossils-and-david-horowitz-studio/
LOCATION:Modern Fossils\, 207 Milford Rd.\, Frenchtown\, NJ\, 08825\, United States
CATEGORIES:Members Event
ATTACH;FMTTYPE=image/jpeg:https://www.bucksarts.org/wp-content/uploads/2022/09/Judith-David-in-front-of-Greenhouse-Studio_Frenchtown-NJ.jpg
ORGANIZER;CN="Modern Fossils":MAILTO:modernfossils@yahoo.com
END:VEVENT
BEGIN:VEVENT
DTSTART;TZID=America/New_York:20220923T120000
DTEND;TZID=America/New_York:20221022T170000
DTSTAMP:20260423T205551
CREATED:20220912T185023Z
LAST-MODIFIED:20220912T185308Z
UID:66544-1663934400-1666458000@www.bucksarts.org
SUMMARY:the beauty of stillness
DESCRIPTION:Crispness is in the air. A modest destabilization. Your jacket crossed tight to guard against a chilly wind. A confusion. Ennui. Loneliness. Autumn\, though full of decay\, has a marked beauty\, like a poem written in longing. Like the season of fall itself\, the four artists of The Beauty of Stillness conjure tender reflective moments that are marked by pangs of uncertainty\, yearning\, and beauty. \nFeaturing:\nA&C member Constance McBride\, Daria Panichas\, Geoffrey Ansel Agrons\, and Richard Hricko \nDates and Times: 9/23/22 – 10/22/22\nWednesday – Friday\, noon-6pm; Saturday\, noon-5pm\nSecond Thursday Reception: October 13\, 2022 \nLocation: InLiquid Gallery at Crane Arts1400 North American Street\, 1st FloorPhiladelphia\, PA(215) 235-3405
URL:https://www.bucksarts.org/event/the-beauty-of-stillness-inliquid-gallery-at-crane-arts/
LOCATION:InLiquid Gallery at Crane Arts\, In Liquid Gallery at Crane Arts 1400 North American Street\, 1st Floor\, Philadelphia\, PA\, United States
CATEGORIES:Members Event
ATTACH;FMTTYPE=image/jpeg:https://www.bucksarts.org/wp-content/uploads/2022/09/A04CBE8E-8F46-4D48-93FA-532B35BE36B1.jpeg
END:VEVENT
BEGIN:VEVENT
DTSTART;TZID=America/New_York:20220402T100000
DTEND;TZID=America/New_York:20220402T130000
DTSTAMP:20260423T205551
CREATED:20220318T113705Z
LAST-MODIFIED:20220323T105304Z
UID:65618-1648893600-1648904400@www.bucksarts.org
SUMMARY:A Fluid Art Experience | April 2
DESCRIPTION:Join career artist and art instructor Adriana Groza for an ALL Inclusive\, interactive and engaging hands-on Fluid Acrylics Experience! Remove limiting beliefs\, try something new\, and enjoy a couple of hours of creative time\, in the artist’s personal studio. \nWhat is included: \n\nA professional grade canvas (deep edge gallery wrapped) 16×20 inches\, taped and gesso-ed is prepared ahead of time for each participant.\n5-7 color paints\ntools for individual use during the session: hairdryer\, spatula\, paper towels\, paper straws\, etc\ndedicated work area\, spaced and previously prepared (all work is done horizontally)\nGourmet refreshments (charcuterie board\, non alcoholic beverages)\n\nAgenda: \n\nIntroductions (instructor\, attendees\, goals and vision for the workshop)\nIntroduction to Fluid Acrylics (brief history\, trends\, my approach)\nIntroduction\, presentation and demonstration of the use of tools and materials\nPainting time\nClose-out discussion\n\nNote: All paintings created during the class will remain in the studio for a minimum of 2 days before pick-up\, so they may dry undisturbed. \nRegistration required: https://forms.gle/KMBEpzibnM88runc6
URL:https://www.bucksarts.org/event/a-fluid-art-experience-april-2/2022-04-02/
LOCATION:Adriana Groza personal studio\, 321 Buttonwood Street\, Hamilton Township\, NJ\, 08619\, United States
CATEGORIES:Members Event
ATTACH;FMTTYPE=image/png:https://www.bucksarts.org/wp-content/uploads/2022/03/Original-size-adriana-groza-art-15-1.png
ORGANIZER;CN="Adriana Groza Art LLC":MAILTO:adriana.groza@gmail.com
END:VEVENT
BEGIN:VEVENT
DTSTART;TZID=America/New_York:20211203T140000
DTEND;TZID=America/New_York:20220221T190000
DTSTAMP:20260423T205551
CREATED:20211204T145043Z
LAST-MODIFIED:20211204T145214Z
UID:64766-1638540000-1645470000@www.bucksarts.org
SUMMARY:THE JOY OF ART! • ARTISTS OF BRISTOL • 2-7pm • M-F
DESCRIPTION:ARTISTS OF BRISTOL ON THE DELAWARE PRESENTS THE LOWER BUCKS HOSPITAL WINTER ART SHOW\, “THE JOY OF ART!”\nThis exclusive winter show runs now until February 21\, 2022 • 2-7pm M-F. \nThe Artists of Bristol group wants you to know they have the easiest and perfect gift giving idea for this holiday season – by purchasing beautifully FRAMED ARTWORK CREATED BY LOCAL BUCKS COUNTY ARTISTS! \nDisplayed inside at the Lower Bucks Hospital in Bristol\, Pa come browse the gallery walls for your holiday gifts of over 100 pieces of dazzling framed artwork created by 13 talented and recognized artists from the communities of:\n-Bensalem\, Bristol\, Croydon\, Doylestown\, Erwinna\, Levittown\, Morrisville\, Philadelphia\, Southampton- \nCurrent artists exhibiting (alphabetically):\nKristen Baker • Gail Bracegirdle • Rick Burkhart • Deborah Eater • Ernest Koch • Rodney Miller • Gerry Mulligan • Boyd Owens • Christina Poruczynski • Janice Rhodes • Ilene Rubin • Marty Shively • Rose Marie Strippoli \nThese works of contemporary and unique art pieces are ready for hanging and purchase. \nFramed sizes range from 5in. x 5in. to 25in. x 30in. \nSee below the mediums used by the artists to consider when choosing artwork for your friends and family at this very special exhibition:\n• Acrylics\, Acrylic on Scratchboard\, Acrylic Collage\n• Alcohol Ink\n• Collage/Mixed Media\n• Colored Pencil\n• Digital Photo On Canvas\, Linen Paper\, Luster Cotton Paper\, Metallic Paper\, Watercolor Paper\n• Ink\, Mixed Media\n• Oil\, Oil on Panel\, Oil Pastel\n• Paper Collage\n• Pastel\n• Photography\, Photograph on Rough Mulberry Paper\n• Watercolor\, Watercolor Monoprint & Collage \n(As a reminder\, your safety comes first with the hospital’s Covid protocols in place requiring masks and a covid check-in at the security desk. Please note visiting hours are 2-7pm\, M-F) \nThis is a FREE exhibition running till February 21\, 2022 at Bristol’s Lower Bucks Hospital located at the main lobby entrance with free parking. \nLower Bucks Hospital • 501 Bath Rd • Bristol\, PA 19007 • 2-7pm\, M-F \nContact us – we’re friendly artists! • www.artistsofbristol.com • All creative people on any skill level are welcome to join us!
URL:https://www.bucksarts.org/event/the-joy-of-art-lower-bucks-hospital-2-7pm-m-f/2021-12-03/
LOCATION:Lower Bucks Hospital\, 501 Bath Road\, Bristol\, PA\, United States
CATEGORIES:Members Event
ATTACH;FMTTYPE=image/jpeg:https://www.bucksarts.org/wp-content/uploads/2021/12/LBH-FB-Event-Winter-2021.jpg
END:VEVENT
BEGIN:VEVENT
DTSTART;VALUE=DATE:20210605
DTEND;VALUE=DATE:20210903
DTSTAMP:20260423T205551
CREATED:20210530T122723Z
LAST-MODIFIED:20210614T182959Z
UID:62883-1622851200-1630627199@www.bucksarts.org
SUMMARY:OUT N’ ABOUT IN BUCKS COUNTY ART SHOW! June 5-September 2
DESCRIPTION:Featured artwork\, from left to right: \n\nLinda Grafius\, Acrylics\nMarjorie Trush\, Watercolor\nMaureen Finger\, Pencil and Pastels\nRobin Robinson\, Photography\n\nIt’s the long-awaited SUMMERTIME ART EXHIBIT called OUT N’ ABOUT IN BUCKS COUNTY and found only inside Bristol’s Lower Bucks Hospital!\nInside the gallery walls at Lower Bucks Hospital (entering at the main entrance) you will find beautifully hung\, original and creative artworks available for purchase from the talented and popular Artists of Bristol on the Delaware group.\nAnd here are just some of the mediums used:\n• Acrylic\n• Acrylic on Wood\n• Alcohol Ink\n• Colored Pencil\n• Digital Fractal Print\n• Hand Colored Photograph\n• Magazine Clippings\n• Mixed Media\n• Mixed Media Collage\n• Mosaic\n• Paper\n• Paper and Acrylic\n• Pastel\n• Pencil Photograph\n• Repurposed Oils on Panel\nShow runs from June 5th – Sept. 2nd 2021\nArtists Contact/Bio available at exhibit when purchasing.\nNew Members Welcome!\nwww.artistsofbristolonthedelaware.com\nBecause of COVID-19 and with your safety as the top priority to enter the show\, visitors must fill out a form\, have your temperature checked and masks must be worn at all times while at the hospital. Thank you.
URL:https://www.bucksarts.org/event/out-n-about-in-bucks-county-art-show-june-5-september-2/
LOCATION:Lower Bucks Hospital\, 501 Bath Road\, Bristol\, PA\, United States
CATEGORIES:Members Event
ATTACH;FMTTYPE=image/jpeg:https://www.bucksarts.org/wp-content/uploads/2021/05/LBH-FB-Calendar-Summer-2021.jpg
END:VEVENT
BEGIN:VEVENT
DTSTART;TZID=America/New_York:20210501T110000
DTEND;TZID=America/New_York:20210502T170000
DTSTAMP:20260423T205551
CREATED:20210308T225558Z
LAST-MODIFIED:20210308T225916Z
UID:61310-1619866800-1619974800@www.bucksarts.org
SUMMARY:Modern Fossils at THAT: The Hunterdon Art Tour 2021 | May 1-2
DESCRIPTION:Modern Fossils is thrilled to again be a part of THAT: The Hunterdon Art Tour 2021! \nTHAT is an annual\, countywide\, self-guided driving tour of artist’s studios and cultural centers\, which will be open to the Public from 11AM-5PM on Saturday May 1st and Sunday May 2nd. \n**Modern Fossils will once again be exhibiting inside the Frenchtown Hardware Store at 11 Kingwood Ave\, Frenchtown NJ\, on both days!** \nTHAT cultivates awareness of and builds connections within Hunterdon County’s abundant creative and educational communities\, and thereby gains recognition for the county as a vital home and destination for the arts. \nIn homage to the great American road trip\, THAT curates a countywide studio tour along the region’s scenic by-ways\, linking together a mixture of arts venues and studios as engaging day trips. Through these enriched interactions\, THAT supports diverse artists of all ages working in the fine\, visual\, performing and literary arts. \nAdditionally\, the Hunterdon Art Museum (HAM) in Clinton NJ will host THAT’s Artist Exhibition and Reception (FREE) on Fri April 30th.\nEach Artist in The Hunterdon Art Tour will have a piece of their art hanging in this exhibition. So.. you can meet the artists\, view samples of their work\, and plan your Tour! Plus\, all of the artwork is for sale! Join us at HAM\, 7 Lower Center St\, Clinton\, NJ for the Preview! \nFor more info\, please visit thehunterdonarttour.com \nModern Fossils are created with love by artistic partners Judith Marchand & David P. Horowitz.\nTo view all of our Modern Fossils for sale\, please visit www.modernfossils.net/store.
URL:https://www.bucksarts.org/event/modern-fossils-at-that-the-hunterdon-art-tour-2021-may-1-2/2021-05-01/
LOCATION:Frenchtown Home & Hardware Store\, 11 Kingwood Ave.\, Frenchtown\, NJ\, 08825\, United States
CATEGORIES:Members Event
ATTACH;FMTTYPE=image/jpeg:https://www.bucksarts.org/wp-content/uploads/2021/03/RiverFest.jpg
ORGANIZER;CN="Modern Fossils":MAILTO:modernfossils@yahoo.com
END:VEVENT
BEGIN:VEVENT
DTSTART;TZID=America/New_York:20200205T170000
DTEND;TZID=America/New_York:20200205T190000
DTSTAMP:20260423T205551
CREATED:20200129T201725Z
LAST-MODIFIED:20200129T201725Z
UID:2518-1580922000-1580929200@www.bucksarts.org
SUMMARY:Bucks County Artists: A Cross Section reception
DESCRIPTION:George R. Anthonisen\, Richard Lennox\, Mavis Smith and Emily Thompson present work with an emphasis on representational content that also incorporates a measure of references to classical media. Together\, the combined work contains a thread of elements which are reflective\, evocative and familiar.
URL:https://www.bucksarts.org/event/bucks-county-artists-a-cross-section-reception/
LOCATION:Hicks Art Center Gallery\, 275 Swamp Rd`\, Newtown\, PA\, 18940\, United States
ATTACH;FMTTYPE=image/jpeg:https://www.bucksarts.org/wp-content/uploads/2020/01/Thompson_Jiffy-Car-Wash.jpg
END:VEVENT
BEGIN:VEVENT
DTSTART;TZID=America/New_York:20200205T150000
DTEND;TZID=America/New_York:20200205T163000
DTSTAMP:20260423T205551
CREATED:20200129T201756Z
LAST-MODIFIED:20200129T201817Z
UID:2515-1580914800-1580920200@www.bucksarts.org
SUMMARY:Bucks County Artists: A Cross Section artist panel
DESCRIPTION:George R. Anthonisen\, Richard Lennox\, Mavis Smith and Emily Thompson discuss their work and answer questions.
URL:https://www.bucksarts.org/event/bucks-county-artists-a-cross-section-artist-panel/
LOCATION:Hicks Art Center Gallery\, 275 Swamp Rd`\, Newtown\, PA\, 18940\, United States
CATEGORIES:Members Event
ATTACH;FMTTYPE=image/jpeg:https://www.bucksarts.org/wp-content/uploads/2020/01/Anthonisen_Aspiration.jpg
END:VEVENT
BEGIN:VEVENT
DTSTART;VALUE=DATE:20200122
DTEND;VALUE=DATE:20200312
DTSTAMP:20260423T205551
CREATED:20200129T201957Z
LAST-MODIFIED:20200129T201958Z
UID:2512-1579651200-1583971199@www.bucksarts.org
SUMMARY:Bucks County Artists: A Cross Section
DESCRIPTION:George R. Anthonisen\, Richard Lennox\, Mavis Smith and Emily Thompson present work with an emphasis on representational content that also incorporates a measure of references to classical media. Together\, the combined work contains a thread of elements which are reflective\, evocative and familiar.
URL:https://www.bucksarts.org/event/bucks-county-artists-a-cross-section/
LOCATION:Hicks Art Center Gallery\, 275 Swamp Rd`\, Newtown\, PA\, 18940\, United States
CATEGORIES:Members Event
ATTACH;FMTTYPE=image/jpeg:https://www.bucksarts.org/wp-content/uploads/2020/01/Smith_White-Knot.jpg
END:VEVENT
BEGIN:VEVENT
DTSTART;TZID=America/New_York:20190928T100000
DTEND;TZID=America/New_York:20190929T160000
DTSTAMP:20260423T205551
CREATED:20190910T191853Z
LAST-MODIFIED:20190910T192245Z
UID:2300-1569664800-1569772800@www.bucksarts.org
SUMMARY:New Hope Arts & Crafts Festival
DESCRIPTION:The 26th Anniversary of New Hope’s Annual Outdoor Juried Arts and Crafts Festival will take place on September 28-29\, 2019 from 10-6pm on Saturday and from 10-4pm on Sunday at the New Hope – Solebury High School. Fine Arts\, Pottery\, Woodwork\, Glass\, Jewelry\, Photography\, Fiber\, Mixed Media\, Paintings\, Pastels\, Illustrations\, Etchings\, and other fine artists and craftsmen are honored with cash prizes and ribbons. Located in the historic river town of New Hope PA\, known for its arts community\, this event should attract 10\,000 visitors. This is an outdoor\, rain or shine\, event with $1 admission\, ample parking\, festival food\, a complimentary shuttle\, and music. New Hope’s business district is just a few minutes’ walk or shuttle ride away. This is a quality\, juried event.
URL:https://www.bucksarts.org/event/new-hope-arts-crafts-festival/
LOCATION:New Hope Solebury High School\, 180 West Bridge St\, New Hope\, PA\, 18938\, United States
CATEGORIES:Members Event
ATTACH;FMTTYPE=image/jpeg:https://www.bucksarts.org/wp-content/uploads/2019/09/Herald-NHAC-2.jpg
END:VEVENT
END:VCALENDAR