BEGIN:VCALENDAR
VERSION:2.0
PRODID:-//Arts &amp; Cultural Council of Bucks County - ECPv6.15.18//NONSGML v1.0//EN
CALSCALE:GREGORIAN
METHOD:PUBLISH
X-WR-CALNAME:Arts &amp; Cultural Council of Bucks County
X-ORIGINAL-URL:https://www.bucksarts.org
X-WR-CALDESC:Events for Arts &amp; Cultural Council of Bucks County
REFRESH-INTERVAL;VALUE=DURATION:PT1H
X-Robots-Tag:noindex
X-PUBLISHED-TTL:PT1H
BEGIN:VTIMEZONE
TZID:America/New_York
BEGIN:DAYLIGHT
TZOFFSETFROM:-0500
TZOFFSETTO:-0400
TZNAME:EDT
DTSTART:20180311T070000
END:DAYLIGHT
BEGIN:STANDARD
TZOFFSETFROM:-0400
TZOFFSETTO:-0500
TZNAME:EST
DTSTART:20181104T060000
END:STANDARD
BEGIN:DAYLIGHT
TZOFFSETFROM:-0500
TZOFFSETTO:-0400
TZNAME:EDT
DTSTART:20190310T070000
END:DAYLIGHT
BEGIN:STANDARD
TZOFFSETFROM:-0400
TZOFFSETTO:-0500
TZNAME:EST
DTSTART:20191103T060000
END:STANDARD
BEGIN:DAYLIGHT
TZOFFSETFROM:-0500
TZOFFSETTO:-0400
TZNAME:EDT
DTSTART:20200308T070000
END:DAYLIGHT
BEGIN:STANDARD
TZOFFSETFROM:-0400
TZOFFSETTO:-0500
TZNAME:EST
DTSTART:20201101T060000
END:STANDARD
BEGIN:DAYLIGHT
TZOFFSETFROM:-0500
TZOFFSETTO:-0400
TZNAME:EDT
DTSTART:20210314T070000
END:DAYLIGHT
BEGIN:STANDARD
TZOFFSETFROM:-0400
TZOFFSETTO:-0500
TZNAME:EST
DTSTART:20211107T060000
END:STANDARD
BEGIN:DAYLIGHT
TZOFFSETFROM:-0500
TZOFFSETTO:-0400
TZNAME:EDT
DTSTART:20220313T070000
END:DAYLIGHT
BEGIN:STANDARD
TZOFFSETFROM:-0400
TZOFFSETTO:-0500
TZNAME:EST
DTSTART:20221106T060000
END:STANDARD
END:VTIMEZONE
BEGIN:VEVENT
DTSTART;TZID=America/New_York:20210415T183000
DTEND;TZID=America/New_York:20210415T193000
DTSTAMP:20260422T131014
CREATED:20210327T115011Z
LAST-MODIFIED:20210327T115344Z
UID:61634-1618511400-1618515000@www.bucksarts.org
SUMMARY:ACME FILM CLUB  THE STYLE OF BOB FOSSE - Thursday\, April 15 at 6:30pm
DESCRIPTION:Watch each film on your own schedule before the Zoom meeting. Most films are available for free at www.actvid.com. Or you can use the website JUSTWATCH.com\, to find out on which streaming services each film is available. A Zoom link will be emailed to you the day of the meeting. \nAfter watching Cabaret and then All That Jazz\, you will notice many similar techniques used by Bob Fosse\, the director and choreographer of each film. We will hold a discussion on what the group notices in terms of Fosse’s style of directing\, choreography\, camera angles and movement\, etc.\, and the similarities and differences of these techniques as they relate to each film. Are they just Fosse’s style of making movies or are they used to enhance the message of each film? \nOur host David Shaw is a graduate of UCLA Film School and worked in various aspects of production in the LA Film Industry for many years. Currently living in the Philadelphia area\, he brings us his knowledge and passion for all things film. \nTo register without a donation\, please email acmescreeningroom@gmail.com.
URL:https://www.bucksarts.org/event/acme-film-club-the-style-of-bob-fosse-thursday-april-15-at-630pm/
LOCATION:Virtual
CATEGORIES:Members Event
ATTACH;FMTTYPE=image/jpeg:https://www.bucksarts.org/wp-content/uploads/2021/03/bob.jpg
ORGANIZER;CN="ACME Screening Room":MAILTO:acmescreeningroom@gmail.com
END:VEVENT
BEGIN:VEVENT
DTSTART;TZID=America/New_York:20190222T200000
DTEND;TZID=America/New_York:20190222T220000
DTSTAMP:20260422T131014
CREATED:20190219T162123Z
LAST-MODIFIED:20190219T162124Z
UID:1819-1550865600-1550872800@www.bucksarts.org
SUMMARY:The Vagina Monologues
DESCRIPTION:Join us for the 20th anniversary of the Obie Award-winning The Vagina Monologues and founding of V-Day\, the global activist movement to end violence against all women and girls (cisgender\, transgender\, and those who hold fluid identities that are subject to gender-based violence). This 2019 version of Eve Ensler’s iconic play is a whirlwind tour of a forbidden zone which introduces a wildly divergent gathering of female voices\, including a six-year-old girl\, a septuagenarian New Yorker\, a woman who witnesses the birth of her granddaughter\, a Bosnian survivor of rape\, and transgender women. Dramatically funny\, tender\, provocative and ultimately political\, it is a series of interviews with a diverse group of over 200 women about their vaginas\, offering new perspectives on the complexities of growing up female and the hurdles women face in overcoming misogynist conceptions of the female body. Stay for a post-performance discussion with the cast and a representative of A Woman’s Place.
URL:https://www.bucksarts.org/event/the-vagina-monologues/
LOCATION:Zlock Performing Arts Center\, 275 Swamp Rd\, Newtown\, 18940\, United States
CATEGORIES:Members Event
GEO:40.2390377;-74.9671789
X-APPLE-STRUCTURED-LOCATION;VALUE=URI;X-ADDRESS=Zlock Performing Arts Center 275 Swamp Rd Newtown 18940 United States;X-APPLE-RADIUS=500;X-TITLE=275 Swamp Rd:geo:-74.9671789,40.2390377
END:VEVENT
END:VCALENDAR