BEGIN:VCALENDAR
VERSION:2.0
PRODID:-//Arts &amp; Cultural Council of Bucks County - ECPv6.15.18//NONSGML v1.0//EN
CALSCALE:GREGORIAN
METHOD:PUBLISH
X-ORIGINAL-URL:https://www.bucksarts.org
X-WR-CALDESC:Events for Arts &amp; Cultural Council of Bucks County
REFRESH-INTERVAL;VALUE=DURATION:PT1H
X-Robots-Tag:noindex
X-PUBLISHED-TTL:PT1H
BEGIN:VTIMEZONE
TZID:America/New_York
BEGIN:DAYLIGHT
TZOFFSETFROM:-0500
TZOFFSETTO:-0400
TZNAME:EDT
DTSTART:20180311T070000
END:DAYLIGHT
BEGIN:STANDARD
TZOFFSETFROM:-0400
TZOFFSETTO:-0500
TZNAME:EST
DTSTART:20181104T060000
END:STANDARD
BEGIN:DAYLIGHT
TZOFFSETFROM:-0500
TZOFFSETTO:-0400
TZNAME:EDT
DTSTART:20190310T070000
END:DAYLIGHT
BEGIN:STANDARD
TZOFFSETFROM:-0400
TZOFFSETTO:-0500
TZNAME:EST
DTSTART:20191103T060000
END:STANDARD
BEGIN:DAYLIGHT
TZOFFSETFROM:-0500
TZOFFSETTO:-0400
TZNAME:EDT
DTSTART:20200308T070000
END:DAYLIGHT
BEGIN:STANDARD
TZOFFSETFROM:-0400
TZOFFSETTO:-0500
TZNAME:EST
DTSTART:20201101T060000
END:STANDARD
BEGIN:DAYLIGHT
TZOFFSETFROM:-0500
TZOFFSETTO:-0400
TZNAME:EDT
DTSTART:20210314T070000
END:DAYLIGHT
BEGIN:STANDARD
TZOFFSETFROM:-0400
TZOFFSETTO:-0500
TZNAME:EST
DTSTART:20211107T060000
END:STANDARD
BEGIN:DAYLIGHT
TZOFFSETFROM:-0500
TZOFFSETTO:-0400
TZNAME:EDT
DTSTART:20220313T070000
END:DAYLIGHT
BEGIN:STANDARD
TZOFFSETFROM:-0400
TZOFFSETTO:-0500
TZNAME:EST
DTSTART:20221106T060000
END:STANDARD
BEGIN:DAYLIGHT
TZOFFSETFROM:-0500
TZOFFSETTO:-0400
TZNAME:EDT
DTSTART:20230312T070000
END:DAYLIGHT
BEGIN:STANDARD
TZOFFSETFROM:-0400
TZOFFSETTO:-0500
TZNAME:EST
DTSTART:20231105T060000
END:STANDARD
BEGIN:DAYLIGHT
TZOFFSETFROM:-0500
TZOFFSETTO:-0400
TZNAME:EDT
DTSTART:20240310T070000
END:DAYLIGHT
BEGIN:STANDARD
TZOFFSETFROM:-0400
TZOFFSETTO:-0500
TZNAME:EST
DTSTART:20241103T060000
END:STANDARD
END:VTIMEZONE
BEGIN:VEVENT
DTSTART;TZID=America/New_York:20190215T193000
DTEND;TZID=America/New_York:20190215T220000
DTSTAMP:20260425T234647
CREATED:20190129T201036Z
LAST-MODIFIED:20190129T201107Z
UID:1775-1550259000-1550268000@www.bucksarts.org
SUMMARY:Sierra Hull
DESCRIPTION:After a Grand Ole Opry debut at age 11\, a Presidential Scholarship to Berklee College of Music\, and producing creds on her latest album by banjo-master Bela Fleck\,the now 25 year-old vocalist and instrumentalist continues to chart new territory for Americana\, Bluegrass\, and Roots music\n“She plays the mandolin with a degree of refined elegance and freedom that few have achieved\,” – Bela Fleck\,.\nAngel Snow Opening Act 7:30- 8pm\nTICKETS: VIP* $25/ GA -$15/ Bucks Students- FREE (ID Required)
URL:https://www.bucksarts.org/event/sierra-hull/
LOCATION:Zlock Performing Arts Center\, 275 Swamp Rd\, Newtown\, 18940\, United States
CATEGORIES:Members Event
ORGANIZER;CN="Zlock Performing Arts Center":MAILTO:peter.chiovarou@bucks.edu
GEO:40.2390377;-74.9671789
X-APPLE-STRUCTURED-LOCATION;VALUE=URI;X-ADDRESS=Zlock Performing Arts Center 275 Swamp Rd Newtown 18940 United States;X-APPLE-RADIUS=500;X-TITLE=275 Swamp Rd:geo:-74.9671789,40.2390377
END:VEVENT
BEGIN:VEVENT
DTSTART;TZID=America/New_York:20190311T190000
DTEND;TZID=America/New_York:20190311T203000
DTSTAMP:20260425T234647
CREATED:20190305T162844Z
LAST-MODIFIED:20190305T162844Z
UID:1935-1552330800-1552336200@www.bucksarts.org
SUMMARY:Creatrix – A Choral Celebration of Women Composers
DESCRIPTION:Performed by students of the BCCC Concert Choir and Percussion Ensemble\, this concert honors the value of a single citizen\, male or female\, in a modern society. Planned in conjunction with the exhibition “And this is how you are a citizen…” in Hicks Art Center Gallery. \nMusic & Multimedia Center\, Presser Room
URL:https://www.bucksarts.org/event/creatrix-a-choral-celebration-of-women-composers/
LOCATION:Bucks County Community College\, 275 Swamp Rd\, Newtown\, PA\, 18940\, United States
CATEGORIES:Members Event
END:VEVENT
BEGIN:VEVENT
DTSTART;TZID=America/New_York:20191103T150000
DTEND;TZID=America/New_York:20191103T170000
DTSTAMP:20260425T234647
CREATED:20191023T132113Z
LAST-MODIFIED:20191023T132113Z
UID:2349-1572793200-1572800400@www.bucksarts.org
SUMMARY:May I Have This Dance?
DESCRIPTION:A Delaware Valley Wind Symphony concert of dance themed music
URL:https://www.bucksarts.org/event/may-i-have-this-dance/
LOCATION:Holland Middle School\, 400 East Holland Road\, Holland\, PA\, 18966\, United States
ATTACH;FMTTYPE=image/jpeg:https://www.bucksarts.org/wp-content/uploads/2019/10/dance_eposter.jpg
END:VEVENT
BEGIN:VEVENT
DTSTART;TZID=America/New_York:20191215T150000
DTEND;TZID=America/New_York:20191215T170000
DTSTAMP:20260425T234647
CREATED:20191122T153530Z
LAST-MODIFIED:20191122T153531Z
UID:2418-1576422000-1576429200@www.bucksarts.org
SUMMARY:Holiday Concert
DESCRIPTION:A family friendly concert by the Delaware Valley Wind Symphony featuring music of the holiday season
URL:https://www.bucksarts.org/event/holiday-concert/
LOCATION:Holland Middle School\, 400 East Holland Road\, Holland\, PA\, 18966\, United States
CATEGORIES:Members Event
ATTACH;FMTTYPE=image/jpeg:https://www.bucksarts.org/wp-content/uploads/2019/11/holiday-ornaments-2a.jpg
END:VEVENT
BEGIN:VEVENT
DTSTART;TZID=America/New_York:20200301T150000
DTEND;TZID=America/New_York:20200301T170000
DTSTAMP:20260425T234647
CREATED:20200129T201644Z
LAST-MODIFIED:20201120T130038Z
UID:2521-1583074800-1583082000@www.bucksarts.org
SUMMARY:All That Jazz
DESCRIPTION:On Sunday March 1st at 3:00PM\, the acclaimed Delaware Valley Wind Symphony will present its 1st concert of the 2020 season at Holland Middle School 400 East Holland Rd\, Holland\, PA 18966.\nTo bring in the new decade\, the ensemble will perform a lively “All That Jazz” concert. With bright and upbeat music from the likes of Gershwin\, Sammy Nestico\, Frank Ticheli\, Ferde Grofe\, the audience will be entertained with music from the ’20s to the present day. \nTickets are sold the door and are still just $10. Students and children are always free. Complimentary refreshments will be offered after the concert. So come and enjoy a fun and musical afternoon with one of the best concert bands in the Delaware Valley.
URL:https://www.bucksarts.org/event/all-that-jazz/
LOCATION:Holland Middle School\, 400 East Holland Road\, Holland\, PA\, 18966\, United States
CATEGORIES:Members Event
ATTACH;FMTTYPE=image/jpeg:https://www.bucksarts.org/wp-content/uploads/2020/01/March_2020_e-poster-1.jpg
END:VEVENT
BEGIN:VEVENT
DTSTART;TZID=America/New_York:20210221T170000
DTEND;TZID=America/New_York:20210221T180000
DTSTAMP:20260425T234647
CREATED:20210219T205744Z
LAST-MODIFIED:20210305T115750Z
UID:60949-1613926800-1613930400@www.bucksarts.org
SUMMARY:Online Virtual Concert Premiere - Concordia Chamber Players | Sunday February 21 at 5:00 pm
DESCRIPTION:We invite you to immerse yourselves in the music of Johann Sebastian Bach as we share with you the complete Goldberg Variations arranged for string trio\, featuring violinist Siwoo Kim\, violist Milena Pajaro-van de Stadt\, and cellist Michelle Djokic. \nThis concert was filmed and recorded at The Barn in Cradle Valley\, a place which is especially meaningful to all of us. It is under this roof that we embarked on our journey to understand each other’s hearts through the possibilities of music. \nThe video recording will premiere on our website at 5:00 pm\, Sunday\, February 21st. https://concordiaplayers.org/concordia-concert-at-cradle-valley-farm/
URL:https://www.bucksarts.org/event/online-virtual-concert-premiere-concordia-chamber-players-sunday-february-21-at-500-pm/
LOCATION:Online
CATEGORIES:Members Event
ATTACH;FMTTYPE=image/jpeg:https://www.bucksarts.org/wp-content/uploads/2021/02/Cradle-Valley-frame-1.jpg
ORGANIZER;CN="concordia":MAILTO:info@concordiaplayers.org
END:VEVENT
BEGIN:VEVENT
DTSTART;TZID=America/New_York:20210408T193000
DTEND;TZID=America/New_York:20210408T213000
DTSTAMP:20260425T234647
CREATED:20210325T224048Z
LAST-MODIFIED:20210328T122024Z
UID:61610-1617910200-1617917400@www.bucksarts.org
SUMMARY:Get Happy - A Virtual Cabaret Salute to Judy Garland | April 8 at 8:30pm
DESCRIPTION:Get Happy! a cabaret saluting Judy Garland – the world’s greatest entertainer – starring Jenna Pastuszek with music direction by Broadway’s Joshua Zecher-Ross! This isn’t a traditional Judy Garland tribute — there will be no impersonation here. Instead\, the cleverly curated playlist of classics and forgotten gems will leave Judy fans and Judy novices alike tapping their feet as Jenna pays homage to one of her favorite divas. Featuring music from\nThe Wizard of Oz\, Easter Parade\, Judy Live at Carnegie Hall\, Judy at The Palace\, The Judy Garland Show\, and more\, you won’t want to miss Jenna’s spirited celebration of Judy’s legacy. “Forget your troubles” and join us for an after show live Q&A with Jenna via Zoom. \nRegister for virtual tickets at https://www.bucks.edu/tickets/
URL:https://www.bucksarts.org/event/get-happy-a-virtual-cabaret-salute-to-judy-garland-april-8-at-830pm/
LOCATION:Online
CATEGORIES:Members Event
ATTACH;FMTTYPE=image/png:https://www.bucksarts.org/wp-content/uploads/2021/03/Screen-Shot-2021-03-28-at-8.16.37-AM.png
ORGANIZER;CN="Zlock Performing Arts Center":MAILTO:peter.chiovarou@bucks.edu
END:VEVENT
BEGIN:VEVENT
DTSTART;TZID=America/New_York:20210415T123000
DTEND;TZID=America/New_York:20210415T133000
DTSTAMP:20260425T234647
CREATED:20210325T223653Z
LAST-MODIFIED:20210328T121902Z
UID:61613-1618489800-1618493400@www.bucksarts.org
SUMMARY:David Brahinsky - Songs of Social Justice | Virtual Event April 15\, 12:30-1:30 pm
DESCRIPTION:David Brahinsky & Friends – “Songs of Social Justice” \nSongs by such greats as Pete Seeger\, Woody Guthrie\, Bob Dylan\, Joni Mitchell\, Judy Collins\, Joan Baez and many more\, each of which supports and cries out for a society that values and works for\, as the Pledge of Allegiance puts it\, ”justice for all.” \nRegister here to receive the Zoom link for participation: https://www.bucks.edu/tickets/
URL:https://www.bucksarts.org/event/david-brahinsky-songs-of-social-justice-virtual-event-april-15-1230-130-pm/
LOCATION:Online
CATEGORIES:Members Event
ATTACH;FMTTYPE=image/png:https://www.bucksarts.org/wp-content/uploads/2021/03/Screen-Shot-2021-03-28-at-8.17.15-AM.png
ORGANIZER;CN="Zlock Performing Arts Center":MAILTO:peter.chiovarou@bucks.edu
END:VEVENT
BEGIN:VEVENT
DTSTART;TZID=America/New_York:20220924T100000
DTEND;TZID=America/New_York:20220925T160000
DTSTAMP:20260425T234647
CREATED:20220922T100320Z
LAST-MODIFIED:20220922T100320Z
UID:66582-1664013600-1664121600@www.bucksarts.org
SUMMARY:Modern Fossils at the New Hope Arts & Crafts Festival
DESCRIPTION:Modern Fossils is excited to be part of New Hope’s 28th Annual Outdoor Juried Arts & Crafts Festival! \nThis exciting Festival will feature over 160 juried fine Artists and Craftsmen\, as well as Live Music\, Festival Food\, and Children’s Art Activities! And it all happens within walking distance of scenic downtown New Hope\, which abounds with shops and restaurants for your enjoyment. \nWhere:\n*New Hope-Solebury High School*\n(In the Parking Lot)\n180 W. Bridge St\, New Hope PA \nWhen:\nSaturday Sept. 24th\, 10am-6pm\nSunday Sept. 25th\, 10am-4pm \n* Outdoors * Rain or Shine *\n*$1 Admission *\n* Free Shuttle to/from Downtown* *Paid Onsite Parking * \nThere will be a free bus from the Festival parking to South Main St at the Bucks County Playhouse. \nFor more information\, please visit: https://www.visitnewhope.com/new-hope-arts-crafts/
URL:https://www.bucksarts.org/event/modern-fossils-at-the-new-hope-arts-crafts-festival/2022-09-24/
LOCATION:New Hope Solebury High School\, 180 West Bridge St\, New Hope\, PA\, 18938\, United States
CATEGORIES:Members Event
ATTACH;FMTTYPE=image/jpeg:https://www.bucksarts.org/wp-content/uploads/2022/09/New-Hope-Award.jpg
ORGANIZER;CN="Modern Fossils":MAILTO:modernfossils@yahoo.com
END:VEVENT
BEGIN:VEVENT
DTSTART;TZID=America/New_York:20221007T140000
DTEND;TZID=America/New_York:20221007T200000
DTSTAMP:20260425T234647
CREATED:20220922T100155Z
LAST-MODIFIED:20220922T100155Z
UID:66585-1665151200-1665172800@www.bucksarts.org
SUMMARY:OPEN HOUSE! Modern Fossils and David Horowitz Studio
DESCRIPTION:Join Modern Fossils and David Horowitz Studio for our OPEN HOUSE on Friday October 7th from 2pm – 8pm! \nAs part of The Hunterdon Art Tour’s First Friday Open Studio Series\, both David’s Barn / Workshop (More Art Studio) and Modern Fossils’ Greenhouse Studio will be open for touring! Additional works will be on display in our yard and home Gallery as well. \nThere will be snacks\, drinks\, and hot dogs on the grill\, plus live music in the yard! \nOur address is 207 Milford Rd\, right across from the Citgo Station Parking Lot (where there is usually plenty of parking).\nLook for the house with the huge wooden Pegasus Sculpture on the front porch\, and come around back!
URL:https://www.bucksarts.org/event/open-house-modern-fossils-and-david-horowitz-studio/
LOCATION:Modern Fossils\, 207 Milford Rd.\, Frenchtown\, NJ\, 08825\, United States
CATEGORIES:Members Event
ATTACH;FMTTYPE=image/jpeg:https://www.bucksarts.org/wp-content/uploads/2022/09/Judith-David-in-front-of-Greenhouse-Studio_Frenchtown-NJ.jpg
ORGANIZER;CN="Modern Fossils":MAILTO:modernfossils@yahoo.com
END:VEVENT
BEGIN:VEVENT
DTSTART;TZID=America/New_York:20230203T193000
DTEND;TZID=America/New_York:20230203T210000
DTSTAMP:20260425T234647
CREATED:20230104T200546Z
LAST-MODIFIED:20230104T200546Z
UID:66892-1675452600-1675458000@www.bucksarts.org
SUMMARY:Lord\, Write My Name
DESCRIPTION:Nationally-recognized baritone vocalist\, Keith Spencer\, and award-winning composer and arranger\, Peter Hilliard\, team up once again after their critically-acclaimed collaboration\, Brothers on Broadway\, to present Lord\, Write My Name – A Gospel and African American Experience in Spirituals\n.\nLord\, Write My Name is an inspirational musical tapestry of African American Spirituals interspersed with narratives\, poetry\, and letters penned by enslaved\, emancipated\, and iconic Black people throughout history. This educational presentation explores themes of mourning expressed through Spirituals countered by the powerful and redemptive story of the Gospel message. \nIn this masterful collection of song and word\, Spencer\, accompanied by Hilliard on piano\, performs well-known Spirituals such as “Go Down\, Moses\,” “Walk Together Children\,” “Joshua Fit the Battle of Jericho\,” “Steal Away\,” and several others brilliantly reimagined and arranged by Hilliard. \nThis beautiful and uplifting concert shares themes of social justice\, identity\, and the hope that connects us all.
URL:https://www.bucksarts.org/event/lord-write-my-name/
LOCATION:Zlock Performing Arts Center\, 275 Swamp Rd\, Newtown\, 18940\, United States
CATEGORIES:Members Event
ATTACH;FMTTYPE=image/jpeg:https://www.bucksarts.org/wp-content/uploads/2023/01/MAA-22-23-Spencer-Hilliardwebpage-v3-scaled.jpg
ORGANIZER;CN="Zlock Performing Arts Center":MAILTO:peter.chiovarou@bucks.edu
GEO:40.2390377;-74.9671789
X-APPLE-STRUCTURED-LOCATION;VALUE=URI;X-ADDRESS=Zlock Performing Arts Center 275 Swamp Rd Newtown 18940 United States;X-APPLE-RADIUS=500;X-TITLE=275 Swamp Rd:geo:-74.9671789,40.2390377
END:VEVENT
END:VCALENDAR