BEGIN:VCALENDAR
VERSION:2.0
PRODID:-//Arts &amp; Cultural Council of Bucks County - ECPv6.15.18//NONSGML v1.0//EN
CALSCALE:GREGORIAN
METHOD:PUBLISH
X-ORIGINAL-URL:https://www.bucksarts.org
X-WR-CALDESC:Events for Arts &amp; Cultural Council of Bucks County
REFRESH-INTERVAL;VALUE=DURATION:PT1H
X-Robots-Tag:noindex
X-PUBLISHED-TTL:PT1H
BEGIN:VTIMEZONE
TZID:America/New_York
BEGIN:DAYLIGHT
TZOFFSETFROM:-0500
TZOFFSETTO:-0400
TZNAME:EDT
DTSTART:20210314T070000
END:DAYLIGHT
BEGIN:STANDARD
TZOFFSETFROM:-0400
TZOFFSETTO:-0500
TZNAME:EST
DTSTART:20211107T060000
END:STANDARD
BEGIN:DAYLIGHT
TZOFFSETFROM:-0500
TZOFFSETTO:-0400
TZNAME:EDT
DTSTART:20220313T070000
END:DAYLIGHT
BEGIN:STANDARD
TZOFFSETFROM:-0400
TZOFFSETTO:-0500
TZNAME:EST
DTSTART:20221106T060000
END:STANDARD
BEGIN:DAYLIGHT
TZOFFSETFROM:-0500
TZOFFSETTO:-0400
TZNAME:EDT
DTSTART:20230312T070000
END:DAYLIGHT
BEGIN:STANDARD
TZOFFSETFROM:-0400
TZOFFSETTO:-0500
TZNAME:EST
DTSTART:20231105T060000
END:STANDARD
END:VTIMEZONE
BEGIN:VEVENT
DTSTART;TZID=America/New_York:20220923T120000
DTEND;TZID=America/New_York:20221022T170000
DTSTAMP:20260420T235642
CREATED:20220912T185023Z
LAST-MODIFIED:20220912T185308Z
UID:66544-1663934400-1666458000@www.bucksarts.org
SUMMARY:the beauty of stillness
DESCRIPTION:Crispness is in the air. A modest destabilization. Your jacket crossed tight to guard against a chilly wind. A confusion. Ennui. Loneliness. Autumn\, though full of decay\, has a marked beauty\, like a poem written in longing. Like the season of fall itself\, the four artists of The Beauty of Stillness conjure tender reflective moments that are marked by pangs of uncertainty\, yearning\, and beauty. \nFeaturing:\nA&C member Constance McBride\, Daria Panichas\, Geoffrey Ansel Agrons\, and Richard Hricko \nDates and Times: 9/23/22 – 10/22/22\nWednesday – Friday\, noon-6pm; Saturday\, noon-5pm\nSecond Thursday Reception: October 13\, 2022 \nLocation: InLiquid Gallery at Crane Arts1400 North American Street\, 1st FloorPhiladelphia\, PA(215) 235-3405
URL:https://www.bucksarts.org/event/the-beauty-of-stillness-inliquid-gallery-at-crane-arts/
LOCATION:InLiquid Gallery at Crane Arts\, In Liquid Gallery at Crane Arts 1400 North American Street\, 1st Floor\, Philadelphia\, PA\, United States
CATEGORIES:Members Event
ATTACH;FMTTYPE=image/jpeg:https://www.bucksarts.org/wp-content/uploads/2022/09/A04CBE8E-8F46-4D48-93FA-532B35BE36B1.jpeg
END:VEVENT
BEGIN:VEVENT
DTSTART;TZID=America/New_York:20220924T100000
DTEND;TZID=America/New_York:20221008T160000
DTSTAMP:20260420T235642
CREATED:20220821T105616Z
LAST-MODIFIED:20220920T112254Z
UID:66504-1664013600-1665244800@www.bucksarts.org
SUMMARY:A&C FALL SALON MEMBER EXHIBITION AND SALE
DESCRIPTION:125+ regional artists submitted a fabulous variety of work for the A&C upcoming Fall Salon Member Show. \nDrawings\, paintings\, prints\, ceramics\, jewelry\, sculpture\, and more will grace the rooms of historic Freeman Hall from September 10 – October 2. Framed and portfolio (matted) pieces will be available. \nPlein air painters will be on site every weekend to inspire the community. \nMARK YOUR CALENDARS NOW! This show will be a fabulous opportunity for artists and collectors\, all of whom are invited to see the show and support local artists by making a purchase. \nThe exhibition and programs are free and open to the public. \nFreeman Hall is located at 181 East Court Street in Doylestown. Free parking is available. Stop in Arts Fest weekend to see the show\, then walk a few blocks to the Festival – we will also have a booth #15 on West State Street featuring the work of some of our members. \nDetails and hours at www.bucksarts.org/fallsalon \nQuestions? info@bucksarts.org.
URL:https://www.bucksarts.org/event/ac-fall-salon-member-show/
LOCATION:Arts & Cultural Council at Freeman Hall\, 181 East Court Street\, Doylestown\, PA\, 18901\, United States
ATTACH;FMTTYPE=image/jpeg:https://www.bucksarts.org/wp-content/uploads/2022/07/salon_events_cal.jpg
END:VEVENT
BEGIN:VEVENT
DTSTART;TZID=America/New_York:20221001T100000
DTEND;TZID=America/New_York:20221001T160000
DTSTAMP:20260420T235642
CREATED:20220719T132514Z
LAST-MODIFIED:20220719T132514Z
UID:65862-1664618400-1664640000@www.bucksarts.org
SUMMARY:Newtown Historic Market Day
DESCRIPTION:Market Day is an annual outdoor event that celebrates the colonial tradition of local farmers & homesteaders bringing their crops\, livestock\, and homemade wares into town to sell to neighbors & townspeople. It is our proud tradition to feature high-quality crafters\, artisans & fine artists; colonial-era demonstrations\, reenactments & activities; farm stands; entertainment for all ages; and food from local restaurants.
URL:https://www.bucksarts.org/event/newtown-historic-market-day/
LOCATION:Newtown Borough\, 105 Court Street\, Newtown\, PA\, 18940\, United States
ATTACH;FMTTYPE=image/jpeg:https://www.bucksarts.org/wp-content/uploads/2022/05/Screenshot_20220404-113355_Gmail.jpg
ORGANIZER;CN="Newtown Historic Association":MAILTO:Marketday@newtownhistoric.org
END:VEVENT
BEGIN:VEVENT
DTSTART;TZID=America/New_York:20221001T120000
DTEND;TZID=America/New_York:20221002T160000
DTSTAMP:20260420T235642
CREATED:20220920T112826Z
LAST-MODIFIED:20220927T115752Z
UID:66571-1664625600-1664726400@www.bucksarts.org
SUMMARY:Fall Salon Show - Closing Weekend - Celebrate Visual and Literary Arts
DESCRIPTION:Doors are open in Doylestown for another fantastic art exhibition and sale\, coupled with an opportunity to meet local writers and illustrators. \nJoin the Arts & Cultural Council of Bucks County on October 1 and 2 from noon to 4pm for the closing of the Fall Salon Member Show at Freeman Hall on East Court Street in Doylestown. Stop in to see a stunning exhibition featuring the work of over 125 regional artists – 250 paintings\, drawings\, prints\, photographs\, mixed media works\, sculptures\, handmade books\, ceramics\, jewelry\, and more. Visitors to the show continue to comment on the variety of work exhibited\, the breadth of local talent on display\, and the historic setting that invites guests to linger and enjoy the work. \nThe Fall Salon Show is also a fabulous opportunity for collectors\, all of whom are invited to see the show and support local artists by making a purchase. Framed as well as matted works are available for sale. \nIn addition\, on Sunday\, October 2 from 1 to 3 pm\, the Arts & Cultural Council will host local authors signing and selling their books\, as well as book illustrators showcasing their work. Book genres include fiction\, non-fiction\, travel-memoir\, children’s books\, and poetry. Join us and connect with these A&C member literary and visual artists: Joe Chelius\, Julie Fratrik\, Jane Mohler\, Margaret Montet\, Bernadette McBride\, Steve Nolan\, David Roth\, Bill Wunder\, Patricia Goodrich\, Julie Standig\, Bill Hemmig\, Marie Kane\, and Deborah Hoeffner. Robbin Farr\, a member of the A&C Literary Arts Committee\, said\, “This is a great opportunity to meet local authors and talk to them about their work\, their inspiration\, and their style.” \nFreeman Hall is located at 181 East Court Street in Doylestown PA. There is free parking\, and the historic building is accessible.
URL:https://www.bucksarts.org/event/fall-salon-show-closing-weekend-celebrate-visual-and-literary-arts/
LOCATION:Arts & Cultural Council at Freeman Hall\, 181 East Court Street\, Doylestown\, PA\, 18901\, United States
ATTACH;FMTTYPE=image/jpeg:https://www.bucksarts.org/wp-content/uploads/2022/07/salon_events_cal.jpg
END:VEVENT
BEGIN:VEVENT
DTSTART;TZID=America/New_York:20221006T190000
DTEND;TZID=America/New_York:20221006T203000
DTSTAMP:20260420T235642
CREATED:20220907T135548Z
LAST-MODIFIED:20220907T135700Z
UID:66533-1665082800-1665088200@www.bucksarts.org
SUMMARY:A&C LITERARY ARTS SALON
DESCRIPTION:Join us for a LITERARY ARTS SALON on October 6\, 2022\, at 7 pm at Freeman Hall\, 181 East Court Street\, Doylestown\, featuring four wonderful writers: Chad Frame\, Patricia Goodrich\, Lynn Miller\, and Julie Standig. Presented by the Arts & Cultural Council of Bucks County. \nAll four writers will read selections from their work followed by a relaxed discussion\, Q & A session\, and light refreshments. Books will be available for sale. Seating is limited and free parking is available. Reservations are required. If weather permits\, the salon will be held on the front porch\, if not\, we will be in the parlor at Freeman Hall and will follow any covid protocols of Freeman Hall. Masks are recommended and appreciated. \nFor reservations email info@bucksarts.org. \nMEET THE ARTISTS: \nChad Frame is the author of Little Black Book (2022\, Finishing Line Press)\, Director of the Montgomery County Poet Laureate Program\, a Poet Laureate Emeritus of Montgomery County\, PA\, Poetry Editor of Ovunque Siamo\, and founder of the Caesura Poetry Festival and Retreat. His work has appeared in Rattle\, Pedestal\, Barrelhouse\, Rust+Moth\, and elsewhere\, including on iTunes from the Library of Congress\, and was sent to the moon as part of the Lunar Codex Project. \nPatricia Goodrich is a poet and visual artist. She has been featured reader at writers’ conferences in Slovenia\, Lithuania\, and Russia\, and at the Geraldine R. Dodge Poetry Festival\, USA  She has received Pennsylvania Fellowships in Poetry and Creative Nonfiction. Stone Hunting in Transylvania\, Woman With A Wandering Eye\, How the Moose Got To Be\, Verda’s House\, and Red Mud are among Goodrich’s books of poems. Her poetry has been translated into Chinese\, Finnish\, French\, Lithuanian\, Slovenian\, and Romanian. .  The River Place\, a volume in collaboration with Romanian poet Ioan Hadarig will be published August\, 2022 \nLynn Miller is Professor Emeritus of Political Science\, Temple University. He is the author of a number of books and articles on world politics. Books include Organizing Mankind and Global Order: Values and Power in International Politics. His 2010 novel is Crossing the Line. He is the co-author (with Lloyd Jensen) of Global Challenge\, (with Annette H. Emgarth) of French Philadelphia\, (with James McClelland) of City in a Park\, and (with Therese Dolan) of Salut! France Meets Philadelphia: The French Presence in Philadelphia’s History\, Culture\, and Art\, which was published by Temple University Press in November\, 2020. His memoir\, Postcards from Delphi\, is now available from the author. \nA lifetime New Yorker\, Julie Standig now writes with two amazing poetry groups\, Marie Kane’s KT and the Stalwart Poets. She has been published in Alehouse Press\, Sadie Girl Press\, After Happy Hour Review\, Schuylkill Journal Review\, US1 Poets/Del Val\, Gyroscope Review as well as online journals. Her first chapbook\, Memsahib Memoir was released by Plan B Press in 2017 and an upcoming collection\, The Forsaken Little Black Book will be released Fall 2022 by Kelsay Books. She lives in Bucks County with her husband and their springer spaniel. \n  \n 
URL:https://www.bucksarts.org/event/ac-literary-arts-salon/
LOCATION:Arts & Cultural Council at Freeman Hall\, 181 East Court Street\, Doylestown\, PA\, 18901\, United States
ATTACH;FMTTYPE=image/png:https://www.bucksarts.org/wp-content/uploads/2022/09/Screen-Shot-2022-09-07-at-9.54.29-AM.png
END:VEVENT
BEGIN:VEVENT
DTSTART;TZID=America/New_York:20221007T140000
DTEND;TZID=America/New_York:20221007T200000
DTSTAMP:20260420T235642
CREATED:20220922T100155Z
LAST-MODIFIED:20220922T100155Z
UID:66585-1665151200-1665172800@www.bucksarts.org
SUMMARY:OPEN HOUSE! Modern Fossils and David Horowitz Studio
DESCRIPTION:Join Modern Fossils and David Horowitz Studio for our OPEN HOUSE on Friday October 7th from 2pm – 8pm! \nAs part of The Hunterdon Art Tour’s First Friday Open Studio Series\, both David’s Barn / Workshop (More Art Studio) and Modern Fossils’ Greenhouse Studio will be open for touring! Additional works will be on display in our yard and home Gallery as well. \nThere will be snacks\, drinks\, and hot dogs on the grill\, plus live music in the yard! \nOur address is 207 Milford Rd\, right across from the Citgo Station Parking Lot (where there is usually plenty of parking).\nLook for the house with the huge wooden Pegasus Sculpture on the front porch\, and come around back!
URL:https://www.bucksarts.org/event/open-house-modern-fossils-and-david-horowitz-studio/
LOCATION:Modern Fossils\, 207 Milford Rd.\, Frenchtown\, NJ\, 08825\, United States
CATEGORIES:Members Event
ATTACH;FMTTYPE=image/jpeg:https://www.bucksarts.org/wp-content/uploads/2022/09/Judith-David-in-front-of-Greenhouse-Studio_Frenchtown-NJ.jpg
ORGANIZER;CN="Modern Fossils":MAILTO:modernfossils@yahoo.com
END:VEVENT
BEGIN:VEVENT
DTSTART;TZID=America/New_York:20221015T140000
DTEND;TZID=America/New_York:20221106T180000
DTSTAMP:20260420T235642
CREATED:20220925T123623Z
LAST-MODIFIED:20220926T122311Z
UID:66594-1665842400-1667757600@www.bucksarts.org
SUMMARY:Jean Burdick Solo Exhibition | Cerulean Arts Gallery | Oct 15 - Nov 6\, 12-5 pm Wednesday - Sunday
DESCRIPTION:“Trail Musings”\, a solo exhibition of prints and paintings by Jean Burdick\nOctober 15 – Nov 6\, 2022\nCerulean Arts Gallery\n1355 Ridge Ave\, Phila\, Pa 19123 \nOpening Reception\, Saturday Oct. 15\, 2 – 5 pm \nPlease note that masks are required to be worn by all visitors during receptions and by those registered for in-person classes.  Masks are strongly recommended to be worn at all other times.
URL:https://www.bucksarts.org/event/jean-burdick-solo-exhibition-cerulean-arts-gallery-philadelphia-oct-15-nov-6/
LOCATION:Cerulean Arts Gallery\, 1355 Ridge Avenue\, Philadelphia\, PA\, 19123\, United States
ATTACH;FMTTYPE=image/jpeg:https://www.bucksarts.org/wp-content/uploads/2022/09/Afternoon-Light.jpg
END:VEVENT
BEGIN:VEVENT
DTSTART;TZID=America/New_York:20221020T080000
DTEND;TZID=America/New_York:20221020T170000
DTSTAMP:20260420T235642
CREATED:20220905T105512Z
LAST-MODIFIED:20220905T105512Z
UID:66524-1666252800-1666285200@www.bucksarts.org
SUMMARY:Lambertville Halloween Film Festival
DESCRIPTION:Famous for its Halloween spirit\, Lambertville\, New Jersey is proud to own its nickname “Halloweenville.” We want to welcome you to the first annual Lambertville Halloween Film Festival! In addition to showcasing filmmakers and other talented artists\, the goal of this year’s festival is to give you an unforgettable Halloween experience. This year’s festival spans three days of events\, including a masquerade party\, a selection of horror films\, a demonstration of Hollywood monster makeup\, and numerous local artists and vendors. At the film festival\, the best of the best will be awarded a Golden Pumpkin. As an audience member\, you have the power to make sure your favorite receives the Audience Selection Award! Mark your calendars. We look forward to seeing you here!
URL:https://www.bucksarts.org/event/lambertville-halloween-film-festival/
LOCATION:Acme Screening Room\, 25 South Union\, Lambertville\, NJ\, 08530\, United States
ATTACH;FMTTYPE=image/png:https://www.bucksarts.org/wp-content/uploads/2022/09/LHFF-poster-for-window.png
ORGANIZER;CN="ACME Screening Room":MAILTO:acmescreeningroom@gmail.com
END:VEVENT
BEGIN:VEVENT
DTSTART;TZID=America/New_York:20221027T180000
DTEND;TZID=America/New_York:20221027T210000
DTSTAMP:20260420T235642
CREATED:20221013T205733Z
LAST-MODIFIED:20221013T205733Z
UID:66673-1666893600-1666904400@www.bucksarts.org
SUMMARY:ARTS & DRAFTS
DESCRIPTION:ARTS & DRAFTS IS BACK*! \nConnect with the A&C board\, members\, and arts enthusiasts at a Bucks County brewery for some casual conversation and inspiration. \nWe will be meeting up four times a year to experience different breweries and meet with the arts community throughout the County. \nNo need to RSVP – just look for the A&C Arts & Drafts sign\, and pull up a chair! \n(PS The beer is on you!) \nFirst “on Tap:” \nThursday October 27 – 6pm till ?\nAristaeus Craft Brewing Company\nLanghorne\, PA \nServing wine & beer; food truck TBA (check website for particulars) \nhttps://www.aristaeusbrewing.com/ \nNext “on Tap:” \nThursday January 26- 6pm till ? \nTwo Rivers Taproom\nQuakertown\, PA \nServing beer\, burgers\, sandwiches\, and fries; vegan option (check website for particulars) \nhttps://www.tworiversbrewing.com/ \n(PS The beer is on you!) \n*The last time we met was fall 2019! \nQuestions? info@bucksarts.org
URL:https://www.bucksarts.org/event/arts-drafts/
LOCATION:Aristaeus Craft Brewing Company\, 2475-C Big Oak Road\, Langhorne\, PA\, 19047\, United States
ATTACH;FMTTYPE=image/jpeg:https://www.bucksarts.org/wp-content/uploads/2022/10/arts_drafts_logo_online.jpg
END:VEVENT
END:VCALENDAR