BEGIN:VCALENDAR
VERSION:2.0
PRODID:-//Arts &amp; Cultural Council of Bucks County - ECPv6.15.18//NONSGML v1.0//EN
CALSCALE:GREGORIAN
METHOD:PUBLISH
X-WR-CALNAME:Arts &amp; Cultural Council of Bucks County
X-ORIGINAL-URL:https://www.bucksarts.org
X-WR-CALDESC:Events for Arts &amp; Cultural Council of Bucks County
REFRESH-INTERVAL;VALUE=DURATION:PT1H
X-Robots-Tag:noindex
X-PUBLISHED-TTL:PT1H
BEGIN:VTIMEZONE
TZID:America/New_York
BEGIN:DAYLIGHT
TZOFFSETFROM:-0500
TZOFFSETTO:-0400
TZNAME:EDT
DTSTART:20210314T070000
END:DAYLIGHT
BEGIN:STANDARD
TZOFFSETFROM:-0400
TZOFFSETTO:-0500
TZNAME:EST
DTSTART:20211107T060000
END:STANDARD
BEGIN:DAYLIGHT
TZOFFSETFROM:-0500
TZOFFSETTO:-0400
TZNAME:EDT
DTSTART:20220313T070000
END:DAYLIGHT
BEGIN:STANDARD
TZOFFSETFROM:-0400
TZOFFSETTO:-0500
TZNAME:EST
DTSTART:20221106T060000
END:STANDARD
BEGIN:DAYLIGHT
TZOFFSETFROM:-0500
TZOFFSETTO:-0400
TZNAME:EDT
DTSTART:20230312T070000
END:DAYLIGHT
BEGIN:STANDARD
TZOFFSETFROM:-0400
TZOFFSETTO:-0500
TZNAME:EST
DTSTART:20231105T060000
END:STANDARD
END:VTIMEZONE
BEGIN:VEVENT
DTSTART;TZID=America/New_York:20220904T080000
DTEND;TZID=America/New_York:20220904T170000
DTSTAMP:20260421T013249
CREATED:20220905T105603Z
LAST-MODIFIED:20220905T105603Z
UID:66527-1662278400-1662310800@www.bucksarts.org
SUMMARY:PechaKucha
DESCRIPTION:PechaKucha is Japanese for “chitchat” and happens in over 700 cities worldwide. Join us for a special edition of PechaKucha Lambertville/New Hope. Anyone with a creative practice\, profession\, or passion is invited to share work in 20 images x 20 seconds each. Meet and support the makers in your community in an informal and energetic atmosphere. \nTO PRESENT: Contact Afia Dash at acmescreeningroom@gmail.com if you are interested in presenting: open to anyone with a creative practice\, profession\, or passion.
URL:https://www.bucksarts.org/event/pechakucha/
LOCATION:Acme Screening Room\, 25 South Union\, Lambertville\, NJ\, 08530\, United States
ATTACH;FMTTYPE=image/jpeg:https://www.bucksarts.org/wp-content/uploads/2022/09/SUPER-Logo-CMYK.jpg
ORGANIZER;CN="ACME Screening Room":MAILTO:acmescreeningroom@gmail.com
END:VEVENT
BEGIN:VEVENT
DTSTART;TZID=America/New_York:20220909T180000
DTEND;TZID=America/New_York:20220911T170000
DTSTAMP:20260421T013249
CREATED:20220806T120613Z
LAST-MODIFIED:20220806T120613Z
UID:66447-1662746400-1662915600@www.bucksarts.org
SUMMARY:8th ANNUAL POINTS OF VIEW ART SHOW AND SALE
DESCRIPTION:8th ANNUAL POINTS OF VIEW ART SHOW AND SALE\nSeptember 9-11\, 2022 \n A&C Members Jeanne Chesterton and Ilene Rubin have been creating the Points of View Art Show in the Bucks County area since 2014 and are pleased to be having this year’s show in the heart of New Hope. Along with a who’s who list of local artists\, they have found that joining talent with location to exhibit and sell art has been quite the successful endeavor. It’s a win-win for any serious collector of art or a casual tourist wanting to go home with a little piece of Bucks County in the New Hope/Lambertville/Stockton areas. \nThe 8TH Annual Points of View Art Show and Sale featuring six local artists\, will once again be presented during the weekend of September 9th\, 2022. This year\, the show will be located at New Hope Arts Center at 2 Stockton Avenue\, New Hope\, PA. The show opens with a reception on Friday\, September 9th from 6 – 9 pm\, and continues Saturday\, September 10th and Sunday September 11th\, from 12-5. For more information\, contact JeanneChesterton@gmail.com or Ilene@IleneRubin.com. \nShowcasing their art will be Bob Barish\, Jeanne Chesterton\, Florence Moonan\, Susan Roseman\, Ilene Rubin\, and Dora Siemel. All art is for sale. \nA few of the aspects that they like so much about the Point of View Art Show are that the art of Jeanne Chesterton and Ilene Rubin\, along with Bob Barish\, Florence Moonan\, Dora Siemel and Susan Roseman complement each other while individually\, are vastly different. All are well-known\, award-winning artists who bring a unique voice and interpretation to the visual world around them. At the same time\, each offers an impressive body of work\, each professionally created and available for one weekend only. \nThere is something for everyone with little to no overlap of style or range. each has amassed their own following and niche in an otherwise crowded art field in the Bucks County region. It’s a unique blend with a wide price range\, so that anyone who is a collector will certainly have a diverse choice\, while a casual tourist will easily find a treasure at the famous New Hope Arts Center.
URL:https://www.bucksarts.org/event/8th-annual-points-of-view-art-show-and-sale/
LOCATION:New Hope Arts Inc\, 2 Stockton Ave\, 2nd Flr\, New Hope\, PA\, 18938\, United States
ATTACH;FMTTYPE=image/png:https://www.bucksarts.org/wp-content/uploads/2022/08/Screen-Shot-2022-08-06-at-8.03.09-AM.png
GEO:40.364055;-74.9531262
X-APPLE-STRUCTURED-LOCATION;VALUE=URI;X-ADDRESS=New Hope Arts Inc 2 Stockton Ave 2nd Flr New Hope PA 18938 United States;X-APPLE-RADIUS=500;X-TITLE=2 Stockton Ave\, 2nd Flr:geo:-74.9531262,40.364055
END:VEVENT
BEGIN:VEVENT
DTSTART;TZID=America/New_York:20220910T100000
DTEND;TZID=America/New_York:20220911T170000
DTSTAMP:20260421T013249
CREATED:20220821T104839Z
LAST-MODIFIED:20220821T104839Z
UID:66501-1662804000-1662915600@www.bucksarts.org
SUMMARY:DOYLESTOWN ARTS FESTIVAL
DESCRIPTION:Designed to illuminate the region’s ongoing commitment to arts and culture\, the Doylestown Arts Festival annually features 150+ juried artists\, live music on 5 stages\, live art and interactive demonstrations. Founded in 1991 by a small volunteer group of businesses and residents\, the festival now celebrates 31 years of showcasing creativity in Bucks County. The highly anticipated two-day street festival attracts thousands of visitors each year. \nThe 31st annual event is scheduled for Saturday\, September 10th & Sunday 11th\, 2022\, from 10am-5pm. The festival is free to the public. On Sunday the Bucks County Classic joins us with high speed bike races surrounding town. Follow us for news and updates! The Doylestown Arts Festival is organized by Discover Doylestown and made possible by The Thompson Organization and our generous sponsors. \nStop in Arts Fest weekend to see the A&C Fall Salon Member Show\, then walk a few blocks to the Arts Festival – we will also have a booth #15 on West State Street featuring the work of some of our members. \nSaturday: Deb Eater and Pat Proniewski\nSunday: Lisa Domenic and Stefanie Silverman
URL:https://www.bucksarts.org/event/doylestown-arts-festival-2/
LOCATION:Doylestown Arts Festival\, Doylestown\, PA\, 18901\, United States
ATTACH;FMTTYPE=image/png:https://www.bucksarts.org/wp-content/uploads/2022/08/Screen-Shot-2022-08-21-at-6.36.43-AM.png
END:VEVENT
BEGIN:VEVENT
DTSTART;TZID=America/New_York:20220923T120000
DTEND;TZID=America/New_York:20221022T170000
DTSTAMP:20260421T013249
CREATED:20220912T185023Z
LAST-MODIFIED:20220912T185308Z
UID:66544-1663934400-1666458000@www.bucksarts.org
SUMMARY:the beauty of stillness
DESCRIPTION:Crispness is in the air. A modest destabilization. Your jacket crossed tight to guard against a chilly wind. A confusion. Ennui. Loneliness. Autumn\, though full of decay\, has a marked beauty\, like a poem written in longing. Like the season of fall itself\, the four artists of The Beauty of Stillness conjure tender reflective moments that are marked by pangs of uncertainty\, yearning\, and beauty. \nFeaturing:\nA&C member Constance McBride\, Daria Panichas\, Geoffrey Ansel Agrons\, and Richard Hricko \nDates and Times: 9/23/22 – 10/22/22\nWednesday – Friday\, noon-6pm; Saturday\, noon-5pm\nSecond Thursday Reception: October 13\, 2022 \nLocation: InLiquid Gallery at Crane Arts1400 North American Street\, 1st FloorPhiladelphia\, PA(215) 235-3405
URL:https://www.bucksarts.org/event/the-beauty-of-stillness-inliquid-gallery-at-crane-arts/
LOCATION:InLiquid Gallery at Crane Arts\, In Liquid Gallery at Crane Arts 1400 North American Street\, 1st Floor\, Philadelphia\, PA\, United States
CATEGORIES:Members Event
ATTACH;FMTTYPE=image/jpeg:https://www.bucksarts.org/wp-content/uploads/2022/09/A04CBE8E-8F46-4D48-93FA-532B35BE36B1.jpeg
END:VEVENT
BEGIN:VEVENT
DTSTART;TZID=America/New_York:20220924T100000
DTEND;TZID=America/New_York:20220925T160000
DTSTAMP:20260421T013249
CREATED:20220922T100320Z
LAST-MODIFIED:20220922T100320Z
UID:66582-1664013600-1664121600@www.bucksarts.org
SUMMARY:Modern Fossils at the New Hope Arts & Crafts Festival
DESCRIPTION:Modern Fossils is excited to be part of New Hope’s 28th Annual Outdoor Juried Arts & Crafts Festival! \nThis exciting Festival will feature over 160 juried fine Artists and Craftsmen\, as well as Live Music\, Festival Food\, and Children’s Art Activities! And it all happens within walking distance of scenic downtown New Hope\, which abounds with shops and restaurants for your enjoyment. \nWhere:\n*New Hope-Solebury High School*\n(In the Parking Lot)\n180 W. Bridge St\, New Hope PA \nWhen:\nSaturday Sept. 24th\, 10am-6pm\nSunday Sept. 25th\, 10am-4pm \n* Outdoors * Rain or Shine *\n*$1 Admission *\n* Free Shuttle to/from Downtown* *Paid Onsite Parking * \nThere will be a free bus from the Festival parking to South Main St at the Bucks County Playhouse. \nFor more information\, please visit: https://www.visitnewhope.com/new-hope-arts-crafts/
URL:https://www.bucksarts.org/event/modern-fossils-at-the-new-hope-arts-crafts-festival/2022-09-24/
LOCATION:New Hope Solebury High School\, 180 West Bridge St\, New Hope\, PA\, 18938\, United States
CATEGORIES:Members Event
ATTACH;FMTTYPE=image/jpeg:https://www.bucksarts.org/wp-content/uploads/2022/09/New-Hope-Award.jpg
ORGANIZER;CN="Modern Fossils":MAILTO:modernfossils@yahoo.com
END:VEVENT
BEGIN:VEVENT
DTSTART;TZID=America/New_York:20220924T100000
DTEND;TZID=America/New_York:20221008T160000
DTSTAMP:20260421T013249
CREATED:20220821T105616Z
LAST-MODIFIED:20220920T112254Z
UID:66504-1664013600-1665244800@www.bucksarts.org
SUMMARY:A&C FALL SALON MEMBER EXHIBITION AND SALE
DESCRIPTION:125+ regional artists submitted a fabulous variety of work for the A&C upcoming Fall Salon Member Show. \nDrawings\, paintings\, prints\, ceramics\, jewelry\, sculpture\, and more will grace the rooms of historic Freeman Hall from September 10 – October 2. Framed and portfolio (matted) pieces will be available. \nPlein air painters will be on site every weekend to inspire the community. \nMARK YOUR CALENDARS NOW! This show will be a fabulous opportunity for artists and collectors\, all of whom are invited to see the show and support local artists by making a purchase. \nThe exhibition and programs are free and open to the public. \nFreeman Hall is located at 181 East Court Street in Doylestown. Free parking is available. Stop in Arts Fest weekend to see the show\, then walk a few blocks to the Festival – we will also have a booth #15 on West State Street featuring the work of some of our members. \nDetails and hours at www.bucksarts.org/fallsalon \nQuestions? info@bucksarts.org.
URL:https://www.bucksarts.org/event/ac-fall-salon-member-show/
LOCATION:Arts & Cultural Council at Freeman Hall\, 181 East Court Street\, Doylestown\, PA\, 18901\, United States
ATTACH;FMTTYPE=image/jpeg:https://www.bucksarts.org/wp-content/uploads/2022/07/salon_events_cal.jpg
END:VEVENT
BEGIN:VEVENT
DTSTART;TZID=America/New_York:20220929T180000
DTEND;TZID=America/New_York:20220929T200000
DTSTAMP:20260421T013249
CREATED:20220801T183612Z
LAST-MODIFIED:20220810T142938Z
UID:66437-1664474400-1664481600@www.bucksarts.org
SUMMARY:ZOOM INFORMATION SESSION: BUCKS COUNTY WINE & ART TRAIL 2023
DESCRIPTION:YOU ARE INVITED! ZOOM INFORMATION SESSION: BUCKS COUNTY WINE & ART TRAIL 2023\nLEARN MORE: Thursday September 29\, 2022\, at 6 p.m. on Zoom \nJoin Visit Bucks County staff and Arts & Cultural Council of Bucks County board members Jane Ramsey and Ruth Anderson\, as they walk you through the details about the upcoming BUCKS COUNTY WINE & ART TRAIL event. \nThe BUCKS COUNTY WINE & ART TRAIL continues the partnership between Visit Bucks County (VBC) and the Arts & Cultural Council of Bucks County (A&C). Artists working in all mediums and styles are once again invited to visit participating wineries THROUGHOUT THE YEAR\, to create works for the Bucks County Wine & Art Trail. \nThe collaboration features opportunities for representational and non-representational regional artists working in all mediums to create works inspired by Bucks County wineries\, to visit wineries to work or gather images\, to expand arts marketing in a variety of ways\, to exhibit and sell artwork\, and to be part of tourism promotion in Bucks County. \n\nArtists will COMMIT TO PARTICIPATE in the 2023 project October 1\, 2022\, through November 15\, 2022.\nArtists will be able to visit wineries upon completion of the COMMIT TO PARTICIPATE form; packets will be mailed to participating artists separately.\nArtist will SUBMIT FINISHED WORKS completed in any style\, medium\, or season for consideration for the Trail during the submission period\, April 1-July 1\, 2023.\nThe 2023 Trail will open in October 2023.\n\nCurated works will be displayed on professionally printed weatherproof display panels at the wineries and on a set of fine art notecards beginning October 2023. Works will also be included in an in-person exhibition\, sale\, and community reception at Freeman Hall in Doylestown in 2024. \nArtists who participated in the inaugural Trail are welcome to re-commit – and new artists are always welcome! You do not have to be a member of the A&C to participate\, and there is no fee to enter the program. \nThere will be time for questions following the presentation. \nREGISTER IN ADVANCE for this meeting. \nAfter registering\, you will receive a confirmation email containing information about joining the meeting. \nYou do not need to attend this presentation to be part of the event\, but it might be helpful. \nQUESTIONS? info@bucksarts.org
URL:https://www.bucksarts.org/event/zoom-information-session-bucks-county-wine-art-trail-2023/
LOCATION:Visit Bucks County: Zoom\, 3207 Street Rd\, Bensalem\, PA\, 19020
ATTACH;FMTTYPE=image/png:https://www.bucksarts.org/wp-content/uploads/2022/03/Screen-Shot-2022-03-19-at-8.06.33-AM.png
END:VEVENT
END:VCALENDAR