BEGIN:VCALENDAR
VERSION:2.0
PRODID:-//Arts &amp; Cultural Council of Bucks County - ECPv6.15.18//NONSGML v1.0//EN
CALSCALE:GREGORIAN
METHOD:PUBLISH
X-ORIGINAL-URL:https://www.bucksarts.org
X-WR-CALDESC:Events for Arts &amp; Cultural Council of Bucks County
REFRESH-INTERVAL;VALUE=DURATION:PT1H
X-Robots-Tag:noindex
X-PUBLISHED-TTL:PT1H
BEGIN:VTIMEZONE
TZID:America/New_York
BEGIN:DAYLIGHT
TZOFFSETFROM:-0500
TZOFFSETTO:-0400
TZNAME:EDT
DTSTART:20250309T070000
END:DAYLIGHT
BEGIN:STANDARD
TZOFFSETFROM:-0400
TZOFFSETTO:-0500
TZNAME:EST
DTSTART:20251102T060000
END:STANDARD
BEGIN:DAYLIGHT
TZOFFSETFROM:-0500
TZOFFSETTO:-0400
TZNAME:EDT
DTSTART:20260308T070000
END:DAYLIGHT
BEGIN:STANDARD
TZOFFSETFROM:-0400
TZOFFSETTO:-0500
TZNAME:EST
DTSTART:20261101T060000
END:STANDARD
BEGIN:DAYLIGHT
TZOFFSETFROM:-0500
TZOFFSETTO:-0400
TZNAME:EDT
DTSTART:20270314T070000
END:DAYLIGHT
BEGIN:STANDARD
TZOFFSETFROM:-0400
TZOFFSETTO:-0500
TZNAME:EST
DTSTART:20271107T060000
END:STANDARD
END:VTIMEZONE
BEGIN:VEVENT
DTSTART;TZID=America/New_York:20260507T190000
DTEND;TZID=America/New_York:20260507T210000
DTSTAMP:20260421T174734
CREATED:20260417T162534Z
LAST-MODIFIED:20260417T162951Z
UID:71849-1778180400-1778187600@www.bucksarts.org
SUMMARY:30 Days of Inspiration/First Thursdays
DESCRIPTION:JOIN US AS WE CELEBRATE 30 DAYS OF INSPIRATION FEATURING 4 OF OUR PAIRED ARTISTS AND POETS BERNADETTE MCBRIDE and THOMAS MALLON CHRISTINE MCKEE and ELISSA GOLDBERG JOANNE LEVA and TRACY FITZGERALD TOM MALLOUK and BARBARA MARTIN.  
URL:https://www.bucksarts.org/event/30-days-of-inspiration-first-thursdays/
LOCATION:Arts & Cultural Council at Freeman Hall\, 181 East Court Street\, Doylestown\, PA\, 18901\, United States
ATTACH;FMTTYPE=image/jpeg:https://www.bucksarts.org/wp-content/uploads/2026/04/30-days-logo.jpg
ORGANIZER;CN="A&C":MAILTO:programs@bucksarts.org
END:VEVENT
END:VCALENDAR