BEGIN:VCALENDAR
VERSION:2.0
PRODID:-//Arts &amp; Cultural Council of Bucks County - ECPv6.15.18//NONSGML v1.0//EN
CALSCALE:GREGORIAN
METHOD:PUBLISH
X-ORIGINAL-URL:https://www.bucksarts.org
X-WR-CALDESC:Events for Arts &amp; Cultural Council of Bucks County
REFRESH-INTERVAL;VALUE=DURATION:PT1H
X-Robots-Tag:noindex
X-PUBLISHED-TTL:PT1H
BEGIN:VTIMEZONE
TZID:America/New_York
BEGIN:DAYLIGHT
TZOFFSETFROM:-0500
TZOFFSETTO:-0400
TZNAME:EDT
DTSTART:20200308T070000
END:DAYLIGHT
BEGIN:STANDARD
TZOFFSETFROM:-0400
TZOFFSETTO:-0500
TZNAME:EST
DTSTART:20201101T060000
END:STANDARD
BEGIN:DAYLIGHT
TZOFFSETFROM:-0500
TZOFFSETTO:-0400
TZNAME:EDT
DTSTART:20210314T070000
END:DAYLIGHT
BEGIN:STANDARD
TZOFFSETFROM:-0400
TZOFFSETTO:-0500
TZNAME:EST
DTSTART:20211107T060000
END:STANDARD
BEGIN:DAYLIGHT
TZOFFSETFROM:-0500
TZOFFSETTO:-0400
TZNAME:EDT
DTSTART:20220313T070000
END:DAYLIGHT
BEGIN:STANDARD
TZOFFSETFROM:-0400
TZOFFSETTO:-0500
TZNAME:EST
DTSTART:20221106T060000
END:STANDARD
END:VTIMEZONE
BEGIN:VEVENT
DTSTART;TZID=America/New_York:20210123T120000
DTEND;TZID=America/New_York:20210326T170000
DTSTAMP:20260423T050458
CREATED:20210222T223034Z
LAST-MODIFIED:20210222T223034Z
UID:60962-1611403200-1616778000@www.bucksarts.org
SUMMARY:New Hope Arts | John Spears: Illusions of Light | January 23-March 26
DESCRIPTION:John Spears opens New Hope Arts exhibition year with an in-gallery exhibition designed to explore space and illusion\, when architecture and art work together. The eighteen canvases curated by Rita Romanova Gekht\, arranged as viewer-centered experience\, illuminate Spear’s method developed over his forty-five-year career. Large scale images delight using both UV and LED light to reveal the vast array of colors and textures unseen in natural light.\nProtocol limits ten people at a time so viewers have the opportunity to interact with each piece while maintaining social distance. Reservations are suggested.\nGallery Hours: Friday\, Saturday & Sunday\, Noon to 5 pm\, through March 26
URL:https://www.bucksarts.org/event/new-hope-arts-john-spears-illusions-of-light-january-23-march-26/
LOCATION:New Hope Arts Inc\, 2 Stockton Ave\, 2nd Flr\, New Hope\, PA\, 18938\, United States
CATEGORIES:Members Event
ATTACH;FMTTYPE=image/jpeg:https://www.bucksarts.org/wp-content/uploads/2021/02/Icon-Feb21-nha-e1614033201202.jpg
GEO:40.364055;-74.9531262
X-APPLE-STRUCTURED-LOCATION;VALUE=URI;X-ADDRESS=New Hope Arts Inc 2 Stockton Ave 2nd Flr New Hope PA 18938 United States;X-APPLE-RADIUS=500;X-TITLE=2 Stockton Ave\, 2nd Flr:geo:-74.9531262,40.364055
END:VEVENT
END:VCALENDAR