BEGIN:VCALENDAR
VERSION:2.0
PRODID:-//Arts &amp; Cultural Council of Bucks County - ECPv6.15.18//NONSGML v1.0//EN
CALSCALE:GREGORIAN
METHOD:PUBLISH
X-ORIGINAL-URL:https://www.bucksarts.org
X-WR-CALDESC:Events for Arts &amp; Cultural Council of Bucks County
REFRESH-INTERVAL;VALUE=DURATION:PT1H
X-Robots-Tag:noindex
X-PUBLISHED-TTL:PT1H
BEGIN:VTIMEZONE
TZID:America/New_York
BEGIN:DAYLIGHT
TZOFFSETFROM:-0500
TZOFFSETTO:-0400
TZNAME:EDT
DTSTART:20220313T070000
END:DAYLIGHT
BEGIN:STANDARD
TZOFFSETFROM:-0400
TZOFFSETTO:-0500
TZNAME:EST
DTSTART:20221106T060000
END:STANDARD
BEGIN:DAYLIGHT
TZOFFSETFROM:-0500
TZOFFSETTO:-0400
TZNAME:EDT
DTSTART:20230312T070000
END:DAYLIGHT
BEGIN:STANDARD
TZOFFSETFROM:-0400
TZOFFSETTO:-0500
TZNAME:EST
DTSTART:20231105T060000
END:STANDARD
BEGIN:DAYLIGHT
TZOFFSETFROM:-0500
TZOFFSETTO:-0400
TZNAME:EDT
DTSTART:20240310T070000
END:DAYLIGHT
BEGIN:STANDARD
TZOFFSETFROM:-0400
TZOFFSETTO:-0500
TZNAME:EST
DTSTART:20241103T060000
END:STANDARD
END:VTIMEZONE
BEGIN:VEVENT
DTSTART;TZID=America/New_York:20230521T150000
DTEND;TZID=America/New_York:20230521T170000
DTSTAMP:20260423T031721
CREATED:20230430T105857Z
LAST-MODIFIED:20230430T105857Z
UID:67512-1684681200-1684688400@www.bucksarts.org
SUMMARY:Pride Weekend Special Event: Queerying Nature
DESCRIPTION:Pride Weekend Special Event: Queerying Nature\nSunday\, May 21\, 2023\n3:00 – 5:00 PM\nIn the animal world\, sexuality and gender are diverse. In other words: being queer is natural. There are thousands of cases of homosexual birds\, transgender fish\, non-binary animals\, polyamorous families… So what happened? Has our outlook changed? Queerying nature intertwines the words of Vinciane Despret\, philosopher\, Camille Pier and Gwen Seemel\, artists\, and biologists and ethologists to explode the idea of a sexual or gender norm. Nature is much more queer than us! Partly filmed in Lambertville\, NJ and featuring local artist Gwenn Seemel\, join us for a post screening QnA with Gwenn.
URL:https://www.bucksarts.org/event/pride-weekend-special-event-queerying-nature/
LOCATION:Acme Screening Room\, 25 South Union\, Lambertville\, NJ\, 08530\, United States
CATEGORIES:Members Event
ATTACH;FMTTYPE=image/png:https://www.bucksarts.org/wp-content/uploads/2023/04/QueeryingNature_poster.png
ORGANIZER;CN="ACME Screening Room":MAILTO:acmescreeningroom@gmail.com
END:VEVENT
END:VCALENDAR