BEGIN:VCALENDAR
VERSION:2.0
PRODID:-//Arts &amp; Cultural Council of Bucks County - ECPv6.15.18//NONSGML v1.0//EN
CALSCALE:GREGORIAN
METHOD:PUBLISH
X-ORIGINAL-URL:https://www.bucksarts.org
X-WR-CALDESC:Events for Arts &amp; Cultural Council of Bucks County
REFRESH-INTERVAL;VALUE=DURATION:PT1H
X-Robots-Tag:noindex
X-PUBLISHED-TTL:PT1H
BEGIN:VTIMEZONE
TZID:America/New_York
BEGIN:DAYLIGHT
TZOFFSETFROM:-0500
TZOFFSETTO:-0400
TZNAME:EDT
DTSTART:20240310T070000
END:DAYLIGHT
BEGIN:STANDARD
TZOFFSETFROM:-0400
TZOFFSETTO:-0500
TZNAME:EST
DTSTART:20241103T060000
END:STANDARD
BEGIN:DAYLIGHT
TZOFFSETFROM:-0500
TZOFFSETTO:-0400
TZNAME:EDT
DTSTART:20250309T070000
END:DAYLIGHT
BEGIN:STANDARD
TZOFFSETFROM:-0400
TZOFFSETTO:-0500
TZNAME:EST
DTSTART:20251102T060000
END:STANDARD
BEGIN:DAYLIGHT
TZOFFSETFROM:-0500
TZOFFSETTO:-0400
TZNAME:EDT
DTSTART:20260308T070000
END:DAYLIGHT
BEGIN:STANDARD
TZOFFSETFROM:-0400
TZOFFSETTO:-0500
TZNAME:EST
DTSTART:20261101T060000
END:STANDARD
END:VTIMEZONE
BEGIN:VEVENT
DTSTART;TZID=America/New_York:20250217T080000
DTEND;TZID=America/New_York:20250328T150000
DTSTAMP:20260422T190906
CREATED:20250213T010525Z
LAST-MODIFIED:20250213T010525Z
UID:70341-1739779200-1743174000@www.bucksarts.org
SUMMARY:BCCC - Spring Showcase - Upper Bucks Campus
DESCRIPTION:The Upper Bucks Campus of Bucks County Community College will be holding an Art Exhibition from February 17 through March 28 in our \nFickes Gallery. \nThe Grand Opening Reception will be held on Friday\, February 21\, from 6-8 p.m. on the campus.  All are invited! \nThe campus is located at 1 Hillendale Rd in Perkasie\, PA 18960\n \n\nThe Fickes Gallery is located on the lower level of the North Building. \nGallery Hours\nMonday: 8 a.m. – 9 p.m.\nTuesday: 8 a.m. – 9 p.m.\nWednesday: 8 a.m. – 9 p.m.\nThursday: 8 a.m. – 9 p.m.\nFriday: 8 a.m. -3 p.m.
URL:https://www.bucksarts.org/event/bccc-spring-showcase-upper-bucks-campus/
LOCATION:Fickes Gallery\, 1 Hillendale Rd\, Perkasie\, 18960\, United States
ATTACH;FMTTYPE=image/jpeg:https://www.bucksarts.org/wp-content/uploads/2025/02/fickes_gallery_web.jpg
END:VEVENT
END:VCALENDAR