BEGIN:VCALENDAR
VERSION:2.0
PRODID:-//Arts &amp; Cultural Council of Bucks County - ECPv6.15.18//NONSGML v1.0//EN
CALSCALE:GREGORIAN
METHOD:PUBLISH
X-ORIGINAL-URL:https://www.bucksarts.org
X-WR-CALDESC:Events for Arts &amp; Cultural Council of Bucks County
REFRESH-INTERVAL;VALUE=DURATION:PT1H
X-Robots-Tag:noindex
X-PUBLISHED-TTL:PT1H
BEGIN:VTIMEZONE
TZID:America/New_York
BEGIN:DAYLIGHT
TZOFFSETFROM:-0500
TZOFFSETTO:-0400
TZNAME:EDT
DTSTART:20230312T070000
END:DAYLIGHT
BEGIN:STANDARD
TZOFFSETFROM:-0400
TZOFFSETTO:-0500
TZNAME:EST
DTSTART:20231105T060000
END:STANDARD
BEGIN:DAYLIGHT
TZOFFSETFROM:-0500
TZOFFSETTO:-0400
TZNAME:EDT
DTSTART:20240310T070000
END:DAYLIGHT
BEGIN:STANDARD
TZOFFSETFROM:-0400
TZOFFSETTO:-0500
TZNAME:EST
DTSTART:20241103T060000
END:STANDARD
BEGIN:DAYLIGHT
TZOFFSETFROM:-0500
TZOFFSETTO:-0400
TZNAME:EDT
DTSTART:20250309T070000
END:DAYLIGHT
BEGIN:STANDARD
TZOFFSETFROM:-0400
TZOFFSETTO:-0500
TZNAME:EST
DTSTART:20251102T060000
END:STANDARD
BEGIN:DAYLIGHT
TZOFFSETFROM:-0500
TZOFFSETTO:-0400
TZNAME:EDT
DTSTART:20260308T070000
END:DAYLIGHT
BEGIN:STANDARD
TZOFFSETFROM:-0400
TZOFFSETTO:-0500
TZNAME:EST
DTSTART:20261101T060000
END:STANDARD
END:VTIMEZONE
BEGIN:VEVENT
DTSTART;VALUE=DATE:20241218
DTEND;VALUE=DATE:20250209
DTSTAMP:20260422T085713
CREATED:20241212T185515Z
LAST-MODIFIED:20241212T185515Z
UID:70125-1734480000-1739059199@www.bucksarts.org
SUMMARY:Winter Impressions Group Exhibition - Bucks County Community College
DESCRIPTION:Winter Impressions Group Exhibition Featuring Artwork from 20+ Local Artists to Open at \nBucks County Community College \n\n\n\n\nThe School of Arts and Communication of Bucks County Community College is pleased to announce that the upcoming group exhibition Winter Impressions will be held atthe Hicks Art Center Atrium Galleries from December 18\, 2024\, through February 8\, 2025. \nWinter elicits a plethora of emotions leading up to the end of the calendar year and into the new year during which a wide range of cultural\, religious\, and family celebrations are held. Especially where weather plays a significant role in the way people spend their time inside and outside\, people react differently to winter’s varying temperatures\, often in the extreme\, by embracing winter sport\, decorating their homes\, creating art\, or hibernating indoors. Holiday preparations ramp up with artists and craftspeople hosting open studios and pop-up shows for the public to find that unique gift you won’t find in big box retailers. For the exhibition Winter Impressions\, more than 20 local artists have responded to an open call for which they were asked to provide artworks that evoke a sense of winter in any media. The exhibition will be on view outside the main gallery of Hicks Art Center in the Atrium Galleries that surround the enclosed outdoor courtyard. \nWinter and the holiday season can be especially difficult for people facing hardship. For this reason\, visitors to the exhibition are encouraged to bring new\, unused clothing which will be donated to the Bucks County Emergency Homeless Shelter\, and non-perishable food items which will be given to the College’s food pantry\, Bucks Market\, a free service for Bucks County Community College students. \nAll are invited to attend the opening reception on December 19 from 4–7 p.m.\, and the closing reception on January 25 from 12–3 p.m.\, both at the Hicks Art Center. During the opening reception\, the public is invited to participate in a tree trimming in the courtyard and to enjoy holiday refreshments. Artisans featured in the Bucks County Guild of Craftsmen Exhibition and Sale in the main gallery will have additional fine crafts available for purchase for holiday gift giving. \n\nArtwork pictured by Janet Schuler
URL:https://www.bucksarts.org/event/winter-impressions-group-exhibition-bucks-county-community-college/
LOCATION:Hicks Art Center Gallery\, 275 Swamp Rd`\, Newtown\, PA\, 18940\, United States
ATTACH;FMTTYPE=image/jpeg:https://www.bucksarts.org/wp-content/uploads/2024/12/thumbnail_janetschuler_sleddogmushers_colorpencilonfilm.jpg
END:VEVENT
BEGIN:VEVENT
DTSTART;TZID=America/New_York:20250111T120000
DTEND;TZID=America/New_York:20250209T170000
DTSTAMP:20260422T085713
CREATED:20250117T181053Z
LAST-MODIFIED:20250117T181053Z
UID:70234-1736596800-1739120400@www.bucksarts.org
SUMMARY:New Hope Arts - 2025 Members' Salon Exhibition
DESCRIPTION:New Hope Arts is pleased to announce the 2025 Members’ Salon Exhibition. \nThis exhibition is open to New Hope Arts members only and features over 120 original paintings\, drawings\, photography\, sculpture and works in other media. \nGallery Hours: Friday\, Saturday & Sunday\, noon to 5 pm \nNew Hope Arts \n2 Stockton Ave\, 2nd Floor \nNew Hope PA  18938
URL:https://www.bucksarts.org/event/new-hope-arts-2025-members-salon-exhibition/
LOCATION:New Hope Arts Inc\, 2 Stockton Ave\, 2nd Flr\, New Hope\, PA\, 18938\, United States
GEO:40.364055;-74.9531262
X-APPLE-STRUCTURED-LOCATION;VALUE=URI;X-ADDRESS=New Hope Arts Inc 2 Stockton Ave 2nd Flr New Hope PA 18938 United States;X-APPLE-RADIUS=500;X-TITLE=2 Stockton Ave\, 2nd Flr:geo:-74.9531262,40.364055
END:VEVENT
BEGIN:VEVENT
DTSTART;TZID=America/New_York:20250131T200000
DTEND;TZID=America/New_York:20250216T140000
DTSTAMP:20260422T085713
CREATED:20250128T173349Z
LAST-MODIFIED:20250128T173349Z
UID:70290-1738353600-1739714400@www.bucksarts.org
SUMMARY:ActorsNET presents J.B. Priestley's "DANGEROUS CORNER"
DESCRIPTION:One of J.B. Priestley’s renowned “Time Plays”\, DANGEROUS CORNER\, explores winding road of time and the perilous twists and turns of circumstance\, posing the all-important question: what if? \nOpening January 31 and running through February 16. \nThe Heritage Center Theatre is located at 635 North Delmorr Avenue in Morrisville near the Calhoun Street Bridge. \nShow times are Fridays and Saturdays at 8:00 pm and Sundays at 2:00 pm.  Doors open half an hour before show time.  There will be an additional 2:00 pm matinee Saturday\, February 8th in addition to the regularly scheduled evening performance. \nNew this season: The 8:00 pm performance on Saturday\, February 8th is a special “Pay What You Can” night with tickets as low as $7.00 as part of ActorsNET’s goal to make exceptional\, live and local theatre accessible to everyone! \n\n\n\n		\n				\n						\n			\n								\n			\n		\n							\n			\n				\n						\n			\n								\n			\n		\n							\n			\n				\n						\n			\n								\n			\n		\n							\n			\n	\n	\n\n		\n		[Show slideshow]
URL:https://www.bucksarts.org/event/actorsnet-presents-j-b-priestleys-dangerous-corner/
LOCATION:ActorsNET\, 635 N. Delmorr Ave\, Morrisville\, PA\, 19067
ATTACH;FMTTYPE=image/jpeg:https://www.bucksarts.org/wp-content/uploads/2025/01/ActorsNET_DC_Header.jpg
ORGANIZER;CN="ActorsNET":MAILTO:info@actorsnetbucks.org
END:VEVENT
END:VCALENDAR