BEGIN:VCALENDAR
VERSION:2.0
PRODID:-//Arts &amp; Cultural Council of Bucks County - ECPv6.15.18//NONSGML v1.0//EN
CALSCALE:GREGORIAN
METHOD:PUBLISH
X-WR-CALNAME:Arts &amp; Cultural Council of Bucks County
X-ORIGINAL-URL:https://www.bucksarts.org
X-WR-CALDESC:Events for Arts &amp; Cultural Council of Bucks County
REFRESH-INTERVAL;VALUE=DURATION:PT1H
X-Robots-Tag:noindex
X-PUBLISHED-TTL:PT1H
BEGIN:VTIMEZONE
TZID:America/New_York
BEGIN:DAYLIGHT
TZOFFSETFROM:-0500
TZOFFSETTO:-0400
TZNAME:EDT
DTSTART:20220313T070000
END:DAYLIGHT
BEGIN:STANDARD
TZOFFSETFROM:-0400
TZOFFSETTO:-0500
TZNAME:EST
DTSTART:20221106T060000
END:STANDARD
BEGIN:DAYLIGHT
TZOFFSETFROM:-0500
TZOFFSETTO:-0400
TZNAME:EDT
DTSTART:20230312T070000
END:DAYLIGHT
BEGIN:STANDARD
TZOFFSETFROM:-0400
TZOFFSETTO:-0500
TZNAME:EST
DTSTART:20231105T060000
END:STANDARD
BEGIN:DAYLIGHT
TZOFFSETFROM:-0500
TZOFFSETTO:-0400
TZNAME:EDT
DTSTART:20240310T070000
END:DAYLIGHT
BEGIN:STANDARD
TZOFFSETFROM:-0400
TZOFFSETTO:-0500
TZNAME:EST
DTSTART:20241103T060000
END:STANDARD
BEGIN:DAYLIGHT
TZOFFSETFROM:-0500
TZOFFSETTO:-0400
TZNAME:EDT
DTSTART:20250309T070000
END:DAYLIGHT
BEGIN:STANDARD
TZOFFSETFROM:-0400
TZOFFSETTO:-0500
TZNAME:EST
DTSTART:20251102T060000
END:STANDARD
END:VTIMEZONE
BEGIN:VEVENT
DTSTART;TZID=America/New_York:20230707T120000
DTEND;TZID=America/New_York:20240105T170000
DTSTAMP:20260424T210044
CREATED:20230703T123710Z
LAST-MODIFIED:20230703T123710Z
UID:67876-1688731200-1704474000@www.bucksarts.org
SUMMARY:Poems for The Lonely Girls
DESCRIPTION:A & C members Constance McBride (Visual Artist) and Bernadette McBride (Literary Artist) share the A & C Sculpture Spotlight from July 2023 to January 2024 at the Township Library of Lower Southampton\, highlighting five Lonely Girls (sculpture) and five Poems beginning July 7th. \nBernadette McBride is the award-winning author of four full-length poetry collections\, served as long-time poetry editor for the Schuylkill Valley Journal and is a founding member of poetry improv troupe\, No River Twice. Constance McBride’s work throws light on issues experienced by most women—from becoming aware of the male gaze and self-objectifying\, to harassment\, abuse\, marginalization and ageism. \nVisitors can see their work during library hours: 10am–8pm Monday through Thursday\, 12-4pm Friday\, and 9am–4pm Saturday. The Township Library of Lower Southampton is located at 1983 Bridgetown Pike in Feasterville-Trevose\, PA.
URL:https://www.bucksarts.org/event/poems-for-the-lonely-girls/
LOCATION:Township Library of Lower Southampton\, 1983 Bridgetown Pike\, Feasterville-Trevose\, PA\, 19053\, United States
CATEGORIES:Members Event
ATTACH;FMTTYPE=image/jpeg:https://www.bucksarts.org/wp-content/uploads/2023/06/Poems-for-The-Lonely-Girls.jpg
END:VEVENT
BEGIN:VEVENT
DTSTART;TZID=America/New_York:20230909T100000
DTEND;TZID=America/New_York:20231001T160000
DTSTAMP:20260424T210045
CREATED:20230628T112009Z
LAST-MODIFIED:20230907T214933Z
UID:67855-1694253600-1696176000@www.bucksarts.org
SUMMARY:Bucks County Wine & Art Trail Exhibition & Sale | Opening Weekend!
DESCRIPTION:Join us for the first Bucks County Wine & Art Trail Exhibition & Sale! \nOver 60 regional artists have created paintings\, drawings\, and photographs inspired by Bucks County wineries. Enjoy almost 200 framed works of art in historic Freeman Hall. \nWe will host wine tastings opening weekend\, September 9-10\, from 10am-5pm. \nThe show and sale continue on weekends through October 1\, from noon to 4pm\, with a closing reception on September 29 from 5-8pm. \nThe exhibition is free and open to the public\, and there is ample parking available. \nFreeman Hall is located at 181 East Court Street in Doylestown\, PA. \nThe following artists have work in the exhibition: \nAddie Hocynec\nAmanda Penecale\nAnita Nolan\nAnn Walker\nAnna Kitces\nBarbara Burdack\nBeth Schoenleber\nBonnie Vandenberg\nCarol Gilbert\nCheryl Bomba\nChristi Hetrick\nChristine Ochab- DiCostanzo\nCindy Roesinger\nClaire Goldenberg\nClifford Eberly\nDavid C. Page\nDenise Callanan-Kline\nDenise McDaniel\nDonald Schoenleber\nDot Bunn\nElise Dodeles\nElizabeth Page\nErick Kinsel\nFrancisco Silva\nHayley Kinsel\nHelen Lee Meyers\nHelena van Emmerik-Finn\nJane Ramsey\nJeanne Chesterton\nJoanMarie Palmer\nJoseph Marchetti\nJudith Nentwig\nKathie Jankauskas\nKristen Baker\nLisa Domenic\nLori Parsells\nLorraine Raywood\nLouise Fiore\nLynn Holl\nMegan Lawlor\nMichael Kuyper\nNancy E. Miller\nPat Proniewski\nPatrice DeVirgilis\nPearl Mintzer\nRenee Egan\nSandra Eliot\nSharlene Holliday\nSheila Mashaw\nStefanie Silverman\nSue Ann Rainey\nSusan Daily\nSusan Klinger\nSusan Margraff\nWilliam Martin \nFeatured Image: Sue Ann Rainey\, “Tucking the Vines\,” detail. This piece is featured on one of the limited edition notecards being distributed to those who get the Wine & Art Trail Passport app. This exhibition is the last stop! Learn more.  \nQuestions? info@bucksarts.org.
URL:https://www.bucksarts.org/event/bucks-county-wine-art-trail-exhibition-sale-opening-weekend/
LOCATION:Arts & Cultural Council at Freeman Hall\, 181 East Court Street\, Doylestown\, PA\, 18901\, United States
ATTACH;FMTTYPE=image/png:https://www.bucksarts.org/wp-content/uploads/2023/06/Screen-Shot-2023-06-28-at-7.18.56-AM.png
END:VEVENT
BEGIN:VEVENT
DTSTART;TZID=America/New_York:20230909T100000
DTEND;TZID=America/New_York:20231001T160000
DTSTAMP:20260424T210045
CREATED:20230814T110040Z
LAST-MODIFIED:20230909T113122Z
UID:68073-1694253600-1696176000@www.bucksarts.org
SUMMARY:Bucks County Wine & Art Trail Exhibition & Sale
DESCRIPTION:BUCKS COUNTY WINE & ART TRAIL EXHIBITION & SALE \nSeptember 9-10 | 10am-5pm \nArt Exhibition and Wine Tastings \nWeekends\, September 16-October 1 | noon-4pm \nClosing Reception\, September 29 | 5-8pm \nWine Tastings \nAlmost 60 regional artists who worked on the Bucks County Wine & Art Trail in 2022 will have their work in an in-person exhibition and sale at Freeman Hall in September 2023\, opening the weekend of the Doylestown Arts Festival. Their works capture the natural beauty of regional wineries; the show is sure to be an inspiration. \nFreeman Hall is located at 181 East Court Street in Doylestown\, PA. There is free parking\, and the exhibition is free and open to the public. \nThe work of these artists will be on display:\nAddie Hocynec\nAmanda Penecale\nAnita Nolan\nAnn Walker\nAnna Kitces\nBarbara Burdack\nBeth Schoenleber\nBonnie Vandenberg\nCarol Gilbert\nCheryl Bomba\nChristi Hetrick\nChristine Ochab- DiCostanzo\nCindy Roesinger\nClaire Goldenberg\nClifford Eberly\nDavid C. Page\nDenise Callanan-Kline\nDenise McDaniel\nDonald Schoenleber\nDot Bunn\nElise Dodeles\nElizabeth Page\nErick Kinsel\nFrancisco Silva\nHayley Kinsel\nHelen Lee Meyers\nHelena van Emmerik-Finn\nJane Ramsey\nJeanne Chesterton\nJoanMarie Palmer\nJoseph Marchetti\nJudith Nentwig\nKathie Jankauskas\nKristen Baker\nLisa Domenic\nLori Parsells\nLorraine Raywood\nLouise Fiore\nLynn Holl\nMegan Lawlor\nMichael Kuyper\nNancy E. Miller\nPat Proniewski\nPatrice DeVirgilis\nPearl Mintzer\nRenee Egan\nSandra Eliot\nSharlene Holliday\nSheila Mashaw\nStefanie Silverman\nSue Ann Rainey\nSusan Daily\nSusan Klinger\nSusan Margraff\nWilliam Martin \nGet details\, directions\, and learn about the participating wineries: https://www.bucksarts.org/wine-art/ \nLike and follow us:\n#bucksarts\n#buckscountyartists\n@bucksarts
URL:https://www.bucksarts.org/event/bucks-county-wine-art-trail-exhibition-sale/
LOCATION:Arts & Cultural Council at Freeman Hall\, 181 East Court Street\, Doylestown\, PA\, 18901\, United States
ATTACH;FMTTYPE=application/pdf:https://www.bucksarts.org/wp-content/uploads/2023/08/Web-Graphic-for-A.C.-1.pdf
END:VEVENT
BEGIN:VEVENT
DTSTART;TZID=America/New_York:20230910T100000
DTEND;TZID=America/New_York:20240223T170000
DTSTAMP:20260424T210045
CREATED:20230725T191423Z
LAST-MODIFIED:20230725T191423Z
UID:67934-1694340000-1708707600@www.bucksarts.org
SUMMARY:Art of the State
DESCRIPTION: \n\n\n\n\n\n\n\n\n\nA&C Member and photographer Michael Frank’s “Morning Glow” (detail featured here) will be exhibited in the Art of the State 2023 at The State Museum of Pennsylvania.  \nJurors Kyle Hackett\, Deborah Pinter\, and Jennifer Zwilling chose 86 pieces from the 1\,915 works submitted. \n\nArt of the State will be featured in the gallery from September 10\, 2023 – January 7\, 2024\, with an opening reception on September 10.  \nFor more information: www.statemuseumpa.org   \nLocation: The State Museum of PA | PHMC\, 300 North Street\, Harrisburg\, PA 17120 \n 
URL:https://www.bucksarts.org/event/art-of-the-state/
LOCATION:State Museum of PA\, 300 North Street\, Harrisburg\, United States
ATTACH;FMTTYPE=image/png:https://www.bucksarts.org/wp-content/uploads/2023/07/Screen-Shot-2023-07-25-at-2.44.30-PM.png
END:VEVENT
BEGIN:VEVENT
DTSTART;TZID=America/New_York:20230929T170000
DTEND;TZID=America/New_York:20231001T170000
DTSTAMP:20260424T210045
CREATED:20230922T122422Z
LAST-MODIFIED:20230922T122422Z
UID:68177-1696006800-1696179600@www.bucksarts.org
SUMMARY:BUCKS COUNTY WINE & ART TRAIL | RECEPTION & CLOSING WEEKEND
DESCRIPTION:BUCKS COUNTY WINE & ART TRAIL RECEPTION\, EXHIBITION & SALE\nCONTINUES THROUGH OCTOBER 1 \nReception\, September 29 | 5-8pm\nExhibition and Sale\, Saturday and Sunday\, September 30 and October 1 | Noon-4pm \nJoin us for a reception to celebrate the inaugural Bucks County Wine & Art Trail exhibition. Over 120 framed works are on display\, all of which capture the natural beauty of regional wineries. The show is an inspiration. \nAt the reception\, enjoy refreshments and entertainment in historic Freeman Hall. Rose Bank Winery\, Sand Castle Winery\, and Wycombe Vineyards will be there to pour your favorite regional wines. \nIf you can’t attend the reception\, please stop in for the final weekend of the show. \nFreeman Hall is located at 181 East Court Street in Doylestown.\nThere is free parking\, and the exhibition and reception are open to the public.
URL:https://www.bucksarts.org/event/bucks-county-wine-art-trail-reception-closing-weekend/
LOCATION:Arts & Cultural Council at Freeman Hall\, 181 East Court Street\, Doylestown\, PA\, 18901\, United States
ATTACH;FMTTYPE=application/pdf:https://www.bucksarts.org/wp-content/uploads/2023/09/Web-Graphic-for-A.C..pdf
END:VEVENT
END:VCALENDAR