BEGIN:VCALENDAR
VERSION:2.0
PRODID:-//Arts &amp; Cultural Council of Bucks County - ECPv6.15.18//NONSGML v1.0//EN
CALSCALE:GREGORIAN
METHOD:PUBLISH
X-WR-CALNAME:Arts &amp; Cultural Council of Bucks County
X-ORIGINAL-URL:https://www.bucksarts.org
X-WR-CALDESC:Events for Arts &amp; Cultural Council of Bucks County
REFRESH-INTERVAL;VALUE=DURATION:PT1H
X-Robots-Tag:noindex
X-PUBLISHED-TTL:PT1H
BEGIN:VTIMEZONE
TZID:America/New_York
BEGIN:DAYLIGHT
TZOFFSETFROM:-0500
TZOFFSETTO:-0400
TZNAME:EDT
DTSTART:20200308T070000
END:DAYLIGHT
BEGIN:STANDARD
TZOFFSETFROM:-0400
TZOFFSETTO:-0500
TZNAME:EST
DTSTART:20201101T060000
END:STANDARD
BEGIN:DAYLIGHT
TZOFFSETFROM:-0500
TZOFFSETTO:-0400
TZNAME:EDT
DTSTART:20210314T070000
END:DAYLIGHT
BEGIN:STANDARD
TZOFFSETFROM:-0400
TZOFFSETTO:-0500
TZNAME:EST
DTSTART:20211107T060000
END:STANDARD
BEGIN:DAYLIGHT
TZOFFSETFROM:-0500
TZOFFSETTO:-0400
TZNAME:EDT
DTSTART:20220313T070000
END:DAYLIGHT
BEGIN:STANDARD
TZOFFSETFROM:-0400
TZOFFSETTO:-0500
TZNAME:EST
DTSTART:20221106T060000
END:STANDARD
BEGIN:DAYLIGHT
TZOFFSETFROM:-0500
TZOFFSETTO:-0400
TZNAME:EDT
DTSTART:20230312T070000
END:DAYLIGHT
BEGIN:STANDARD
TZOFFSETFROM:-0400
TZOFFSETTO:-0500
TZNAME:EST
DTSTART:20231105T060000
END:STANDARD
END:VTIMEZONE
BEGIN:VEVENT
DTSTART;VALUE=DATE:20210403
DTEND;VALUE=DATE:20220101
DTSTAMP:20260423T073600
CREATED:20210209T192342Z
LAST-MODIFIED:20210210T122411Z
UID:60817-1617408000-1640995199@www.bucksarts.org
SUMMARY:Phillips Mill Photo Committee Show | Virtual Exhibition | April 3-December 31\, 2021
DESCRIPTION:The first-ever Phillips Mill Photo Committee Show goes live online this April 3\, 2021.  The dedicated photographers who spend so much time putting together the Phillips Mill Photographic Exhibition each year get to strut their stuff in their own show.  Each of the 3 dozen Phillips Mill Photo Committee members will have up to 8 fine art photographs on “display”.  It is a special opportunity to see the body of work these talented photographers create. \nAs a virtual show\, there is no excuse not to see it.  Sit back with your computer and binge-watch some stunning\, evocative photography\, pajamas optional.  All photographs are for sale\, so you can enjoy your favorites on your own wall! The show will go live on Saturday\, April 3\, 2021 at https://www.phillipsmillphoto.com/ \nDue to the pandemic and subsequent limitations it has caused\, the Phillips Mill Photographic Exhibition will not be held this year.  It will certainly come back in 2022!  \nSpread the word and enjoy the show!
URL:https://www.bucksarts.org/event/phillips-mill-photo-committee-show-online-april-3-december-31-2021/
LOCATION:Phillips Mill Community Association Online\, Virtual Exhibition Only
END:VEVENT
BEGIN:VEVENT
DTSTART;VALUE=DATE:20210605
DTEND;VALUE=DATE:20210903
DTSTAMP:20260423T073600
CREATED:20210530T122723Z
LAST-MODIFIED:20210614T182959Z
UID:62883-1622851200-1630627199@www.bucksarts.org
SUMMARY:OUT N’ ABOUT IN BUCKS COUNTY ART SHOW! June 5-September 2
DESCRIPTION:Featured artwork\, from left to right: \n\nLinda Grafius\, Acrylics\nMarjorie Trush\, Watercolor\nMaureen Finger\, Pencil and Pastels\nRobin Robinson\, Photography\n\nIt’s the long-awaited SUMMERTIME ART EXHIBIT called OUT N’ ABOUT IN BUCKS COUNTY and found only inside Bristol’s Lower Bucks Hospital!\nInside the gallery walls at Lower Bucks Hospital (entering at the main entrance) you will find beautifully hung\, original and creative artworks available for purchase from the talented and popular Artists of Bristol on the Delaware group.\nAnd here are just some of the mediums used:\n• Acrylic\n• Acrylic on Wood\n• Alcohol Ink\n• Colored Pencil\n• Digital Fractal Print\n• Hand Colored Photograph\n• Magazine Clippings\n• Mixed Media\n• Mixed Media Collage\n• Mosaic\n• Paper\n• Paper and Acrylic\n• Pastel\n• Pencil Photograph\n• Repurposed Oils on Panel\nShow runs from June 5th – Sept. 2nd 2021\nArtists Contact/Bio available at exhibit when purchasing.\nNew Members Welcome!\nwww.artistsofbristolonthedelaware.com\nBecause of COVID-19 and with your safety as the top priority to enter the show\, visitors must fill out a form\, have your temperature checked and masks must be worn at all times while at the hospital. Thank you.
URL:https://www.bucksarts.org/event/out-n-about-in-bucks-county-art-show-june-5-september-2/
LOCATION:Lower Bucks Hospital\, 501 Bath Road\, Bristol\, PA\, United States
CATEGORIES:Members Event
ATTACH;FMTTYPE=image/jpeg:https://www.bucksarts.org/wp-content/uploads/2021/05/LBH-FB-Calendar-Summer-2021.jpg
END:VEVENT
BEGIN:VEVENT
DTSTART;TZID=America/New_York:20210628T100000
DTEND;TZID=America/New_York:20220106T200000
DTSTAMP:20260423T073600
CREATED:20210628T111607Z
LAST-MODIFIED:20210628T111607Z
UID:63498-1624874400-1641499200@www.bucksarts.org
SUMMARY:A&C Sculpture Spotlight: Cathy Begg | Now through January 6
DESCRIPTION:The Arts & Cultural Council of Bucks County is pleased to announce the start of our “Sculpture Spotlight” in collaboration with the Township Library of Lower Southampton. The work of A&C member\, sculptor\, illustrator\, and gallerist Cathy Begg is on display in the atrium now through January 7. \nVisitors can see her work during library hours:\nMonday – Thursday\, 10am – 8pm\nSaturday 9am – 4pm \n\nThe Township Library of Lower Southampton is located at 1983 Bridgetown Pike in Feasterville-Trevose\, PA. It is about a half an hour from Doylestown.
URL:https://www.bucksarts.org/event/ac-sculpture-spotlight-cathy-begg-now-through-january-6/
LOCATION:Township Library of Lower Southampton\, 1983 Bridgetown Pike\, Feasterville-Trevose\, PA\, 19053\, United States
ATTACH;FMTTYPE=image/png:https://www.bucksarts.org/wp-content/uploads/2021/06/Screen-Shot-2021-06-28-at-7.11.24-AM.png
END:VEVENT
BEGIN:VEVENT
DTSTART;VALUE=DATE:20210813
DTEND;VALUE=DATE:20210907
DTSTAMP:20260423T073600
CREATED:20210719T101652Z
LAST-MODIFIED:20210719T101652Z
UID:63541-1628812800-1630972799@www.bucksarts.org
SUMMARY:Transformation at New Hope Arts | August 13-September 6
DESCRIPTION:A&C Member John Benigno’s photograph\, “Plate Pattern I\,” was accepted into “Transformation\,” sponsored by the Pennsylvania Center for Photography and hosted by New Hope Arts\, Inc.\nNew Hope Arts is located at  2A Stockton Avenue\, New Hope\, PA. The gallery is open Thursday through Sunday\, and the exhibit runs from August 13th through September 6th.\nCall 215-862-9606 or visit http://newhopearts.org/ for details. 
URL:https://www.bucksarts.org/event/transformation-at-new-hope-arts-august-13-september-6/
LOCATION:New Hope Art Center\, 2A Stockton Avenue\, New Hope\, PA\, 18938\, United States
ATTACH;FMTTYPE=image/jpeg:https://www.bucksarts.org/wp-content/uploads/2021/07/Benigno_Plate-Pattern-I.jpg
ORGANIZER;CN="Pennsylvania Center for Photography":MAILTO:pacenterforphotgraphy@gmail.com
END:VEVENT
BEGIN:VEVENT
DTSTART;TZID=America/New_York:20210819T190000
DTEND;TZID=America/New_York:20210819T203000
DTSTAMP:20260423T073600
CREATED:20210728T110744Z
LAST-MODIFIED:20210728T110744Z
UID:63565-1629399600-1629405000@www.bucksarts.org
SUMMARY:ARTIST CHATS: VISUAL ARTISTS & WRITERS | AUGUST 19  AT 7 PM ON ZOOM
DESCRIPTION:“I love meeting with fellow artists.  It’s a great idea. We belong together— mutual understanding—encouragement.” – Barbara Zietchick \nArtwork\, process\, inspiration – visual artists and writers! \nPull up a chair\, pour yourself a drink\, and join the A&C for Artist Chats on August 19 at 7pm while enjoying an informal conversation and art share with regional visual and literary artists. \nBoard members will also be providing an overview of the next A&C member (in person) salon exhibition\, and an update on the forthcoming Community Meeting Center at Freeman Hall in Doylestown. \nYou do not have to be a member of the Arts & Cultural Council of Bucks County to attend. \nWhen you register\, you may send up to 2 images and/or a piece of literary work (no more than 30 lines\, please) to Jane Ramsey at janeramseyart@gmail.com. We will load them into a presentation to make it easy for all the participants to see and share. \nRegister in advance for the event; a Zoom link will be sent after you complete your registration. https://bit.ly/374eE28 \nArtist Chats will continue monthly on the 3rd Thursday. There is no fee for these programs.
URL:https://www.bucksarts.org/event/artist-chats-visual-artists-writers-august-19-at-7-pm-on-zoom/
LOCATION:Zoom
ATTACH;FMTTYPE=image/jpeg:https://www.bucksarts.org/wp-content/uploads/2021/05/newgraphics_ArtistChats_AC-01.jpg
END:VEVENT
END:VCALENDAR